BEGIN:VCALENDAR
VERSION:2.0
PRODID:-//Web Ayuntamiento de Alpedrete - ECPv6.9.0//NONSGML v1.0//EN
CALSCALE:GREGORIAN
METHOD:PUBLISH
X-ORIGINAL-URL:https://preproduccion.alpedrete.es
X-WR-CALDESC:Eventos para Web Ayuntamiento de Alpedrete
REFRESH-INTERVAL;VALUE=DURATION:PT1H
X-Robots-Tag:noindex
X-PUBLISHED-TTL:PT1H
BEGIN:VTIMEZONE
TZID:Europe/Madrid
BEGIN:DAYLIGHT
TZOFFSETFROM:+0100
TZOFFSETTO:+0200
TZNAME:CEST
DTSTART:20170326T010000
END:DAYLIGHT
BEGIN:STANDARD
TZOFFSETFROM:+0200
TZOFFSETTO:+0100
TZNAME:CET
DTSTART:20171029T010000
END:STANDARD
END:VTIMEZONE
BEGIN:VEVENT
DTSTART;VALUE=DATE:20170321
DTEND;VALUE=DATE:20170501
DTSTAMP:20260420T065822
CREATED:20170321T143257Z
LAST-MODIFIED:20170321T143257Z
UID:12590-1490054400-1493596799@preproduccion.alpedrete.es
SUMMARY:Abierto el plazo de inscripción. Festival Stone 2017
DESCRIPTION:El Ayuntamiento de Alpedrete ha abierto el plazo de inscripción para los grupos que deseen participar en la III edición del Festival Stone\, cuyo último concierto se celebrará el próximo 2 de septiembre en la Dehesa Municipal. La inscripción\, que debe realizarse antes del 30 de abril\, es imprescindible y obligatoria para poder participar. Se efectuará en el Servicio de Atención a la Ciudadanía en el Ayuntamiento de Alpedrete  o a través de la Sede Electrónica. \nPodrán participar todos los grupos que lo deseen. El plazo de inscripción para participar en las eliminatorias previas se cerrará el 30 de abril y de acuerdo al número de inscripciones\, el jurado hará una primera selección de acuerdo a los criterios que se han marcado como carácter y espíritu del Festival Stone. \nSe entregarán 10 premios de 300\,00 € a los 10 finalistas que actuarán el día 2 de septiembre en la gala final. El jurado estará compuesto por seis personas de acreditado prestigio en el mundo de la música. Su decisión será inapelable. \n\n Bases Festival Stone 2017.pdf\n Formulario de inscripción. Festival Stone 2017.pdf\nMás información : http://preproduccion.alpedrete.es/festival-stone-2017-abierto-plazo-inscripcion/
URL:https://preproduccion.alpedrete.es/evento/abierto-plazo-inscripcion-festival-stone-2017/
LOCATION:Ayuntamiento de Alpedrete\, Plaza de la Villa\, 1\, Alpedrete\, Madrid\, 28430\, España
CATEGORIES:Concurso
ATTACH;FMTTYPE=image/jpeg:https://preproduccion.alpedrete.es/wp-content/uploads/2017/03/FS-2017.jpg
GEO:40.658895;-4.0235553
X-APPLE-STRUCTURED-LOCATION;VALUE=URI;X-ADDRESS=Ayuntamiento de Alpedrete Plaza de la Villa 1 Alpedrete Madrid 28430 España;X-APPLE-RADIUS=500;X-TITLE=Plaza de la Villa\, 1:geo:-4.0235553,40.658895
END:VEVENT
BEGIN:VEVENT
DTSTART;VALUE=DATE:20170325
DTEND;VALUE=DATE:20170425
DTSTAMP:20260420T065822
CREATED:20170321T130648Z
LAST-MODIFIED:20170324T104004Z
UID:12578-1490400000-1493078399@preproduccion.alpedrete.es
SUMMARY:Solicitud de ayudas a los gastos de vivienda habitual
DESCRIPTION:El Ayuntamiento de Alpedrete ha abierto el plazo de solicitud de ayudas a los gastos de vivienda habitual como la luz\, el agua\, la calefacción\, el alquiler o cualquier gasto ineludible. \nEl plazo de presentación de solicitudes concluirá el 24 de abril de 2017 . El lugar de entrega será el Registro municipal del Ayuntamiento\, Sede Electrónica del Ayuntamiento de Alpedrete\, o los cauces que marca la legislación vigente. La solicitud deberá ir acompañada de la documentación personal\, económica y de acreditación de los gastos habituales de la vivienda requeridos en las bases de la subvención. \nImpreso de solicitud de ayudas a los gastos de vivienda habitual \nBases de la convocatoria para la concesión de ayudas a los gastos de vivienda habitual \nMás información  http://preproduccion.alpedrete.es/ya-se-pueden-solicitar-las-ayudas-la-vivienda-habitual/
URL:https://preproduccion.alpedrete.es/evento/solicitud-ayudas-los-gastos-vivienda-habitual/
LOCATION:Ayuntamiento de Alpedrete\, Plaza de la Villa\, 1\, Alpedrete\, Madrid\, 28430\, España
CATEGORIES:Ayudas y subvenciones
ATTACH;FMTTYPE=image/jpeg:https://preproduccion.alpedrete.es/wp-content/uploads/2017/03/Sin-título-1.jpg
GEO:40.658895;-4.0235553
X-APPLE-STRUCTURED-LOCATION;VALUE=URI;X-ADDRESS=Ayuntamiento de Alpedrete Plaza de la Villa 1 Alpedrete Madrid 28430 España;X-APPLE-RADIUS=500;X-TITLE=Plaza de la Villa\, 1:geo:-4.0235553,40.658895
END:VEVENT
BEGIN:VEVENT
DTSTART;VALUE=DATE:20170402
DTEND;VALUE=DATE:20170403
DTSTAMP:20260420T065822
CREATED:20170221T144721Z
LAST-MODIFIED:20170221T144721Z
UID:12003-1491091200-1491177599@preproduccion.alpedrete.es
SUMMARY:Día Internacional del Libro Infantil
DESCRIPTION:La Biblioteca Municipal del Ayuntamiento de Alpedrete se ha adherido a la celebración del “Día Internacional del Libro Infantil”\, fecha que desde 1967 recuerda el nacimiento ese mismo día del escritor danés Hans Christian Andersen\, con la intención de promocionar los libros infantiles y juveniles y la lectura entre los más jóvenes. \nCada año un país es elegido para patrocinar este día internacional. En 2017 le ha correspondido a Rusia. El poeta Sergey Makhotin ha escrito un mensaje dedicado a los niños y Mikhail Fedorow ha dibujado el cartel que se distribuye mundialmente para promocionar “Día Internacional del Libro Infantil”.
URL:https://preproduccion.alpedrete.es/evento/dia-internacional-del-libro-infantil/
LOCATION:Biblioteca Municipal de Alpedrete\, Plaza Francisco Rabal\, 2\, Alpedrete\, 28430 \, España
CATEGORIES:Literatura
ATTACH;FMTTYPE=image/jpeg:https://preproduccion.alpedrete.es/wp-content/uploads/2017/02/feria-del-libro-infantil-y-juvenil.jpg
GEO:40.6621635;-4.031169
X-APPLE-STRUCTURED-LOCATION;VALUE=URI;X-ADDRESS=Biblioteca Municipal de Alpedrete Plaza Francisco Rabal 2 Alpedrete 28430  España;X-APPLE-RADIUS=500;X-TITLE=Plaza Francisco Rabal\, 2:geo:-4.031169,40.6621635
END:VEVENT
END:VCALENDAR