BEGIN:VCALENDAR
VERSION:2.0
PRODID:-//Web Ayuntamiento de Alpedrete - ECPv6.9.0//NONSGML v1.0//EN
CALSCALE:GREGORIAN
METHOD:PUBLISH
X-ORIGINAL-URL:https://preproduccion.alpedrete.es
X-WR-CALDESC:Eventos para Web Ayuntamiento de Alpedrete
REFRESH-INTERVAL;VALUE=DURATION:PT1H
X-Robots-Tag:noindex
X-PUBLISHED-TTL:PT1H
BEGIN:VTIMEZONE
TZID:Europe/Madrid
BEGIN:DAYLIGHT
TZOFFSETFROM:+0100
TZOFFSETTO:+0200
TZNAME:CEST
DTSTART:20170326T010000
END:DAYLIGHT
BEGIN:STANDARD
TZOFFSETFROM:+0200
TZOFFSETTO:+0100
TZNAME:CET
DTSTART:20171029T010000
END:STANDARD
END:VTIMEZONE
BEGIN:VEVENT
DTSTART;VALUE=DATE:20170421
DTEND;VALUE=DATE:20170524
DTSTAMP:20260420T065816
CREATED:20170421T102916Z
LAST-MODIFIED:20170424T103130Z
UID:13160-1492732800-1495583999@preproduccion.alpedrete.es
SUMMARY:Curso de Socorrista en piscinas e instalaciones acuáticas
DESCRIPTION:El Ayuntamiento de Alpedrete ofrece este curso en colaboración con la Federación Madrileña de Salvamento y Socorrismo. Dicho curso capacita para el empleo como socorrista en piscinas e instalaciones acuáticas según normativa de la Comunidad de Madrid\, a personas con edades comprendidas entre los 16 y los 30 años. \nEl curso se impartirá del 26 de mayo al 18 de junio y consta de dos fases: Teórica\, con una duración total de 96 horas que se realizará presencialmente en las instalaciones del Centro de Juventud\, y práctica\,  de un total de 21 horas\, que se realizará en la piscina municipal de Alpedrete. \nEl precio es de 130 € para las personas empadronadas en Alpedrete (teniendo preferencia en la inscripción) y de 255 € para los no empadronados. Las inscripciones se pueden realizar hasta el 23 de mayo en el Centro de Juventud \, los lunes y miércoles de 10:00 a 14:00 h y martes y jueves de 16:00 a 20:00 h. \nMás información: www.alpedrete.es/curso-socorrista-piscinas-e-instalaciones-acuaticas \n \n 
URL:https://preproduccion.alpedrete.es/evento/curso-socorrista-piscinas-e-instalaciones-acuaticas/
LOCATION:Centro de Juventud\, Félix Díaz\, 5\, Alpedrete\, España
CATEGORIES:Curso,Juventud
ATTACH;FMTTYPE=image/jpeg:https://preproduccion.alpedrete.es/wp-content/uploads/2017/04/socorrista.jpg
GEO:40.6602847;-4.0252745
X-APPLE-STRUCTURED-LOCATION;VALUE=URI;X-ADDRESS=Centro de Juventud Félix Díaz 5 Alpedrete España;X-APPLE-RADIUS=500;X-TITLE=Félix Díaz\, 5:geo:-4.0252745,40.6602847
END:VEVENT
BEGIN:VEVENT
DTSTART;VALUE=DATE:20170424
DTEND;VALUE=DATE:20170521
DTSTAMP:20260420T065816
CREATED:20170421T180628Z
LAST-MODIFIED:20170424T114212Z
UID:13192-1492992000-1495324799@preproduccion.alpedrete.es
SUMMARY:Matriculación curso 2017-2018 en la Casa de Cultura
DESCRIPTION:El lunes 24 de abril se abre el plazo de inscripción en las actividades de la Escuela Municipal de Música y Danza y talleres culturales\, que se impartirán en la Casa de Cultura Asunción Balaguer durante el curso 2017-2018. Las solicitudes se podrán presentar hasta el 20 de mayo de 2017. \nMás información\, calendario e impresos de solicitud en: \nwww.alpedrete.es/portal-de-tramites/impresos \nCasa de Cultura\, abierta la matrícula para el curso 2017-2018
URL:https://preproduccion.alpedrete.es/evento/matriculacion-curso-2017-2018-la-casa-cultura/
CATEGORIES:Cultura
ATTACH;FMTTYPE=image/jpeg:https://preproduccion.alpedrete.es/wp-content/uploads/2017/04/banner-cultura-4.jpg
END:VEVENT
BEGIN:VEVENT
DTSTART;VALUE=DATE:20170426
DTEND;VALUE=DATE:20170519
DTSTAMP:20260420T065816
CREATED:20170426T110926Z
LAST-MODIFIED:20170426T111350Z
UID:13329-1493164800-1495151999@preproduccion.alpedrete.es
SUMMARY:Concurso Fotolectura 2017
DESCRIPTION:Un lugar\, un sentimiento\, una compañía…» es el título de la nueva edición del concurso Fotolectura\, convocado por el Movimiento de Bibliotecas Rurales (MBR)\, junto con la Subdirección General del Libro de la Comunidad de Madrid\, con objeto de mostrar mediante fotografías digitales la actividad de la lectura. \nLa participación en el mismo se realizará a través de las bibliotecas públicas de la Comunidad de Madrid\, en nuestro caso a través de la Biblioteca Municipal de Alpedrete. \nLa fecha límite para entregar las fotos será el lunes 15 de mayo de 2017. \nPara más información: Fotolectura 2017 “Un lugar\, un sentimiento\, una compañía…” \n 
URL:https://preproduccion.alpedrete.es/evento/concurso-fotolectura-2017/
CATEGORIES:Concurso,Fotografía
ATTACH;FMTTYPE=image/jpeg:https://preproduccion.alpedrete.es/wp-content/uploads/2017/04/fotolectura-2.jpg
END:VEVENT
BEGIN:VEVENT
DTSTART;VALUE=DATE:20170503
DTEND;VALUE=DATE:20170516
DTSTAMP:20260420T065816
CREATED:20170428T132541Z
LAST-MODIFIED:20170428T132849Z
UID:13463-1493769600-1494892799@preproduccion.alpedrete.es
SUMMARY:Exposición. La mutilación genital femenina en Kenia
DESCRIPTION:En el año 2017\, la Asociación de Escritores Solidarios Cinco Palabras está dedicando una de sus causas solidarias a la Iniciativa Tasaru Ntomonok (TNI)\, organización basada en una comunidad situada en el Valle del Rift Sur\, distrito de Narok\, Kenia. El TNI trabaja dentro de la cultura Masai y la comunidad circundante para erradicar las prácticas de la mutilación genital femenina. \nLa exposición la componen una serie de paneles informativos y pinturas africanas de Mar Olayo\, mostrando las imágenes tomadas el durante el tiempo de estancia entre las tribus Masai\, de los responsables de la Asociación Cinco Palabras. \nDel 3 al 15 de mayo\, en la Casa de Cultura Asunción Balaguer.
URL:https://preproduccion.alpedrete.es/evento/exposicion-la-mutilacion-genital-femenina-kenia/
LOCATION:Casa de Cultura Asunción Balaguer\, Plaza Francisco Rabal\, 2\, Alpedrete\, Madrid\, 28430 \, España
CATEGORIES:Fotografía
ATTACH;FMTTYPE=image/jpeg:https://preproduccion.alpedrete.es/wp-content/uploads/2017/04/masai-women.jpg
GEO:40.6621635;-4.031169
X-APPLE-STRUCTURED-LOCATION;VALUE=URI;X-ADDRESS=Casa de Cultura Asunción Balaguer Plaza Francisco Rabal 2 Alpedrete Madrid 28430  España;X-APPLE-RADIUS=500;X-TITLE=Plaza Francisco Rabal\, 2:geo:-4.031169,40.6621635
END:VEVENT
BEGIN:VEVENT
DTSTART;VALUE=DATE:20170504
DTEND;VALUE=DATE:20170527
DTSTAMP:20260420T065816
CREATED:20170503T080314Z
LAST-MODIFIED:20170503T080314Z
UID:13500-1493856000-1495843199@preproduccion.alpedrete.es
SUMMARY:Matriculación en la Escuela de Verano
DESCRIPTION:El 4 de mayo comienza en el plazo de matriculación en “Veraneando en Alpedrete”\, la Escuela de Verano que cada año organiza la Mancomunidad THAM \, dirigida a niños y niñas de edades comprendidas entre los 3 y 12 años. \nEl plazo de inscripción se abre el 4 de mayo y finaliza el 26 del mismo mes. Se puede realizar de varias maneras: de lunes a viernes\, de 9:00 a 14:00 horas\, en el Centro Municipal de Servicios Sociales de Alpedrete y los lunes y martes en horario de 16:30 a 19:00 horas. Igualmente\, las inscripciones se podrán formalizar a través de la sede electrónica de la mancomunidad (https://sede.mancomunidad-tham.es). \nMás información: Veraneando en Alpedrete \n  \n  \n 
URL:https://preproduccion.alpedrete.es/evento/matriculacion-la-escuela-verano/
LOCATION:Mancomunidad de Servicios Sociales THAM\, Calle Pozo Nuevo 4-6\, Alpedrete\, Madrid\, 28430\, España
ATTACH;FMTTYPE=image/jpeg:https://preproduccion.alpedrete.es/wp-content/uploads/2017/05/Verano.jpg
GEO:40.6587762;-4.0257802
X-APPLE-STRUCTURED-LOCATION;VALUE=URI;X-ADDRESS=Mancomunidad de Servicios Sociales THAM Calle Pozo Nuevo 4-6 Alpedrete Madrid 28430 España;X-APPLE-RADIUS=500;X-TITLE=Calle Pozo Nuevo 4-6:geo:-4.0257802,40.6587762
END:VEVENT
BEGIN:VEVENT
DTSTART;VALUE=DATE:20170512
DTEND;VALUE=DATE:20170523
DTSTAMP:20260420T065816
CREATED:20170512T123815Z
LAST-MODIFIED:20170512T123815Z
UID:13730-1494547200-1495497599@preproduccion.alpedrete.es
SUMMARY:Venta de abonos Feria Taurina Santa Quiteria 2017
DESCRIPTION:Ya están a la venta los abonos de la Feria Taurina Santa Quiteria 2017 en las dos modalidades posibles: general y reducido. Los abonos se pueden adquirir en el Ayuntamiento de Alpedrete\, en el Centro de Mayores Los Canteros de Alpedrete\, en el Mesón El Cabrero y la Cafetería Roma. \nMás información: A la venta los abonos de Feria Taurina Santa Quiteria 2017
URL:https://preproduccion.alpedrete.es/evento/venta-abonos-feria-taurina-santa-quiteria-2017/
LOCATION:Ayuntamiento de Alpedrete\, Plaza de la Villa\, 1\, Alpedrete\, Madrid\, 28430\, España
CATEGORIES:Fiestas patronales
ATTACH;FMTTYPE=image/jpeg:https://preproduccion.alpedrete.es/wp-content/uploads/2017/05/Abonos.jpg
GEO:40.658895;-4.0235553
X-APPLE-STRUCTURED-LOCATION;VALUE=URI;X-ADDRESS=Ayuntamiento de Alpedrete Plaza de la Villa 1 Alpedrete Madrid 28430 España;X-APPLE-RADIUS=500;X-TITLE=Plaza de la Villa\, 1:geo:-4.0235553,40.658895
END:VEVENT
BEGIN:VEVENT
DTSTART;TZID=Europe/Madrid:20170513T100000
DTEND;TZID=Europe/Madrid:20170513T130000
DTSTAMP:20260420T065816
CREATED:20170426T115241Z
LAST-MODIFIED:20170426T115257Z
UID:13365-1494669600-1494680400@preproduccion.alpedrete.es
SUMMARY:“Tejer para leer”. Las abejas
DESCRIPTION:Quinta cita con la Asociación Iaia\,  para tejer y leer en la Biblioteca Municipal. La actividad es gratuita y para todos los públicos. No hace falta que traigas material\, sólo ganas de tejer. Las citas son una vez al mes de 10.00 a 13.00H en la sala infantil de la Biblioteca Municipal. En esta ocasión la actividad “Tejer para Leer” está dedicada a un proyecto ambiental\, donde todas las personas tejedoras se unirán para sensibilizar sobre la protección de las abejas\, ya que el contenido de los libros versará sobre esta especie tan importante en nuestro ecosistema. \nProgramación actividad «Tejer para leer». Las abejas: \n\n13 de mayo\n10 de junio\n\n\nHabrá una selección de libros para ser leídos mientras el grupo teje\, además de una selección de audiolibros para continuar tejiendo en casa mientras se disfruta de la lectura\, sin levantar la vista del punto.
URL:https://preproduccion.alpedrete.es/evento/tejer-leer-las-abejas/
LOCATION:Biblioteca Municipal de Alpedrete\, Plaza Francisco Rabal\, 2\, Alpedrete\, 28430 \, España
ATTACH;FMTTYPE=image/jpeg:https://preproduccion.alpedrete.es/wp-content/uploads/2017/04/tejer-para-leer-abejas-amarillas.jpg
GEO:40.6621635;-4.031169
X-APPLE-STRUCTURED-LOCATION;VALUE=URI;X-ADDRESS=Biblioteca Municipal de Alpedrete Plaza Francisco Rabal 2 Alpedrete 28430  España;X-APPLE-RADIUS=500;X-TITLE=Plaza Francisco Rabal\, 2:geo:-4.031169,40.6621635
END:VEVENT
BEGIN:VEVENT
DTSTART;TZID=Europe/Madrid:20170513T110000
DTEND;TZID=Europe/Madrid:20170513T130000
DTSTAMP:20260420T065816
CREATED:20170427T122504Z
LAST-MODIFIED:20170427T122741Z
UID:13407-1494673200-1494680400@preproduccion.alpedrete.es
SUMMARY:Yincana familiar en la Biblioteca Municipal
DESCRIPTION:El día 13 de mayo de 1999 se trasladó la Biblioteca Municipal al nuevo edificio del Centro Cultural\, en el que se encuentra actualmente. Para conmemorar los 18 años que lleva la Biblioteca en su sede actual\, se va a realizar una Yincana sobre Harry Potter: una actividad para disfrutar en familia. Pueden inscribirse padres e hijos\, a partir de ocho años. \nLa duración aproximada de la Yincana será de 2 horas\, y se realizará en la sala infantil de la Biblioteca. Las plazas son limitadas por orden de inscripción. Los participantes han de traer un peluche para realizar una de las pruebas. \nInscripciones en la Biblioteca Municipal o en biblioteca@alpedrete.es. \n 
URL:https://preproduccion.alpedrete.es/evento/yincana-familiar-la-biblioteca-municipal/
LOCATION:Biblioteca Municipal de Alpedrete\, Plaza Francisco Rabal\, 2\, Alpedrete\, 28430 \, España
CATEGORIES:Concurso
ATTACH;FMTTYPE=image/jpeg:https://preproduccion.alpedrete.es/wp-content/uploads/2017/04/harry.jpg
GEO:40.6621635;-4.031169
X-APPLE-STRUCTURED-LOCATION;VALUE=URI;X-ADDRESS=Biblioteca Municipal de Alpedrete Plaza Francisco Rabal 2 Alpedrete 28430  España;X-APPLE-RADIUS=500;X-TITLE=Plaza Francisco Rabal\, 2:geo:-4.031169,40.6621635
END:VEVENT
BEGIN:VEVENT
DTSTART;TZID=Europe/Madrid:20170513T110000
DTEND;TZID=Europe/Madrid:20170513T150000
DTSTAMP:20260420T065816
CREATED:20170421T153919Z
LAST-MODIFIED:20170427T081909Z
UID:13197-1494673200-1494687600@preproduccion.alpedrete.es
SUMMARY:Cosiendo Conciencia
DESCRIPTION:Alpedrete acoge una jornada de concienciación sobre el verdadero coste de la moda mediante una instalación de ropa desechada. La experiencia responde al nombre de Cosiendo Conciencia y se celebrará el sábado 13 de mayo\, de 11:00 a 15:00 horas\, en la plaza de Vicente Guillén Zamorano. Esta iniciativa\, organizada por “Dentro de la Caja” en colaboración con el Ayuntamiento de Alpedrete\, será una de las ciento de actividades que formarán parte de esta cuarta edición de Fashion Revolution. \nEn torno al aniversario de la tragedia del Rana Plaza\, Fashion Revolution reúne a todos los sectores de la moda en una campaña de concienciación. El 24 de abril de 2013 en Dacca\, capital de Bangladesh\, se derrumbó un edificio de ocho plantas que albergaba talleres textiles\, en el que murieron 1.135 trabajadoras y trabajadores y dejó 2.500 heridos. Esta tragedia desató una oleada de protestas en todo el mundo que dio lugar a un movimiento social internacional que promueve un cambio en la forma en que se produce y se consume nuestra ropa. \nEsta jornada conmemorativa y de concienciación\, que pretende promover valores fundamentales como los derechos humanos\, la sostenibilidad ambiental y un consumo menos irracional\, se materializará con Cosiendo Conciencia\, una instalación hecha con ropa que iba a parar a la basura. Son cientos de pantalones vaqueros que ha aportado la gente y que continúa aportando\, las prendas se van acumulando en la instalación al igual que aumentan nuestros residuos a consecuencia de la cultura de usar y tirar. En España cada persona genera al año entre 7 y 10 kilos de residuos textiles\, tirando toneladas de ropa que se ha usado solo 6 veces de media al año.
URL:https://preproduccion.alpedrete.es/evento/cosiendo-conciencia/
LOCATION:Plaza de Vicente Guillén Zamorano\, Plaz de
CATEGORIES:Medioambiente,Taller
ATTACH;FMTTYPE=image/jpeg:https://preproduccion.alpedrete.es/wp-content/uploads/2017/04/Cosiendo.-Cambio.jpg
GEO:51.7082095;8.7719837
X-APPLE-STRUCTURED-LOCATION;VALUE=URI;X-ADDRESS=Plaza de Vicente Guillén Zamorano Plaz de;X-APPLE-RADIUS=500;X-TITLE=Plaz de:geo:8.7719837,51.7082095
END:VEVENT
BEGIN:VEVENT
DTSTART;TZID=Europe/Madrid:20170513T120000
DTEND;TZID=Europe/Madrid:20170513T150000
DTSTAMP:20260420T065816
CREATED:20170508T154430Z
LAST-MODIFIED:20170508T154430Z
UID:13589-1494676800-1494687600@preproduccion.alpedrete.es
SUMMARY:Girando por plazas\, II Edición
DESCRIPTION:El sábado 13 de mayo dará comienzo la segunda edición de Girando por Plazas\, una iniciativa cultural para llevar a las calles de Alpedrete música\, teatro\, títeres\, cuentos…\, organizada por el Ayuntamiento de Alpedrete y la Asociación Cultural El Remolino. \nEn la edición 2017 de Girando por Plazas se utilizarán cinco espacios para desarrollar todas las propuestas: Plaza de la Villa\, Plaza de la Constitución\, Avenida de los Canteros\, Plaza de Vicente Guillén Zamora y Plaza de Francisco Rabal. \nMás información : II Edición Girando por plazas
URL:https://preproduccion.alpedrete.es/evento/girando-plazas-ii-edicion/
LOCATION:Alpedrete\, Alpedrete\, Madrid\, 28430\, España
CATEGORIES:Cultura
ATTACH;FMTTYPE=image/jpeg:https://preproduccion.alpedrete.es/wp-content/uploads/2017/05/GXP-2017-General.jpg
END:VEVENT
BEGIN:VEVENT
DTSTART;TZID=Europe/Madrid:20170513T180000
DTEND;TZID=Europe/Madrid:20170513T190000
DTSTAMP:20260420T065816
CREATED:20170510T082426Z
LAST-MODIFIED:20170510T082426Z
UID:13646-1494698400-1494702000@preproduccion.alpedrete.es
SUMMARY:Teatro\, “Los Piratas”
DESCRIPTION:Obra de teatro apta para público familiar a partir de los 3 años. “Los Piratas” se representa a partir de las 18:00 de la tarde en la Casa de Cultura Asunción Balaguer el sábado 13 de mayo. La duración aproximada de la función es de 55 minutos. \nEl Capitán Morgan llega a un nuevo puerto y en su poder tiene el mapa del Tesoro. A media noche\, en el Portón de los dos cañones se citará con el resto de la tripulación\, Natacha Polvorilla y Simón Patastilla. En ese momento el Capitán describe a su tripulación el plan a seguir para el Tesoro. Tendrán que cruzar valles\, ciénagas apestosas y sortear el canto de las míticas sirenas. Para ello necesitan reclutar nuevos grumetes para embarcarse en este viaje. \nEl precio de la entrada general es de 6 euros y 3 euros la reducida. Se puede reservar en la secretaría de la Casa de la Cultura o en el teléfono 918571590.
URL:https://preproduccion.alpedrete.es/evento/teatro-los-piratas/
LOCATION:Casa de Cultura Asunción Balaguer\, Plaza Francisco Rabal\, 2\, Alpedrete\, Madrid\, 28430 \, España
CATEGORIES:Teatro
ATTACH;FMTTYPE=image/jpeg:https://preproduccion.alpedrete.es/wp-content/uploads/2017/05/Sin-título-1-2.jpg
GEO:40.6621635;-4.031169
X-APPLE-STRUCTURED-LOCATION;VALUE=URI;X-ADDRESS=Casa de Cultura Asunción Balaguer Plaza Francisco Rabal 2 Alpedrete Madrid 28430  España;X-APPLE-RADIUS=500;X-TITLE=Plaza Francisco Rabal\, 2:geo:-4.031169,40.6621635
END:VEVENT
BEGIN:VEVENT
DTSTART;TZID=Europe/Madrid:20170513T183000
DTEND;TZID=Europe/Madrid:20170513T193000
DTSTAMP:20260420T065816
CREATED:20170420T103545Z
LAST-MODIFIED:20170512T124323Z
UID:13144-1494700200-1494703800@preproduccion.alpedrete.es
SUMMARY:Concurso: “Talentos Santa Quiteria 2017”
DESCRIPTION:Sábado 13 de mayo a las 18:30 de la tarde\, en la Ciudad Deportiva Municipal. \nEl concurso se divide en dos categorías: infantil para menores nacidos entre los años 2010 y 2000 (ambos incluidos) y absoluta para los nacidos antes del año 2000. El concurso se anulará en la categoría correspondiente si hubiera menos de 3 inscritos en la categoría infantil o 5 en la categoría absoluta. \nAl terminar el concurso se entregarán los tres premios previstos\, dos para la categoría absoluta y uno para la infantil\, cada uno de ellos por valor de 250 euros. Los ganadores recibirán un cheque indicativo del premio para su posterior trasferencia bancaria\, en la cuenta indicada en la ficha de inscripción. \nMás información:  Programa de fiestas Santa Quiteria
URL:https://preproduccion.alpedrete.es/evento/concurso-talentos-santa-quiteria-2017/
LOCATION:Ciudad Deportiva Municipal de Alpedrete\, C/ Campo de Fútbol s/n\, Alpedrete\, Madrid\, 28430\, España
CATEGORIES:Concurso
ATTACH;FMTTYPE=image/jpeg:https://preproduccion.alpedrete.es/wp-content/uploads/2017/04/2-Talentos.jpg
END:VEVENT
BEGIN:VEVENT
DTSTART;TZID=Europe/Madrid:20170513T213000
DTEND;TZID=Europe/Madrid:20170513T223000
DTSTAMP:20260420T065816
CREATED:20170508T160812Z
LAST-MODIFIED:20170508T160812Z
UID:13588-1494711000-1494714600@preproduccion.alpedrete.es
SUMMARY:Concierto "Zamburiel"
DESCRIPTION:Sábado 13 de mayo\, a las 21:30 h en la Plaza de la Villa.
URL:https://preproduccion.alpedrete.es/evento/concierto-zamburiel/
LOCATION:Plaza de la Villa\, Plaza de la Villa\, Alpedrete\, 28430 \, España
CATEGORIES:Concierto,Fiestas patronales
ATTACH;FMTTYPE=image/jpeg:https://preproduccion.alpedrete.es/wp-content/uploads/2017/05/Zamburiel.jpg
GEO:40.6589274;-4.0239866
X-APPLE-STRUCTURED-LOCATION;VALUE=URI;X-ADDRESS=Plaza de la Villa Plaza de la Villa Alpedrete 28430  España;X-APPLE-RADIUS=500;X-TITLE=Plaza de la Villa:geo:-4.0239866,40.6589274
END:VEVENT
END:VCALENDAR