BEGIN:VCALENDAR
VERSION:2.0
PRODID:-//Web Ayuntamiento de Alpedrete - ECPv6.9.0//NONSGML v1.0//EN
CALSCALE:GREGORIAN
METHOD:PUBLISH
X-ORIGINAL-URL:https://preproduccion.alpedrete.es
X-WR-CALDESC:Eventos para Web Ayuntamiento de Alpedrete
REFRESH-INTERVAL;VALUE=DURATION:PT1H
X-Robots-Tag:noindex
X-PUBLISHED-TTL:PT1H
BEGIN:VTIMEZONE
TZID:Europe/Madrid
BEGIN:DAYLIGHT
TZOFFSETFROM:+0100
TZOFFSETTO:+0200
TZNAME:CEST
DTSTART:20170326T010000
END:DAYLIGHT
BEGIN:STANDARD
TZOFFSETFROM:+0200
TZOFFSETTO:+0100
TZNAME:CET
DTSTART:20171029T010000
END:STANDARD
END:VTIMEZONE
BEGIN:VEVENT
DTSTART;VALUE=DATE:20170421
DTEND;VALUE=DATE:20170524
DTSTAMP:20260420T201937
CREATED:20170421T102916Z
LAST-MODIFIED:20170424T103130Z
UID:13160-1492732800-1495583999@preproduccion.alpedrete.es
SUMMARY:Curso de Socorrista en piscinas e instalaciones acuáticas
DESCRIPTION:El Ayuntamiento de Alpedrete ofrece este curso en colaboración con la Federación Madrileña de Salvamento y Socorrismo. Dicho curso capacita para el empleo como socorrista en piscinas e instalaciones acuáticas según normativa de la Comunidad de Madrid\, a personas con edades comprendidas entre los 16 y los 30 años. \nEl curso se impartirá del 26 de mayo al 18 de junio y consta de dos fases: Teórica\, con una duración total de 96 horas que se realizará presencialmente en las instalaciones del Centro de Juventud\, y práctica\,  de un total de 21 horas\, que se realizará en la piscina municipal de Alpedrete. \nEl precio es de 130 € para las personas empadronadas en Alpedrete (teniendo preferencia en la inscripción) y de 255 € para los no empadronados. Las inscripciones se pueden realizar hasta el 23 de mayo en el Centro de Juventud \, los lunes y miércoles de 10:00 a 14:00 h y martes y jueves de 16:00 a 20:00 h. \nMás información: www.alpedrete.es/curso-socorrista-piscinas-e-instalaciones-acuaticas \n \n 
URL:https://preproduccion.alpedrete.es/evento/curso-socorrista-piscinas-e-instalaciones-acuaticas/
LOCATION:Centro de Juventud\, Félix Díaz\, 5\, Alpedrete\, España
CATEGORIES:Curso,Juventud
ATTACH;FMTTYPE=image/jpeg:https://preproduccion.alpedrete.es/wp-content/uploads/2017/04/socorrista.jpg
GEO:40.6602847;-4.0252745
X-APPLE-STRUCTURED-LOCATION;VALUE=URI;X-ADDRESS=Centro de Juventud Félix Díaz 5 Alpedrete España;X-APPLE-RADIUS=500;X-TITLE=Félix Díaz\, 5:geo:-4.0252745,40.6602847
END:VEVENT
BEGIN:VEVENT
DTSTART;VALUE=DATE:20170504
DTEND;VALUE=DATE:20170527
DTSTAMP:20260420T201937
CREATED:20170503T080314Z
LAST-MODIFIED:20170503T080314Z
UID:13500-1493856000-1495843199@preproduccion.alpedrete.es
SUMMARY:Matriculación en la Escuela de Verano
DESCRIPTION:El 4 de mayo comienza en el plazo de matriculación en “Veraneando en Alpedrete”\, la Escuela de Verano que cada año organiza la Mancomunidad THAM \, dirigida a niños y niñas de edades comprendidas entre los 3 y 12 años. \nEl plazo de inscripción se abre el 4 de mayo y finaliza el 26 del mismo mes. Se puede realizar de varias maneras: de lunes a viernes\, de 9:00 a 14:00 horas\, en el Centro Municipal de Servicios Sociales de Alpedrete y los lunes y martes en horario de 16:30 a 19:00 horas. Igualmente\, las inscripciones se podrán formalizar a través de la sede electrónica de la mancomunidad (https://sede.mancomunidad-tham.es). \nMás información: Veraneando en Alpedrete \n  \n  \n 
URL:https://preproduccion.alpedrete.es/evento/matriculacion-la-escuela-verano/
LOCATION:Mancomunidad de Servicios Sociales THAM\, Calle Pozo Nuevo 4-6\, Alpedrete\, Madrid\, 28430\, España
ATTACH;FMTTYPE=image/jpeg:https://preproduccion.alpedrete.es/wp-content/uploads/2017/05/Verano.jpg
GEO:40.6587762;-4.0257802
X-APPLE-STRUCTURED-LOCATION;VALUE=URI;X-ADDRESS=Mancomunidad de Servicios Sociales THAM Calle Pozo Nuevo 4-6 Alpedrete Madrid 28430 España;X-APPLE-RADIUS=500;X-TITLE=Calle Pozo Nuevo 4-6:geo:-4.0257802,40.6587762
END:VEVENT
BEGIN:VEVENT
DTSTART;VALUE=DATE:20170512
DTEND;VALUE=DATE:20170523
DTSTAMP:20260420T201937
CREATED:20170512T123815Z
LAST-MODIFIED:20170512T123815Z
UID:13730-1494547200-1495497599@preproduccion.alpedrete.es
SUMMARY:Venta de abonos Feria Taurina Santa Quiteria 2017
DESCRIPTION:Ya están a la venta los abonos de la Feria Taurina Santa Quiteria 2017 en las dos modalidades posibles: general y reducido. Los abonos se pueden adquirir en el Ayuntamiento de Alpedrete\, en el Centro de Mayores Los Canteros de Alpedrete\, en el Mesón El Cabrero y la Cafetería Roma. \nMás información: A la venta los abonos de Feria Taurina Santa Quiteria 2017
URL:https://preproduccion.alpedrete.es/evento/venta-abonos-feria-taurina-santa-quiteria-2017/
LOCATION:Ayuntamiento de Alpedrete\, Plaza de la Villa\, 1\, Alpedrete\, Madrid\, 28430\, España
CATEGORIES:Fiestas patronales
ATTACH;FMTTYPE=image/jpeg:https://preproduccion.alpedrete.es/wp-content/uploads/2017/05/Abonos.jpg
GEO:40.658895;-4.0235553
X-APPLE-STRUCTURED-LOCATION;VALUE=URI;X-ADDRESS=Ayuntamiento de Alpedrete Plaza de la Villa 1 Alpedrete Madrid 28430 España;X-APPLE-RADIUS=500;X-TITLE=Plaza de la Villa\, 1:geo:-4.0235553,40.658895
END:VEVENT
BEGIN:VEVENT
DTSTART;TZID=Europe/Madrid:20170516T090000
DTEND;TZID=Europe/Madrid:20170526T220000
DTSTAMP:20260420T201937
CREATED:20170512T132420Z
LAST-MODIFIED:20170512T133905Z
UID:13744-1494925200-1495836000@preproduccion.alpedrete.es
SUMMARY:Exposición. Alpedrete: “Tal como éramos”
DESCRIPTION:Un año más la Casa de Cultura Asunción Balaguer acogerá\, con motivo de las fiestas patronales en honor a Santa Quitería\, una exposición de fotografías procedentes del archivo municipal de Alpedrete. Las fotografías muestran la vida cotidiana de los vecinos del municipio desde principios del siglo XX. La exposición podrá visitarse en horario de 9.00 a 22.00h de lunes a viernes y los sábados de 10.00 a 14.00h. \n \n 
URL:https://preproduccion.alpedrete.es/evento/exposicion-alpedrete-tal-eramos/
LOCATION:Casa de Cultura Asunción Balaguer\, Plaza Francisco Rabal\, 2\, Alpedrete\, Madrid\, 28430 \, España
CATEGORIES:Fotografía
ATTACH;FMTTYPE=image/jpeg:https://preproduccion.alpedrete.es/wp-content/uploads/2017/05/calle-collado-mediano.jpg
GEO:40.6621635;-4.031169
X-APPLE-STRUCTURED-LOCATION;VALUE=URI;X-ADDRESS=Casa de Cultura Asunción Balaguer Plaza Francisco Rabal 2 Alpedrete Madrid 28430  España;X-APPLE-RADIUS=500;X-TITLE=Plaza Francisco Rabal\, 2:geo:-4.031169,40.6621635
END:VEVENT
BEGIN:VEVENT
DTSTART;TZID=Europe/Madrid:20170519T223000
DTEND;TZID=Europe/Madrid:20170521T030000
DTSTAMP:20260420T201937
CREATED:20170511T001124Z
LAST-MODIFIED:20170517T080818Z
UID:13697-1495233000-1495335600@preproduccion.alpedrete.es
SUMMARY:Concierto "La Huella"
DESCRIPTION:Concierto ofrecido por el grupo musical «La Huella»\, en la Plaza de la Villa. Después continuaremos con la música y la fiesta hasta las 6:00 h\, con la Disco Móvil.
URL:https://preproduccion.alpedrete.es/evento/concierto-la-huella/
LOCATION:Plaza de la Villa\, Plaza de la Villa\, Alpedrete\, 28430 \, España
CATEGORIES:Concierto,Fiestas patronales
ATTACH;FMTTYPE=image/jpeg:https://preproduccion.alpedrete.es/wp-content/uploads/2017/05/LAHuella3.jpg
GEO:40.6589274;-4.0239866
X-APPLE-STRUCTURED-LOCATION;VALUE=URI;X-ADDRESS=Plaza de la Villa Plaza de la Villa Alpedrete 28430  España;X-APPLE-RADIUS=500;X-TITLE=Plaza de la Villa:geo:-4.0239866,40.6589274
END:VEVENT
BEGIN:VEVENT
DTSTART;TZID=Europe/Madrid:20170520T223000
DTEND;TZID=Europe/Madrid:20170521T033000
DTSTAMP:20260420T201937
CREATED:20170515T104326Z
LAST-MODIFIED:20170517T082218Z
UID:14279-1495319400-1495337400@preproduccion.alpedrete.es
SUMMARY:Orquesta “La Misión”
DESCRIPTION:Sábado 20 de mayo en la Plaza de la Villa\, a partir de las 22:30 h y hasta las 3:30 h. Después continuaremos con la música y la fiesta hasta las 6:00 h\, con la Disco Móvil.
URL:https://preproduccion.alpedrete.es/evento/orquesta-la-mision/
LOCATION:Plaza de la Villa\, Plaza de la Villa\, Alpedrete\, 28430 \, España
CATEGORIES:Concierto,Fiestas patronales
ATTACH;FMTTYPE=image/jpeg:https://preproduccion.alpedrete.es/wp-content/uploads/2017/05/orquesta-la-mision.jpg
GEO:40.6589274;-4.0239866
X-APPLE-STRUCTURED-LOCATION;VALUE=URI;X-ADDRESS=Plaza de la Villa Plaza de la Villa Alpedrete 28430  España;X-APPLE-RADIUS=500;X-TITLE=Plaza de la Villa:geo:-4.0239866,40.6589274
END:VEVENT
BEGIN:VEVENT
DTSTART;TZID=Europe/Madrid:20170521T103000
DTEND;TZID=Europe/Madrid:20170521T150000
DTSTAMP:20260420T201937
CREATED:20170515T110357Z
LAST-MODIFIED:20170515T110357Z
UID:14283-1495362600-1495378800@preproduccion.alpedrete.es
SUMMARY:Hinchables y Fiesta de la espuma
DESCRIPTION:Hinchables y juegos infantiles a las 10:30 h en la plaza de la Constitución\, y después Fiesta de la espuma a las 14:00 h.
URL:https://preproduccion.alpedrete.es/evento/hinchables-fiesta-la-espuma/
LOCATION:Plaza de la Constitución\, Plaza de la Constitución\, Alpedrete\, Madrid\, 28430\, España
CATEGORIES:Fiestas patronales
ATTACH;FMTTYPE=image/jpeg:https://preproduccion.alpedrete.es/wp-content/uploads/2017/05/IMG_6436.jpg
GEO:40.6602075;-4.0254104
X-APPLE-STRUCTURED-LOCATION;VALUE=URI;X-ADDRESS=Plaza de la Constitución Plaza de la Constitución Alpedrete Madrid 28430 España;X-APPLE-RADIUS=500;X-TITLE=Plaza de la Constitución:geo:-4.0254104,40.6602075
END:VEVENT
BEGIN:VEVENT
DTSTART;TZID=Europe/Madrid:20170521T110000
DTEND;TZID=Europe/Madrid:20170521T120000
DTSTAMP:20260420T201937
CREATED:20170515T112937Z
LAST-MODIFIED:20170515T112937Z
UID:14288-1495364400-1495368000@preproduccion.alpedrete.es
SUMMARY:Encuentro de Bandas
DESCRIPTION:Domingo 21 de mayo. EMMD de Alpedrete y EMMD de San Lorenzo de El Escorial\, 11:00 h en la Plaza de la Villa.
URL:https://preproduccion.alpedrete.es/evento/encuentro-de-bandas/
LOCATION:Plaza de la Villa\, Plaza de la Villa\, Alpedrete\, 28430 \, España
CATEGORIES:Concierto,Fiestas patronales
ATTACH;FMTTYPE=image/jpeg:https://preproduccion.alpedrete.es/wp-content/uploads/2017/05/ENCUENTRO-BANDAS.jpg
GEO:40.6589274;-4.0239866
X-APPLE-STRUCTURED-LOCATION;VALUE=URI;X-ADDRESS=Plaza de la Villa Plaza de la Villa Alpedrete 28430  España;X-APPLE-RADIUS=500;X-TITLE=Plaza de la Villa:geo:-4.0239866,40.6589274
END:VEVENT
BEGIN:VEVENT
DTSTART;TZID=Europe/Madrid:20170521T140000
DTEND;TZID=Europe/Madrid:20170521T153000
DTSTAMP:20260420T201937
CREATED:20170515T114318Z
LAST-MODIFIED:20170515T114318Z
UID:14291-1495375200-1495380600@preproduccion.alpedrete.es
SUMMARY:Del puchero a la comida popular
DESCRIPTION:La Plaza de la Villa se convierte en cocina para el yantar popular. El churrasco del domingo 21 abre los fogones. Y como comer es costumbre diaria\, el lunes los entremeses y el martes las brochetas ocuparán bandejas\, cazuelas y planchas.  \n\nDomingo 21 de mayo: Churrasco y sangría\, 14:30 h \nLunes 22 de mayo: Aperitivo\, 14:00 h \nMartes 23 de mayo: Comida popular\, 14:00 h \n\n  \n 
URL:https://preproduccion.alpedrete.es/evento/del-puchero-la-comida-popular/2017-05-21/
LOCATION:Plaza de la Villa\, Plaza de la Villa\, Alpedrete\, 28430 \, España
CATEGORIES:Fiestas patronales
ATTACH;FMTTYPE=image/jpeg:https://preproduccion.alpedrete.es/wp-content/uploads/2017/05/11-Comida-OK.jpg
GEO:40.6589274;-4.0239866
X-APPLE-STRUCTURED-LOCATION;VALUE=URI;X-ADDRESS=Plaza de la Villa Plaza de la Villa Alpedrete 28430  España;X-APPLE-RADIUS=500;X-TITLE=Plaza de la Villa:geo:-4.0239866,40.6589274
END:VEVENT
BEGIN:VEVENT
DTSTART;TZID=Europe/Madrid:20170521T183000
DTEND;TZID=Europe/Madrid:20170521T203000
DTSTAMP:20260420T201937
CREATED:20170515T121036Z
LAST-MODIFIED:20170516T081338Z
UID:14298-1495391400-1495398600@preproduccion.alpedrete.es
SUMMARY:Novillada sin picadores
DESCRIPTION:Plaza de Toros\, rotonda de El Cantero. Entrada en taquilla y en centros colaboradores. En colaboración con el Centro de Asuntos Taurinos de la Comunidad de Madrid.
URL:https://preproduccion.alpedrete.es/evento/novillada-sin-picadores/
LOCATION:Rotonda de El Cantero\, Rotonda de El Cantero\, Alpedrete\, 28430\, España
CATEGORIES:Fiestas patronales
ATTACH;FMTTYPE=image/jpeg:https://preproduccion.alpedrete.es/wp-content/uploads/2017/05/toros2.jpg
GEO:40.6591783;-4.031174
X-APPLE-STRUCTURED-LOCATION;VALUE=URI;X-ADDRESS=Rotonda de El Cantero Rotonda de El Cantero Alpedrete 28430 España;X-APPLE-RADIUS=500;X-TITLE=Rotonda de El Cantero:geo:-4.031174,40.6591783
END:VEVENT
BEGIN:VEVENT
DTSTART;TZID=Europe/Madrid:20170521T230000
DTEND;TZID=Europe/Madrid:20170522T013000
DTSTAMP:20260420T201937
CREATED:20170515T122028Z
LAST-MODIFIED:20170515T122028Z
UID:14302-1495407600-1495416600@preproduccion.alpedrete.es
SUMMARY:Actuación del grupo "Hechizo"
DESCRIPTION:El Tributo\, actuación del grupo “Hechizo” en Versión Imposible\,  de 23:00 a 01:30 h\, en la Plaza de la Villa. Después continuaremos con la música y la fiesta hasta las 6:00 h\, con la Disco Móvil.
URL:https://preproduccion.alpedrete.es/evento/actuacion-del-grupo-hechizo/
LOCATION:Plaza de la Villa\, Plaza de la Villa\, Alpedrete\, 28430 \, España
CATEGORIES:Concierto,Fiestas patronales
ATTACH;FMTTYPE=image/jpeg:https://preproduccion.alpedrete.es/wp-content/uploads/2017/05/HECHIZO.jpg
GEO:40.6589274;-4.0239866
X-APPLE-STRUCTURED-LOCATION;VALUE=URI;X-ADDRESS=Plaza de la Villa Plaza de la Villa Alpedrete 28430  España;X-APPLE-RADIUS=500;X-TITLE=Plaza de la Villa:geo:-4.0239866,40.6589274
END:VEVENT
END:VCALENDAR