BEGIN:VCALENDAR
VERSION:2.0
PRODID:-//Web Ayuntamiento de Alpedrete - ECPv6.9.0//NONSGML v1.0//EN
CALSCALE:GREGORIAN
METHOD:PUBLISH
X-WR-CALNAME:Web Ayuntamiento de Alpedrete
X-ORIGINAL-URL:https://preproduccion.alpedrete.es
X-WR-CALDESC:Eventos para Web Ayuntamiento de Alpedrete
REFRESH-INTERVAL;VALUE=DURATION:PT1H
X-Robots-Tag:noindex
X-PUBLISHED-TTL:PT1H
BEGIN:VTIMEZONE
TZID:Europe/Madrid
BEGIN:DAYLIGHT
TZOFFSETFROM:+0100
TZOFFSETTO:+0200
TZNAME:CEST
DTSTART:20170326T010000
END:DAYLIGHT
BEGIN:STANDARD
TZOFFSETFROM:+0200
TZOFFSETTO:+0100
TZNAME:CET
DTSTART:20171029T010000
END:STANDARD
END:VTIMEZONE
BEGIN:VEVENT
DTSTART;TZID=Europe/Madrid:20170527T100000
DTEND;TZID=Europe/Madrid:20170527T140000
DTSTAMP:20260420T171330
CREATED:20170510T232205Z
LAST-MODIFIED:20170510T232205Z
UID:13681-1495879200-1495893600@preproduccion.alpedrete.es
SUMMARY:“Date a la nueva vida”. Diabetes y alimentación
DESCRIPTION:El Ayuntamiento de Alpedrete colabora con la Asociación de Diabéticos de Madrid en la organización de dos seminarios y una actividad práctica para formar a las personas que padecen diabetes de tipo 2. “Date a la nueva vida” es el lema elegido. \nLa actividad educativa sobre alimentación tendrá lugar el sábado 27 de mayo de 10:00 de la mañana a 14:00 de la tarde en el Centro de Mayores Los Canteros de Alpedrete. \nLos seminarios están programados los miércoles 17 y 24 de mayo de 17:30 a 20:30 de la tarde en el Centro de Salud de Alpedrete . \nTodas las actividades son gratuitas. El número de plazas es limitado por lo que hay que inscribirse llamando al teléfono 91 570 62 43.
URL:https://preproduccion.alpedrete.es/evento/date-la-nueva-vida-diabetes-alimentacion/
LOCATION:Centro de Mayores Los Canteros de Alpedrete\, Plaza de la Constitución\, s/n\, Alpedrete\, España
CATEGORIES:Taller
ATTACH;FMTTYPE=image/png:https://preproduccion.alpedrete.es/wp-content/uploads/2017/05/diabetes-2058045_640.png
GEO:40.6602075;-4.0254104
X-APPLE-STRUCTURED-LOCATION;VALUE=URI;X-ADDRESS=Centro de Mayores Los Canteros de Alpedrete Plaza de la Constitución s/n Alpedrete España;X-APPLE-RADIUS=500;X-TITLE=Plaza de la Constitución\, s/n:geo:-4.0254104,40.6602075
END:VEVENT
BEGIN:VEVENT
DTSTART;TZID=Europe/Madrid:20170527T124500
DTEND;TZID=Europe/Madrid:20170527T144500
DTSTAMP:20260420T171330
CREATED:20170519T084115Z
LAST-MODIFIED:20170519T084115Z
UID:14483-1495889100-1495896300@preproduccion.alpedrete.es
SUMMARY:Girando por Plazas
DESCRIPTION:Segundo encuentro de Girando por Plazas\, iniciativa cultural organizada por el Ayuntamiento de Alpedrete y la Asociación Cultural El Remolino. \nLa segunda cita de Girando por Plazas reúne las siguientes actuaciones: \nJust4 Voices (soul-góspel)\nOba Tenga (ecléctica)\nSwing Machine (swing)\nAna Griott y José Luis Montón (narración y guitarra flamenca) \nMás información : Segundo Girando por Plazas
URL:https://preproduccion.alpedrete.es/evento/girando-por-plazas-2/
LOCATION:Alpedrete\, Alpedrete\, Madrid\, 28430\, España
CATEGORIES:Cultura
ATTACH;FMTTYPE=image/jpeg:https://preproduccion.alpedrete.es/wp-content/uploads/2017/05/Sin-título-1-5.jpg
END:VEVENT
BEGIN:VEVENT
DTSTART;TZID=Europe/Madrid:20170527T190000
DTEND;TZID=Europe/Madrid:20170527T200000
DTSTAMP:20260420T171330
CREATED:20170515T072858Z
LAST-MODIFIED:20170515T074153Z
UID:13802-1495911600-1495915200@preproduccion.alpedrete.es
SUMMARY:Concierto. Cuarteto Cibeles
DESCRIPTION:El Cuarteto Cibeles tocará en la Casa de Cultura Asunción Balaguer el próximo 27 de mayo a las 19:00 de la tarde\, interpretando obras de Mendelssohn y Haydn. La reserva anticipada de las entradas comenzará el jueves 18 de mayo en la Casa de Cultura. El precio de la entrada general es de 4 euros y la reducida de 2 euros. \nEl Cuarteto Cibeles se forma en 2011 con el propósito de difundir música de compositores actuales. Cuenta con cuatro intérpretes con una importante trayectoria individual: David  García Rodríguez\, violín; Rodrigo Calderón López\, violín; Nadia Chaviano\, viola; y Ángel Paunov García\, violoncello. \n\nPrograma del concierto.pdf\nDOSSIER-CUARTETO-CIBELES.pdf
URL:https://preproduccion.alpedrete.es/evento/concierto-cuarteto-cibeles/
LOCATION:Casa de Cultura Asunción Balaguer\, Plaza Francisco Rabal\, 2\, Alpedrete\, Madrid\, 28430 \, España
CATEGORIES:Concierto
ATTACH;FMTTYPE=image/jpeg:https://preproduccion.alpedrete.es/wp-content/uploads/2017/05/cuarteto_cibeles.jpg
GEO:40.6621635;-4.031169
X-APPLE-STRUCTURED-LOCATION;VALUE=URI;X-ADDRESS=Casa de Cultura Asunción Balaguer Plaza Francisco Rabal 2 Alpedrete Madrid 28430  España;X-APPLE-RADIUS=500;X-TITLE=Plaza Francisco Rabal\, 2:geo:-4.031169,40.6621635
END:VEVENT
BEGIN:VEVENT
DTSTART;TZID=Europe/Madrid:20170527T190000
DTEND;TZID=Europe/Madrid:20170527T210000
DTSTAMP:20260420T171330
CREATED:20170518T135104Z
LAST-MODIFIED:20170518T135104Z
UID:14436-1495911600-1495918800@preproduccion.alpedrete.es
SUMMARY:Segundo encuentro del Festival Stone 2017
DESCRIPTION:El segundo concierto de la III edición del Festival Stone se celebrará el sábado 27 de mayo a partir de las 19:00 de la tarde\, en el Parque Central de Alpedrete. \nMás Información: Segundo encuentro del Festival Stone 2017
URL:https://preproduccion.alpedrete.es/evento/segundo-encuentro-del-festival-stone-2017/
LOCATION:Parque Central\, Avda de Los Canteros\, s/n\, Alpedrete\, Madrid\, 28430\, España
CATEGORIES:Música
ATTACH;FMTTYPE=image/jpeg:https://preproduccion.alpedrete.es/wp-content/uploads/2017/05/FS.jpg
GEO:40.6591783;-4.031174
X-APPLE-STRUCTURED-LOCATION;VALUE=URI;X-ADDRESS=Parque Central Avda de Los Canteros s/n Alpedrete Madrid 28430 España;X-APPLE-RADIUS=500;X-TITLE=Avda de Los Canteros\, s/n:geo:-4.031174,40.6591783
END:VEVENT
END:VCALENDAR