BEGIN:VCALENDAR
VERSION:2.0
PRODID:-//Web Ayuntamiento de Alpedrete - ECPv6.9.0//NONSGML v1.0//EN
CALSCALE:GREGORIAN
METHOD:PUBLISH
X-ORIGINAL-URL:https://preproduccion.alpedrete.es
X-WR-CALDESC:Eventos para Web Ayuntamiento de Alpedrete
REFRESH-INTERVAL;VALUE=DURATION:PT1H
X-Robots-Tag:noindex
X-PUBLISHED-TTL:PT1H
BEGIN:VTIMEZONE
TZID:Europe/Madrid
BEGIN:DAYLIGHT
TZOFFSETFROM:+0100
TZOFFSETTO:+0200
TZNAME:CEST
DTSTART:20170326T010000
END:DAYLIGHT
BEGIN:STANDARD
TZOFFSETFROM:+0200
TZOFFSETTO:+0100
TZNAME:CET
DTSTART:20171029T010000
END:STANDARD
END:VTIMEZONE
BEGIN:VEVENT
DTSTART;TZID=Europe/Madrid:20170610T074500
DTEND;TZID=Europe/Madrid:20170610T210000
DTSTAMP:20260420T184123
CREATED:20170606T104229Z
LAST-MODIFIED:20170606T104229Z
UID:15352-1497080700-1497128400@preproduccion.alpedrete.es
SUMMARY:Salida cultural: Monasterio de Piedra
DESCRIPTION:  \nSalida cultural de día completo\, para toda la familia. Incluye: transporte en autobús ida y vuelta\, visita libre al parque\, visita guiada al monasterio y comida en el restaurante «Piedra Vieja». Los precios oscilan entre los 15 eur para los niños\, a los 20 euros los adultos\, con un precio especial de 17 euros para los mayores de 65 años. \nLas inscripciones podrán realizarse del 25 de mayo al 8 de junio en la Casa de Cultura Asunción Balaguer. Plazas limitadas. \nLos muros del Monasterio de Piedra son del siglo XIII\, esconden casi ocho siglos de Historia desde su consagración en 1218.  En él se pueden contemplar las principales características de la arquitectura Cisterciense. \nEl Parque Natural\, Jardín Histórico del Monasterio de Piedra\, ofrece un espectacular recorrido a través de una exuberante naturaleza. Un paisaje sorprendente donde caminos y senderos cruzan cascadas\, arroyos\, lagos y grutas\, a la sombra de árboles centenarios y una excepcional vegetación. Su insólito emplazamiento geológico alimentado por el Río Piedra\, configura un espacio único con una asombrosa variedad de flora y fauna.
URL:https://preproduccion.alpedrete.es/evento/salida-cultural-monasterio-piedra/
LOCATION:Casa de Cultura Asunción Balaguer\, Plaza Francisco Rabal\, 2\, Alpedrete\, Madrid\, 28430 \, España
CATEGORIES:Salida Cultural
ATTACH;FMTTYPE=image/jpeg:https://preproduccion.alpedrete.es/wp-content/uploads/2017/06/MOnasterio-de-piedra.jpg
GEO:40.6621635;-4.031169
X-APPLE-STRUCTURED-LOCATION;VALUE=URI;X-ADDRESS=Casa de Cultura Asunción Balaguer Plaza Francisco Rabal 2 Alpedrete Madrid 28430  España;X-APPLE-RADIUS=500;X-TITLE=Plaza Francisco Rabal\, 2:geo:-4.031169,40.6621635
END:VEVENT
BEGIN:VEVENT
DTSTART;TZID=Europe/Madrid:20170610T100000
DTEND;TZID=Europe/Madrid:20170610T130000
DTSTAMP:20260420T184123
CREATED:20170601T113805Z
LAST-MODIFIED:20170601T113805Z
UID:15186-1497088800-1497099600@preproduccion.alpedrete.es
SUMMARY:Charla-taller: Los tres primeros años de vida
DESCRIPTION:El sábado 10 de junio tendrá lugar una charla-taller sobre algunos aspectos de los tres primeros años de vida de un bebé a cargo de José María Paricio\, pediatra doctor en medicina\, fundador y presidente de la Asociación para la Promoción e Investigación científico-cultural de la Lactancia Materna (Apilam). \nEl programa de trabajo comenzará a las 10:00 de la mañana en la Sala Polivalente del Centro de Mayores los Canteros de Alpedrete con el siguiente orden del día: \n\n10:00 Presentación. Aspectos básicos de la crianza en los tres primeros años.\n11:15 Descanso.\n11:45 Duración de la lactancia. Perspectiva histórico-antropológica.\n12:30 Compatibilidad de fármacos\, anestesias\, radiaciones y tratamiento de mastitis.\n13:00 Preguntas y debate.\n\nLas plazas son limitadas. La inscripción se realiza a través de info@despertaresmaternidad.com Esta actividad está realizada por el Ayuntamiento de Alpedrete y la Asociación Despertares\, Maternidad y Crianza. \n 
URL:https://preproduccion.alpedrete.es/evento/charla-taller-los-tres-primeros-anos-vida/
LOCATION:Centro de Mayores Los Canteros de Alpedrete\, Plaza de la Constitución\, s/n\, Alpedrete\, España
CATEGORIES:Charla,Taller
ATTACH;FMTTYPE=image/jpeg:https://preproduccion.alpedrete.es/wp-content/uploads/2017/06/Sin-título-1-1.jpg
GEO:40.6602075;-4.0254104
X-APPLE-STRUCTURED-LOCATION;VALUE=URI;X-ADDRESS=Centro de Mayores Los Canteros de Alpedrete Plaza de la Constitución s/n Alpedrete España;X-APPLE-RADIUS=500;X-TITLE=Plaza de la Constitución\, s/n:geo:-4.0254104,40.6602075
END:VEVENT
BEGIN:VEVENT
DTSTART;TZID=Europe/Madrid:20170610T100000
DTEND;TZID=Europe/Madrid:20170610T133000
DTSTAMP:20260420T184123
CREATED:20170601T124105Z
LAST-MODIFIED:20170601T124733Z
UID:15190-1497088800-1497101400@preproduccion.alpedrete.es
SUMMARY:Observación de las aves urbanas
DESCRIPTION:El sábado 10 de junio el Ayuntamiento de Alpedrete y SEO/BirdLife (Sociedad Española de Ornitología) han programado una jornada para conocer las aves urbanas\, algunas tan cercanas y populares como los aviones\, vencejos\, gorriones o cigüeñas. \nEl objetivo es acercar esas aves\, y para ello se instalará un puesto de observación en la Plaza de la Villa. La actividad se divide en dos partes. Los participantes podrán conocer de cerca las aves urbanas a través de un telescopio y realizarán una ruta por el municipio en busca de aviones\, entre otras aves. La senda comenzará en la Plaza de la Villa y se realizarán dos turnos. El horario previsto es de 10:00 de la mañana a 13:30 de la tarde. No es necesaria inscripción\, pero se pide puntualidad para poder organizar las sendas. \nMás información: Observación de las aves urbanas
URL:https://preproduccion.alpedrete.es/evento/observacion-las-aves-urbanas/
LOCATION:Plaza de la Villa\, Plaza de la Villa\, Alpedrete\, 28430 \, España
CATEGORIES:Taller
ATTACH;FMTTYPE=image/jpeg:https://preproduccion.alpedrete.es/wp-content/uploads/2017/06/Sin-título-1.jpg
GEO:40.6589274;-4.0239866
X-APPLE-STRUCTURED-LOCATION;VALUE=URI;X-ADDRESS=Plaza de la Villa Plaza de la Villa Alpedrete 28430  España;X-APPLE-RADIUS=500;X-TITLE=Plaza de la Villa:geo:-4.0239866,40.6589274
END:VEVENT
BEGIN:VEVENT
DTSTART;TZID=Europe/Madrid:20170610T120000
DTEND;TZID=Europe/Madrid:20170610T150000
DTSTAMP:20260420T184123
CREATED:20170605T125316Z
LAST-MODIFIED:20170605T125316Z
UID:15295-1497096000-1497106800@preproduccion.alpedrete.es
SUMMARY:4º Giro de Girando por Plazas
DESCRIPTION:Cuarto fin de semana de eventos al ritmo de Girando por Plazas\, una iniciativa en la que actuaciones musicales\, teatrales\, danza\, títeres y marionetas recorren las plazas de Alpedrete. \nEl sábado 10 de junio\, entre las 12:00 de la mañana y las 15:00 de la tarde\, cobra especial protagonismo la Escuela Municipal de Música y Danza de Alpedrete con la actuación de los grupos de clarinete\, percusión\, flautas y saxos más viento metal. Además de las EMMD\, en las plazas actuarán las marionetas de Okarino Trapisonda\, y el grupo Potato Omelette.
URL:https://preproduccion.alpedrete.es/evento/4o-giro-girando-plazas/
LOCATION:Alpedrete\, Alpedrete\, Madrid\, 28430\, España
CATEGORIES:Música,Teatro
ATTACH;FMTTYPE=image/jpeg:https://preproduccion.alpedrete.es/wp-content/uploads/2017/06/Sin-título-1-5.jpg
END:VEVENT
BEGIN:VEVENT
DTSTART;TZID=Europe/Madrid:20170610T193000
DTEND;TZID=Europe/Madrid:20170610T203000
DTSTAMP:20260420T184123
CREATED:20170530T132654Z
LAST-MODIFIED:20170530T132654Z
UID:14980-1497123000-1497126600@preproduccion.alpedrete.es
SUMMARY:Teatro: El Principito
DESCRIPTION:La historia del Principito narra las aventuras de un niño que viene de un lejano planeta\, del tamaño de una cajita de juguete. En su viaje\, visita otros planetas con peculiares personajes hasta que finalmente llega a la Tierra\, en donde encuentra nuevos amigos y aprenden entre todos la importancia del amor y de la amistad. \nAdaptación y dirección de Saskia Sánchez. Representación a cargo de los alumnos del taller juvenil de teatro. \nEntrada libre hasta completar aforo. \n 
URL:https://preproduccion.alpedrete.es/evento/teatro-el-principito/
LOCATION:Casa de Cultura Asunción Balaguer\, Plaza Francisco Rabal\, 2\, Alpedrete\, Madrid\, 28430 \, España
CATEGORIES:Teatro
ATTACH;FMTTYPE=image/jpeg:https://preproduccion.alpedrete.es/wp-content/uploads/2017/05/el-principito-titulo.jpg
GEO:40.6621635;-4.031169
X-APPLE-STRUCTURED-LOCATION;VALUE=URI;X-ADDRESS=Casa de Cultura Asunción Balaguer Plaza Francisco Rabal 2 Alpedrete Madrid 28430  España;X-APPLE-RADIUS=500;X-TITLE=Plaza Francisco Rabal\, 2:geo:-4.031169,40.6621635
END:VEVENT
END:VCALENDAR