BEGIN:VCALENDAR
VERSION:2.0
PRODID:-//Web Ayuntamiento de Alpedrete - ECPv6.9.0//NONSGML v1.0//EN
CALSCALE:GREGORIAN
METHOD:PUBLISH
X-ORIGINAL-URL:https://preproduccion.alpedrete.es
X-WR-CALDESC:Eventos para Web Ayuntamiento de Alpedrete
REFRESH-INTERVAL;VALUE=DURATION:PT1H
X-Robots-Tag:noindex
X-PUBLISHED-TTL:PT1H
BEGIN:VTIMEZONE
TZID:Europe/Madrid
BEGIN:DAYLIGHT
TZOFFSETFROM:+0100
TZOFFSETTO:+0200
TZNAME:CEST
DTSTART:20170326T010000
END:DAYLIGHT
BEGIN:STANDARD
TZOFFSETFROM:+0200
TZOFFSETTO:+0100
TZNAME:CET
DTSTART:20171029T010000
END:STANDARD
END:VTIMEZONE
BEGIN:VEVENT
DTSTART;VALUE=DATE:20170721
DTEND;VALUE=DATE:20170731
DTSTAMP:20260420T184120
CREATED:20170426T130859Z
LAST-MODIFIED:20170426T134741Z
UID:13376-1500595200-1501459199@preproduccion.alpedrete.es
SUMMARY:Campamento náutico y multiaventura en Valdés (Asturias)
DESCRIPTION:El campamento de Valdés (Asturias) se encuentra dentro de la programación de la V Edición Verano Joven. Este campamento está destinado a niños  y jóvenes con edades comprendidas entre los 11 (nacidos en 2005) y 17 años. \nMás información: El Verano Joven ya está en Alpedrete \n\nFolleto verano joven 2017\nDossier informativo campamento Valdés
URL:https://preproduccion.alpedrete.es/evento/campamento-nautico-multiaventura-valdes-asturias/
CATEGORIES:Juventud
ATTACH;FMTTYPE=image/jpeg:https://preproduccion.alpedrete.es/wp-content/uploads/2017/04/guerra-de-agua.jpg
END:VEVENT
BEGIN:VEVENT
DTSTART;TZID=Europe/Madrid:20170728T220000
DTEND;TZID=Europe/Madrid:20170728T234500
DTSTAMP:20260420T184120
CREATED:20170619T114414Z
LAST-MODIFIED:20170626T084009Z
UID:15779-1501279200-1501285500@preproduccion.alpedrete.es
SUMMARY:Cine de verano. Buscando a Dory
DESCRIPTION:Un año después de los acontecimientos narrados en «Buscando a Nemo»\, Dory vive apaciblemente con Marlin y su hijo Nemo. Pero durante un viaje para ver cómo las mantarrayas migran de vuelta a casa\, los problemas de memoria de Dory parecen desaparecer durante un segundo: recuerda que tiene una familia e inmediatamente decide emprender viaje para reencontrarse con sus padres\, a los que perdió hace años. \nDuración: 103 min. Recomendada a partir de 6 años. \nTrailer oficial Buscando a Dory \n 
URL:https://preproduccion.alpedrete.es/evento/cine-verano-buscando-dory/
LOCATION:Plaza de la Villa\, Plaza de la Villa\, Alpedrete\, 28430 \, España
CATEGORIES:Cine
ATTACH;FMTTYPE=image/jpeg:https://preproduccion.alpedrete.es/wp-content/uploads/2017/06/dory.jpg
GEO:40.6589274;-4.0239866
X-APPLE-STRUCTURED-LOCATION;VALUE=URI;X-ADDRESS=Plaza de la Villa Plaza de la Villa Alpedrete 28430  España;X-APPLE-RADIUS=500;X-TITLE=Plaza de la Villa:geo:-4.0239866,40.6589274
END:VEVENT
END:VCALENDAR