BEGIN:VCALENDAR
VERSION:2.0
PRODID:-//Web Ayuntamiento de Alpedrete - ECPv6.9.0//NONSGML v1.0//EN
CALSCALE:GREGORIAN
METHOD:PUBLISH
X-WR-CALNAME:Web Ayuntamiento de Alpedrete
X-ORIGINAL-URL:https://preproduccion.alpedrete.es
X-WR-CALDESC:Eventos para Web Ayuntamiento de Alpedrete
REFRESH-INTERVAL;VALUE=DURATION:PT1H
X-Robots-Tag:noindex
X-PUBLISHED-TTL:PT1H
BEGIN:VTIMEZONE
TZID:Europe/Madrid
BEGIN:DAYLIGHT
TZOFFSETFROM:+0100
TZOFFSETTO:+0200
TZNAME:CEST
DTSTART:20180325T010000
END:DAYLIGHT
BEGIN:STANDARD
TZOFFSETFROM:+0200
TZOFFSETTO:+0100
TZNAME:CET
DTSTART:20181028T010000
END:STANDARD
END:VTIMEZONE
BEGIN:VEVENT
DTSTART;TZID=Europe/Madrid:20180604T100000
DTEND;TZID=Europe/Madrid:20180615T220000
DTSTAMP:20260420T124605
CREATED:20180606T115553Z
LAST-MODIFIED:20180606T115553Z
UID:21522-1528106400-1529100000@preproduccion.alpedrete.es
SUMMARY:Exposición de pintura
DESCRIPTION:Exposición de los trabajos realizados por todos los alumnos del taller de pintura que imparte la profesora Elena Herrero.
URL:https://preproduccion.alpedrete.es/evento/exposicion-de-pintura-2/
CATEGORIES:Arte/Pintura
ATTACH;FMTTYPE=image/jpeg:https://preproduccion.alpedrete.es/wp-content/uploads/2018/06/Imagen12.jpg
END:VEVENT
BEGIN:VEVENT
DTSTART;VALUE=DATE:20180609
DTEND;VALUE=DATE:20180611
DTSTAMP:20260420T124605
CREATED:20180509T114455Z
LAST-MODIFIED:20180509T114455Z
UID:20888-1528502400-1528675199@preproduccion.alpedrete.es
SUMMARY:Salida cultural a Valencia
DESCRIPTION:El Ayuntamiento de Alpedrete ha organizado una salida cultural a Valencia para el fin de semana del 9 y 10 de junio. Las inscripciones se pueden realizar entre el 11 y el 18 de mayo en la Casa Cultura Asunción Balaguer o llamando al teléfono 918571590. Cada persona únicamente puede inscribirse a sí misma y a un acompañante. \nEl precio general es de 160 euros por persona en habitación doble. Para los empadronados se hace una subvención del 30% y se queda en 110 euros por persona en habitación doble. El uso de habitación individual conlleva un suplemento de 44 euros en ambos casos. \nLa salida cultural incluye: Autobús de ida y vuelta\, alojamiento\, visita guiada al centro histórico\, visita guiada a la Albufera\, paseo en barco por la Albufera\, entrada al Oceanográfic + Le Hemisféric y pensión completa (1 desayuno\, 1 comida y 1 cena). La comida del sábado en el Oceanográfic es libre.
URL:https://preproduccion.alpedrete.es/evento/salida-cultural-a-valencia/
LOCATION:Casa de Cultura Asunción Balaguer\, Plaza Francisco Rabal\, 2\, Alpedrete\, Madrid\, 28430 \, España
CATEGORIES:Salida Cultural
ATTACH;FMTTYPE=image/jpeg:https://preproduccion.alpedrete.es/wp-content/uploads/2018/05/valencia-1888389_640.jpg
GEO:40.6621635;-4.031169
X-APPLE-STRUCTURED-LOCATION;VALUE=URI;X-ADDRESS=Casa de Cultura Asunción Balaguer Plaza Francisco Rabal 2 Alpedrete Madrid 28430  España;X-APPLE-RADIUS=500;X-TITLE=Plaza Francisco Rabal\, 2:geo:-4.031169,40.6621635
END:VEVENT
BEGIN:VEVENT
DTSTART;TZID=Europe/Madrid:20180609T100000
DTEND;TZID=Europe/Madrid:20180609T130000
DTSTAMP:20260420T124605
CREATED:20180530T095921Z
LAST-MODIFIED:20180530T095921Z
UID:21330-1528538400-1528549200@preproduccion.alpedrete.es
SUMMARY:Tejer para leer
DESCRIPTION:El 9 de junio en la Sala Infantil de la Biblioteca Municipal\, de 10:00 a 13:00h\, tendrá lugar otro sábado de «Tejer para Leer»\, impartido por la asociación IAIA. El proyecto tiene como objetivo dar abrigo a personas necesitadas al tiempo que se conciencia a la población sobre los efectos del cambio climático desde una perspectiva creativa. Despidiéndose hasta septiembre\, presentarán el Cuento SOS Cambio Climático. La actividad es gratuita y para todos los públicos. La presentación del cuento será a las 12 de la mañana para todo el público que quiera acudir\, tanto adultos como niños.
URL:https://preproduccion.alpedrete.es/evento/tejer-para-leer-11/
LOCATION:Biblioteca Municipal de Alpedrete\, Plaza Francisco Rabal\, 2\, Alpedrete\, 28430 \, España
CATEGORIES:Taller
ATTACH;FMTTYPE=image/jpeg:https://preproduccion.alpedrete.es/wp-content/uploads/2018/05/IAIA.jpg
GEO:40.6621635;-4.031169
X-APPLE-STRUCTURED-LOCATION;VALUE=URI;X-ADDRESS=Biblioteca Municipal de Alpedrete Plaza Francisco Rabal 2 Alpedrete 28430  España;X-APPLE-RADIUS=500;X-TITLE=Plaza Francisco Rabal\, 2:geo:-4.031169,40.6621635
END:VEVENT
BEGIN:VEVENT
DTSTART;TZID=Europe/Madrid:20180609T123000
DTEND;TZID=Europe/Madrid:20180609T144500
DTSTAMP:20260420T124605
CREATED:20180423T113718Z
LAST-MODIFIED:20180423T113718Z
UID:20631-1528547400-1528555500@preproduccion.alpedrete.es
SUMMARY:Girando por Plazas
DESCRIPTION:En mayo y junio se celebrará la tercera edición de Girando por Plazas\, un evento que nació en 2016 y a través del cual se pretende acercar a la ciudadanía distintas manifestaciones artísticas (música\, títeres\, danza\, cuentos\, zarzuela…) con su puesta en escena en diferentes lugares del municipio. \nLa dinámica de Girando por Plazas es que las actuaciones programadas se muevan por diferentes espacios\, en la edición 2018 los lugares elegidos son: las plazas de la Villa\, la Constitución\, Francisco Rabal\, Vicente Guillén Zamorano\, y los parques de Las Columnas y Los Negrales. \nLas fechas en las que se realizarán los “giros” son los días 12 y 26 de mayo\, el 9 y 23 de junio en el centro de Alpedrete\, y el 2 de junio en Los Negrales. Se han programado los “giros” de 12:30 de la mañana a las 14:45 de la tarde. El sábado 23 de junio\, además de la sesión de la mañana\, también se celebrará un “giro” nocturno que comenzará a las 21:00 de la noche. \nMás información: Girando por Plazas 2018
URL:https://preproduccion.alpedrete.es/evento/girando-por-plazas-6/
LOCATION:Alpedrete\, Alpedrete\, Madrid\, 28430\, España
CATEGORIES:Música,Teatro
ATTACH;FMTTYPE=image/jpeg:https://preproduccion.alpedrete.es/wp-content/uploads/2018/04/Sin-título-1-5.jpg
END:VEVENT
END:VCALENDAR