BEGIN:VCALENDAR
VERSION:2.0
PRODID:-//Web Ayuntamiento de Alpedrete - ECPv6.9.0//NONSGML v1.0//EN
CALSCALE:GREGORIAN
METHOD:PUBLISH
X-ORIGINAL-URL:https://preproduccion.alpedrete.es
X-WR-CALDESC:Eventos para Web Ayuntamiento de Alpedrete
REFRESH-INTERVAL;VALUE=DURATION:PT1H
X-Robots-Tag:noindex
X-PUBLISHED-TTL:PT1H
BEGIN:VTIMEZONE
TZID:Europe/Madrid
BEGIN:DAYLIGHT
TZOFFSETFROM:+0100
TZOFFSETTO:+0200
TZNAME:CEST
DTSTART:20180325T010000
END:DAYLIGHT
BEGIN:STANDARD
TZOFFSETFROM:+0200
TZOFFSETTO:+0100
TZNAME:CET
DTSTART:20181028T010000
END:STANDARD
END:VTIMEZONE
BEGIN:VEVENT
DTSTART;TZID=Europe/Madrid:20180618T090000
DTEND;TZID=Europe/Madrid:20180630T220000
DTSTAMP:20260420T095718
CREATED:20180530T102015Z
LAST-MODIFIED:20180530T102015Z
UID:21339-1529312400-1530396000@preproduccion.alpedrete.es
SUMMARY:Muestra itinerante "Fotolectura 2017"
DESCRIPTION:La Casa de Cultura acoge del 18 al 30 de junio la muestra itinerante del certamen de Fotolectura 2017 titulada «Un lugar\, un sentimiento\, una compañía…» La exposición incluye la totalidad de los trabajos premiados en cada una de las 23 bibliotecas participantes en la última edición de Fotolectura. La ganadora de la fase final en la categoría infantil es la alpedreteña\, Alejandra Abad González\, con “La curiosidad de un niño”.
URL:https://preproduccion.alpedrete.es/evento/muestra-itinerante-fotolectura-2017/
CATEGORIES:Fotografía
ATTACH;FMTTYPE=image/jpeg:https://preproduccion.alpedrete.es/wp-content/uploads/2018/05/dasfwerg.jpg
END:VEVENT
BEGIN:VEVENT
DTSTART;TZID=Europe/Madrid:20180622T133000
DTEND;TZID=Europe/Madrid:20180622T150000
DTSTAMP:20260420T095718
CREATED:20180619T143911Z
LAST-MODIFIED:20180619T150141Z
UID:21652-1529674200-1529679600@preproduccion.alpedrete.es
SUMMARY:Pleno Extraordinario
DESCRIPTION:Concovada Sesión Extraordinaria del Pleno del Ayuntamiento de Alpedrete que se celebrará el 22 de junio a las 13:30 de la mañana en el salón de actos de la Casa de Cultura Asunción Balaguer. \nEl Pleno del Ayuntamiento de Alpedrete tiene dos puntos en el orden del día. \n\nPrimero: Suplemento de Crédito\nSegundo: Crédito Extraordinario\n\nDecreto de convocatoria
URL:https://preproduccion.alpedrete.es/evento/pleno-extraordinario-3/
LOCATION:Casa de Cultura Asunción Balaguer\, Plaza Francisco Rabal\, 2\, Alpedrete\, Madrid\, 28430 \, España
CATEGORIES:Pleno
ATTACH;FMTTYPE=image/jpeg:https://preproduccion.alpedrete.es/wp-content/uploads/2018/06/pleno.jpg
GEO:40.6621635;-4.031169
X-APPLE-STRUCTURED-LOCATION;VALUE=URI;X-ADDRESS=Casa de Cultura Asunción Balaguer Plaza Francisco Rabal 2 Alpedrete Madrid 28430  España;X-APPLE-RADIUS=500;X-TITLE=Plaza Francisco Rabal\, 2:geo:-4.031169,40.6621635
END:VEVENT
BEGIN:VEVENT
DTSTART;TZID=Europe/Madrid:20180622T210000
DTEND;TZID=Europe/Madrid:20180622T220000
DTSTAMP:20260420T095718
CREATED:20180606T112718Z
LAST-MODIFIED:20180606T112718Z
UID:21510-1529701200-1529704800@preproduccion.alpedrete.es
SUMMARY:Fin de curso de Bollywood
DESCRIPTION:Festival a cargo de las alumnas del taller de Bollywood dirigidas por su profesora África T.H. y artistas invitadas. Entrada libre hasta completar aforo.
URL:https://preproduccion.alpedrete.es/evento/fin-de-curso-de-bollywood/
LOCATION:Casa de Cultura Asunción Balaguer\, Plaza Francisco Rabal\, 2\, Alpedrete\, Madrid\, 28430 \, España
CATEGORIES:Baile/Danza
ATTACH;FMTTYPE=image/jpeg:https://preproduccion.alpedrete.es/wp-content/uploads/2018/06/Imagen9.jpg
GEO:40.6621635;-4.031169
X-APPLE-STRUCTURED-LOCATION;VALUE=URI;X-ADDRESS=Casa de Cultura Asunción Balaguer Plaza Francisco Rabal 2 Alpedrete Madrid 28430  España;X-APPLE-RADIUS=500;X-TITLE=Plaza Francisco Rabal\, 2:geo:-4.031169,40.6621635
END:VEVENT
BEGIN:VEVENT
DTSTART;TZID=Europe/Madrid:20180622T210000
DTEND;TZID=Europe/Madrid:20180622T220000
DTSTAMP:20260420T095718
CREATED:20180613T111832Z
LAST-MODIFIED:20180613T111832Z
UID:21581-1529701200-1529704800@preproduccion.alpedrete.es
SUMMARY:La noche de San Juan en Alpedrete
DESCRIPTION:El Ayuntamiento de Alpedrete ha programado para la noche de San Juan el espectáculo “Sol-stitiutm tempore”. Se trata de una propuesta narrativo-musical de Miguel Ángel Nava creada para celebrar el solsticio de verano. Las 21:00 de la noche es la hora prevista para que palabra y música caminen hacia el verano. El lugar elegido para hacerlo es la Dehesa Municipal (al lado de la conocida como cantera de las truchas).
URL:https://preproduccion.alpedrete.es/evento/la-noche-de-san-juan-en-alpedrete/
CATEGORIES:Cuentacuentos,Música
ATTACH;FMTTYPE=image/jpeg:https://preproduccion.alpedrete.es/wp-content/uploads/2018/06/Sin-título-1-6.jpg
END:VEVENT
END:VCALENDAR