BEGIN:VCALENDAR
VERSION:2.0
PRODID:-//Web Ayuntamiento de Alpedrete - ECPv6.9.0//NONSGML v1.0//EN
CALSCALE:GREGORIAN
METHOD:PUBLISH
X-WR-CALNAME:Web Ayuntamiento de Alpedrete
X-ORIGINAL-URL:https://preproduccion.alpedrete.es
X-WR-CALDESC:Eventos para Web Ayuntamiento de Alpedrete
REFRESH-INTERVAL;VALUE=DURATION:PT1H
X-Robots-Tag:noindex
X-PUBLISHED-TTL:PT1H
BEGIN:VTIMEZONE
TZID:Europe/Madrid
BEGIN:DAYLIGHT
TZOFFSETFROM:+0100
TZOFFSETTO:+0200
TZNAME:CEST
DTSTART:20180325T010000
END:DAYLIGHT
BEGIN:STANDARD
TZOFFSETFROM:+0200
TZOFFSETTO:+0100
TZNAME:CET
DTSTART:20181028T010000
END:STANDARD
END:VTIMEZONE
BEGIN:VEVENT
DTSTART;TZID=Europe/Madrid:20180618T090000
DTEND;TZID=Europe/Madrid:20180630T220000
DTSTAMP:20260419T211914
CREATED:20180530T102015Z
LAST-MODIFIED:20180530T102015Z
UID:21339-1529312400-1530396000@preproduccion.alpedrete.es
SUMMARY:Muestra itinerante "Fotolectura 2017"
DESCRIPTION:La Casa de Cultura acoge del 18 al 30 de junio la muestra itinerante del certamen de Fotolectura 2017 titulada «Un lugar\, un sentimiento\, una compañía…» La exposición incluye la totalidad de los trabajos premiados en cada una de las 23 bibliotecas participantes en la última edición de Fotolectura. La ganadora de la fase final en la categoría infantil es la alpedreteña\, Alejandra Abad González\, con “La curiosidad de un niño”.
URL:https://preproduccion.alpedrete.es/evento/muestra-itinerante-fotolectura-2017/
CATEGORIES:Fotografía
ATTACH;FMTTYPE=image/jpeg:https://preproduccion.alpedrete.es/wp-content/uploads/2018/05/dasfwerg.jpg
END:VEVENT
BEGIN:VEVENT
DTSTART;VALUE=DATE:20180624
DTEND;VALUE=DATE:20180625
DTSTAMP:20260419T211914
CREATED:20180618T123752Z
LAST-MODIFIED:20180618T123752Z
UID:21621-1529798400-1529884799@preproduccion.alpedrete.es
SUMMARY:V Carrera solidaria Las Dehesas
DESCRIPTION:El próximo 24 de junio se celebrará la V Carrera Solidaria Las Dehesas\, que se realiza sobre dos recorridos de 4 y 10 kilómetros. Se trata de un recorrido mixto por las calles de Alpedrete y su entorno natural. \nLos corredores que deseen participar deben inscribirse ante del 15 de junio\, a partir de esa fecha no se permitirán inscripciones. Más información: V Carrera Solidaria Las Dehesas
URL:https://preproduccion.alpedrete.es/evento/v-carrera-solidaria-las-dehesas/
LOCATION:Alpedrete\, Alpedrete\, Madrid\, 28430\, España
CATEGORIES:Deportes
ATTACH;FMTTYPE=image/jpeg:https://preproduccion.alpedrete.es/wp-content/uploads/2018/06/carrera-solidaria.jpg
END:VEVENT
BEGIN:VEVENT
DTSTART;TZID=Europe/Madrid:20180624T130000
DTEND;TZID=Europe/Madrid:20180624T143000
DTSTAMP:20260419T211914
CREATED:20180624T101622Z
LAST-MODIFIED:20180624T101622Z
UID:21686-1529845200-1529850600@preproduccion.alpedrete.es
SUMMARY:Festival Stone. Sexto concierto
DESCRIPTION:El sexto concierto previo de Festival Stone 2018 se decanta el domingo 24 de junio por la hora del aperitivo. A partir de las 13:00 de la tarde\, tres bandas ocuparán el escenario de Zona Peñalbar de Collado Villalba (c/ Doctor José María Poveda\, 9) en el penúltimo concierto antes de que el jurado haga público el nombre de las diez bandas que protagonizarán el concierto del próximo 1 de septiembre. \nLas tres bandas que entrarán en liza el próximo domingo son: \nMINIFUNDIO \nTHE SEASONGS \nSAILING STONES
URL:https://preproduccion.alpedrete.es/evento/festival-stone-sexto-concierto/
CATEGORIES:Concierto
ATTACH;FMTTYPE=image/jpeg:https://preproduccion.alpedrete.es/wp-content/uploads/2018/06/Sin-título-1-8.jpg
END:VEVENT
END:VCALENDAR