BEGIN:VCALENDAR
VERSION:2.0
PRODID:-//Web Ayuntamiento de Alpedrete - ECPv6.9.0//NONSGML v1.0//EN
CALSCALE:GREGORIAN
METHOD:PUBLISH
X-WR-CALNAME:Web Ayuntamiento de Alpedrete
X-ORIGINAL-URL:https://preproduccion.alpedrete.es
X-WR-CALDESC:Eventos para Web Ayuntamiento de Alpedrete
REFRESH-INTERVAL;VALUE=DURATION:PT1H
X-Robots-Tag:noindex
X-PUBLISHED-TTL:PT1H
BEGIN:VTIMEZONE
TZID:Europe/Madrid
BEGIN:DAYLIGHT
TZOFFSETFROM:+0100
TZOFFSETTO:+0200
TZNAME:CEST
DTSTART:20180325T010000
END:DAYLIGHT
BEGIN:STANDARD
TZOFFSETFROM:+0200
TZOFFSETTO:+0100
TZNAME:CET
DTSTART:20181028T010000
END:STANDARD
END:VTIMEZONE
BEGIN:VEVENT
DTSTART;TZID=Europe/Madrid:20180713T100000
DTEND;TZID=Europe/Madrid:20180716T233000
DTSTAMP:20260420T124608
CREATED:20180709T110855Z
LAST-MODIFIED:20180709T110855Z
UID:21941-1531476000-1531783800@preproduccion.alpedrete.es
SUMMARY:Fiestas del Carmen 2018
DESCRIPTION:Después de la Romería del pasado domingo en la que la Virgen de Carmen recorrió las calles del barrio de Los Negrales\, este fin de semana llega el momento cumbre de las Fiestas del Carmen 2018. Cuatro días de repletos de música\, juegos\, deportes y todo tipo de actividades pensadas para compartir. \nViernes 13 julio \n\n22:30 Pregón a cargo de Aída Crespo Guerra\n23:00 Orquesta “Sabor-Sabor”\n\nSábado 14 julio \n\n10:00 Diana floreada y pasacalle a cargo de la peña ¿A qué es Peras?\n11:00 Encierro infantil\n12:00 Juegos infantiles organizados por la Escuela Infantil Pequeguay (parque del Hogar del Pensionista)\n13:00 I Pasacalle de la cerveza\n17:00 Torneo de mus en el Asador Depedro\n17:00 II Torneo de fútbol sala (20 € por equipo. Máximo 8 jugadores)\n19:00 Torneo de petanca\n22:30 I sangriada\n23:00 Orquesta Impulso\n\nDomingo 15 julio \n\n10:30 Encierro infantil\n11:00 Juegos de agua (parque de Los Negrales)\n12:00 I Concentración de vehículos clásicos Los Negrales\n12:15 Ofrenda floral e imposición de medallas a los nuevos cofrades\n13:00 Tradicional degustación de aperitivos en el Asador Depedro (las bebidas se abonarán por separado)\n17:00 Torneo 3X3 de baloncesto\n19:00 Torneo de rana\n21:00 Peque disco\n22:00 Música\n\nLunes 16 de julio \n\n12:00 Día del abuelo y el nieto\n14:00 Degustación de vino español y paella\n20:00 Santa Misa y procesión en honor de la Virgen del Carmen acompañada por la Banda Municipal de Música de Alpedrete\n23:00 Tradicional “Pobre del Mí”\n24:00 Castillo de fuegos artificiales en el parque de Romacaladeras\n\n 
URL:https://preproduccion.alpedrete.es/evento/fiestas-del-carmen-2018/
LOCATION:Los Negrales
CATEGORIES:Fiesta
ATTACH;FMTTYPE=image/jpeg:https://preproduccion.alpedrete.es/wp-content/uploads/2018/07/x.jpg
END:VEVENT
BEGIN:VEVENT
DTSTART;TZID=Europe/Madrid:20180713T193000
DTEND;TZID=Europe/Madrid:20180713T203000
DTSTAMP:20260420T124608
CREATED:20180629T105920Z
LAST-MODIFIED:20180629T105920Z
UID:21818-1531510200-1531513800@preproduccion.alpedrete.es
SUMMARY:"4 eses".Presentación literaria
DESCRIPTION:Juan Barreno Villar\, vecino de Guadarrama\, presentará su cuarto libro de poesía\, titulado «4 eses» el viernes 13 de julio a las 19:30 de la tarde\, en la Casa de Cultura Asunción Balaguer. La entrada es libre hasta completar aforo. Tras la presentación habrá un coloquio abierto al público y se podrá adquirir su obra dedicada. \nEn el prólogo de la obra Amelia López explica que «Juan navega por Sensaciones y Sentimientos desnudos\, sinceros y\, a veces\, desgarrados. Y las palabras bailan de puntillas para crear imágenes con su estela que le hablan de tú a tú al alma del lector\, sembrando preguntas sin respuesta\, y dejando al descubierto temores ancestrales». Juan dice que su poesía es como su carácter\, vehemencia pura. Brota en él sin permiso y como el nacimiento de un diente\, rompe la encía de su alma y un dolor inexplicable ahoga. \n 
URL:https://preproduccion.alpedrete.es/evento/4-eses-presentacion-literaria/
LOCATION:Casa de Cultura Asunción Balaguer\, Plaza Francisco Rabal\, 2\, Alpedrete\, Madrid\, 28430 \, España
CATEGORIES:Literatura
ATTACH;FMTTYPE=image/jpeg:https://preproduccion.alpedrete.es/wp-content/uploads/2018/06/Sin-título-1-17.jpg
GEO:40.6621635;-4.031169
X-APPLE-STRUCTURED-LOCATION;VALUE=URI;X-ADDRESS=Casa de Cultura Asunción Balaguer Plaza Francisco Rabal 2 Alpedrete Madrid 28430  España;X-APPLE-RADIUS=500;X-TITLE=Plaza Francisco Rabal\, 2:geo:-4.031169,40.6621635
END:VEVENT
BEGIN:VEVENT
DTSTART;TZID=Europe/Madrid:20180713T220000
DTEND;TZID=Europe/Madrid:20180713T235900
DTSTAMP:20260420T124608
CREATED:20180625T125349Z
LAST-MODIFIED:20180625T125349Z
UID:21730-1531519200-1531526340@preproduccion.alpedrete.es
SUMMARY:Un monstruo viene a verme
DESCRIPTION:Cine de Verano\, dentro de la programación estival #MiAlpedrete es Cultura. \nTras la separación de sus padres\, Connor (Lewis MacDougall)\, un chico de 12 años\, tendrá que ocuparse de llevar las riendas de la casa\, pues su madre (Felicity Jones) está enferma de cáncer. Así las cosas\, el niño intentará superar sus miedos y fobias con la ayuda de un monstruo (Liam Neeson)\, pero sus fantasías tendrán que enfrentarse no sólo con la realidad\, sino con su fría y calculadora abuela (Sigourney Weaver). Duración: 108min. No recomendada a menores de 12 años. \n 
URL:https://preproduccion.alpedrete.es/evento/un-monstruo-viene-a-verme/
LOCATION:Plaza de la Villa\, Plaza de la Villa\, Alpedrete\, 28430 \, España
CATEGORIES:Cine
ATTACH;FMTTYPE=image/jpeg:https://preproduccion.alpedrete.es/wp-content/uploads/2018/06/un-monstruo-660x400.jpg
GEO:40.6589274;-4.0239866
X-APPLE-STRUCTURED-LOCATION;VALUE=URI;X-ADDRESS=Plaza de la Villa Plaza de la Villa Alpedrete 28430  España;X-APPLE-RADIUS=500;X-TITLE=Plaza de la Villa:geo:-4.0239866,40.6589274
END:VEVENT
END:VCALENDAR