BEGIN:VCALENDAR
VERSION:2.0
PRODID:-//Web Ayuntamiento de Alpedrete - ECPv6.9.0//NONSGML v1.0//EN
CALSCALE:GREGORIAN
METHOD:PUBLISH
X-ORIGINAL-URL:https://preproduccion.alpedrete.es
X-WR-CALDESC:Eventos para Web Ayuntamiento de Alpedrete
REFRESH-INTERVAL;VALUE=DURATION:PT1H
X-Robots-Tag:noindex
X-PUBLISHED-TTL:PT1H
BEGIN:VTIMEZONE
TZID:Europe/Madrid
BEGIN:DAYLIGHT
TZOFFSETFROM:+0100
TZOFFSETTO:+0200
TZNAME:CEST
DTSTART:20180325T010000
END:DAYLIGHT
BEGIN:STANDARD
TZOFFSETFROM:+0200
TZOFFSETTO:+0100
TZNAME:CET
DTSTART:20181028T010000
END:STANDARD
END:VTIMEZONE
BEGIN:VEVENT
DTSTART;TZID=Europe/Madrid:20180910T090000
DTEND;TZID=Europe/Madrid:20180922T220000
DTSTAMP:20260421T061240
CREATED:20180904T163437Z
LAST-MODIFIED:20180904T163437Z
UID:22489-1536570000-1537653600@preproduccion.alpedrete.es
SUMMARY:"Paseando por los bosques"\, exposición de pintura
DESCRIPTION:Amparo Ciruelos presenta la exposición de pintura «Paseando por los bosques» en la Casa de Cultura Asunción Balaguer del 10 al 22 de septiembre. Se trata de una exposición de óleos sobre lienzo en los que la autora\, con un tono impresionista\, nos muestra su mirada de distintos lugares\, bosques todos\, por los que los colores pasean. La exposición podrá visitarse en horario de 9.00 a 22.00h de lunes a viernes y los sábados de 10.00 a 14.00h. \n 
URL:https://preproduccion.alpedrete.es/evento/paseando-por-los-bosques-exposicion-de-pintura/
LOCATION:Alpedrete\, Madrid\, 28430\, España
CATEGORIES:Arte/Pintura
ATTACH;FMTTYPE=image/gif:https://preproduccion.alpedrete.es/wp-content/uploads/2018/09/Sin-título-5.gif
GEO:40.6716505;-4.013361
END:VEVENT
BEGIN:VEVENT
DTSTART;TZID=Europe/Madrid:20180921T180000
DTEND;TZID=Europe/Madrid:20180921T190000
DTSTAMP:20260421T061240
CREATED:20180913T133801Z
LAST-MODIFIED:20180913T133801Z
UID:22640-1537552800-1537556400@preproduccion.alpedrete.es
SUMMARY:Ruta en bicicleta. Semana de la Movilidad
DESCRIPTION:El Ayuntamiento de Alpedrete\, por cuarto año consecutivo\, se suma a la Semana Europea de la Movilidad 2018\, que se celebrará del 16 al 22 de septiembre. En 2017 participaron en todo el mundo 2.526 ciudades\, 467 de ellas en España. Alpedrete fue uno de esos municipios\, y este año repite la experiencia. \nEl lema elegido este año por la Comisión Europea es “Combina y Muévete” (con la correspondiente etiqueta #combinaymuevete). La idea que expresa ese lema es el fomento del uso y combinación de diferentes modos de transporte en los desplazamientos urbanos de personas y mercancías para conseguir mayor eficiencia\, rapidez\, ahorro y sostenibilidad. \nEl Ayuntamiento de Alpedrete promueve la Semana de la Movilidad añadiendo cinco palabras al lema europeo: Patina\, pedalea\, corre\, salta\, camina. Las actividades previstas se desarrollarán entre el jueves 20 y el domingo 23 de septiembre. Cine\, rutas a pie y en bici\, peatonalización del centro del municipio o taller de arreglo e intercambio de bicicletas. \nViernes 21 de septiembre \n\n\n\nRuta en BICICLETA por Alpedrete. La caravana ciclista partirá de la Plaza de la Villa a las 18:00 de la tarde. Lo hará con un “Metrominuto” en mano\, el plano que el Ayuntamiento de Alpedrete puso a disposición de la ciudadanía el pasado mes de mayo en el que se mide el tiempo aproximado que se tarda en recorrer el mismo trayecto a pie\, en bicicleta y en coche.\nRuta segura por las calles del municipio apta para todas las edades\, con la colaboración de Ampedrete (Asociaciones de padres y madres de Alpedrete)\, La Peña Ciclista de Alpedrete y Bicisierra.
URL:https://preproduccion.alpedrete.es/evento/ruta-en-bicicleta-semana-de-la-movilidad/
LOCATION:Alpedrete\, Madrid\, 28430\, España
CATEGORIES:Medioambiente
ATTACH;FMTTYPE=image/jpeg:https://preproduccion.alpedrete.es/wp-content/uploads/2018/09/semana-movilidad-banner.jpg
END:VEVENT
BEGIN:VEVENT
DTSTART;TZID=Europe/Madrid:20180921T190000
DTEND;TZID=Europe/Madrid:20180921T200000
DTSTAMP:20260421T061240
CREATED:20180904T162618Z
LAST-MODIFIED:20180904T162618Z
UID:22485-1537556400-1537560000@preproduccion.alpedrete.es
SUMMARY:"Enseñanzas de una silla"\, presentación literaria
DESCRIPTION:Presentación del libro de Marta López Blanco titulado «Enseñanzas de una silla». La autora nos adentra en el universo de las sillas que en su hacer cotidiano nos acompañan día a día y nos van haciendo comprender quiénes somos\, buscando la brevedad y la sencillez de las imágenes. Enseñanzas de una silla se asoma a lo extraordinario dentro de lo cotidiano con una mirada cargada de humor\, amor y curiosidad. No hay dos sillas iguales como no hay dos lectores iguales. Entrada libre. Coloquio tras la presentación con la autora. \nViernes 21 de septiembre a las 19:00 de la tarde en la sala infantil de la Biblioteca Municipal.
URL:https://preproduccion.alpedrete.es/evento/ensenanzas-de-una-silla-presentacion-literaria/
LOCATION:Alpedrete\, Madrid\, 28430\, España
CATEGORIES:Taller
ATTACH;FMTTYPE=image/gif:https://preproduccion.alpedrete.es/wp-content/uploads/2018/09/Sin-título-4.gif
END:VEVENT
END:VCALENDAR