BEGIN:VCALENDAR
VERSION:2.0
PRODID:-//Web Ayuntamiento de Alpedrete - ECPv6.9.0//NONSGML v1.0//EN
CALSCALE:GREGORIAN
METHOD:PUBLISH
X-ORIGINAL-URL:https://preproduccion.alpedrete.es
X-WR-CALDESC:Eventos para Web Ayuntamiento de Alpedrete
REFRESH-INTERVAL;VALUE=DURATION:PT1H
X-Robots-Tag:noindex
X-PUBLISHED-TTL:PT1H
BEGIN:VTIMEZONE
TZID:Europe/Madrid
BEGIN:DAYLIGHT
TZOFFSETFROM:+0100
TZOFFSETTO:+0200
TZNAME:CEST
DTSTART:20180325T010000
END:DAYLIGHT
BEGIN:STANDARD
TZOFFSETFROM:+0200
TZOFFSETTO:+0100
TZNAME:CET
DTSTART:20181028T010000
END:STANDARD
END:VTIMEZONE
BEGIN:VEVENT
DTSTART;TZID=Europe/Madrid:20180910T090000
DTEND;TZID=Europe/Madrid:20180922T220000
DTSTAMP:20260421T061229
CREATED:20180904T163437Z
LAST-MODIFIED:20180904T163437Z
UID:22489-1536570000-1537653600@preproduccion.alpedrete.es
SUMMARY:"Paseando por los bosques"\, exposición de pintura
DESCRIPTION:Amparo Ciruelos presenta la exposición de pintura «Paseando por los bosques» en la Casa de Cultura Asunción Balaguer del 10 al 22 de septiembre. Se trata de una exposición de óleos sobre lienzo en los que la autora\, con un tono impresionista\, nos muestra su mirada de distintos lugares\, bosques todos\, por los que los colores pasean. La exposición podrá visitarse en horario de 9.00 a 22.00h de lunes a viernes y los sábados de 10.00 a 14.00h. \n 
URL:https://preproduccion.alpedrete.es/evento/paseando-por-los-bosques-exposicion-de-pintura/
LOCATION:Alpedrete\, Madrid\, 28430\, España
CATEGORIES:Arte/Pintura
ATTACH;FMTTYPE=image/gif:https://preproduccion.alpedrete.es/wp-content/uploads/2018/09/Sin-título-5.gif
GEO:40.6716505;-4.013361
END:VEVENT
BEGIN:VEVENT
DTSTART;TZID=Europe/Madrid:20180922T090000
DTEND;TZID=Europe/Madrid:20180922T130000
DTSTAMP:20260421T061229
CREATED:20180914T121348Z
LAST-MODIFIED:20180914T121348Z
UID:22653-1537606800-1537621200@preproduccion.alpedrete.es
SUMMARY:Marcha solidaria. Semana de la movilidad
DESCRIPTION:El Ayuntamiento de Alpedrete\, por cuarto año consecutivo\, se suma a la Semana Europea de la Movilidad 2018\, que se celebrará del 16 al 22 de septiembre. En 2017 participaron en todo el mundo 2.526 ciudades\, 467 de ellas en España. Alpedrete fue uno de esos municipios\, y este año repite la experiencia. \nEl lema elegido este año por la Comisión Europea es “Combina y Muévete” (con la correspondiente etiqueta #combinaymuevete). La idea que expresa ese lema es el fomento del uso y combinación de diferentes modos de transporte en los desplazamientos urbanos de personas y mercancías para conseguir mayor eficiencia\, rapidez\, ahorro y sostenibilidad. \nEl Ayuntamiento de Alpedrete promueve la Semana de la Movilidad añadiendo cinco palabras al lema europeo: Patina\, pedalea\, corre\, salta\, camina. Las actividades previstas se desarrollarán entre el jueves 20 y el domingo 23 de septiembre. Cine\, rutas a pie y en bici\, peatonalización del centro del municipio o taller de arreglo e intercambio de bicicletas. \nSábado 22 de septiembre \n\nMarcha a pie de Alpedrete a Los Molinos por el Camino de los Pastores. Salida a las 09:00 de la mañana desde la calle de Los Molinos esquina con la calle Palmira.\nCaracterísticas de la ruta. La distancia de la ruta es de unos 15 kilómetros (7\,5 km ida y 7\,5 km vuelta). El perfil es prácticamente llano. El tiempo aproximado por trayecto es de dos horas y cuarto. El camino propuesto transcurre entre la calle de los Molinos (en Alpedrete) y la estación de Renfe del municipio de Los Molinos\, de tal manera que quien lo desee puede regresar en tren a Alpedrete. No hay fuentes de agua potable por el camino y se recomienda utilizar calzado adecuado.\nActividad solidaria. El precio por la participación es de 5 euros por familia o 3 euros si se acude de forma individual que se abonará en la Ciudad Deportiva Municipal o al comienzo de la marcha. Esta actividad se realiza de acuerdo al convenio firmado entre el Ayuntamiento de Alpedrete y ADIP Proyecto Alpedrete.\nLa recaudación será para la fundación GIL GAYARRE\, asociación sin ánimo de lucro que se creó en 1958. Su objetivo fundacional es apoyar el proyecto de vida de las personas con discapacidad intelectual y su familia\, así como la defensa de sus derechos como ciudadanos para que alcancen el mayor grado de inclusión social posible. La Fundación promueve alianzas con otras organizaciones\, universidades\, empresas y administraciones públicas.\nRuta organizada en colaboración con ADESGAM (la ruta que se realizará es la nº15 de la Red de Caminos de la Sierra de Guadarrama\, excepto algunas pequeñas modificaciones).
URL:https://preproduccion.alpedrete.es/evento/marcha-solidaria-semana-de-la-movilidad/
LOCATION:Alpedrete\, Alpedrete\, Madrid\, 28430\, España
CATEGORIES:Medioambiente
ATTACH;FMTTYPE=image/jpeg:https://preproduccion.alpedrete.es/wp-content/uploads/2018/09/marcha-a-los-molinos.jpg
END:VEVENT
BEGIN:VEVENT
DTSTART;TZID=Europe/Madrid:20180922T120000
DTEND;TZID=Europe/Madrid:20180922T130000
DTSTAMP:20260421T061229
CREATED:20180904T170211Z
LAST-MODIFIED:20180904T170211Z
UID:22500-1537617600-1537621200@preproduccion.alpedrete.es
SUMMARY:Cuenta cuentos en inglés
DESCRIPTION:A cargo de Chameleon Theatre con Mike Schaupp en la Biblioteca Municipal de la Casa de Cultura Asunción Balaguer. Entrada gratuita. \n\nSábado 22 de septiembre\, 12:00 horas. «Star Words».\nSábado 29 de septiembre\, 12:00 horas. «The game show».\n\n 
URL:https://preproduccion.alpedrete.es/evento/cuenta-cuentos-en-ingles/
LOCATION:Biblioteca Municipal\, Plaza de Francisco Rabal\, Alpedrete\, Madrid\, 28430\, España
CATEGORIES:Cuentacuentos
ATTACH;FMTTYPE=image/gif:https://preproduccion.alpedrete.es/wp-content/uploads/2018/09/Sin-título-8.gif
GEO:40.65755;-4.02389
X-APPLE-STRUCTURED-LOCATION;VALUE=URI;X-ADDRESS=Biblioteca Municipal Plaza de Francisco Rabal Alpedrete Madrid 28430 España;X-APPLE-RADIUS=500;X-TITLE=Plaza de Francisco Rabal:geo:-4.02389,40.65755
END:VEVENT
BEGIN:VEVENT
DTSTART;TZID=Europe/Madrid:20180922T123000
DTEND;TZID=Europe/Madrid:20180922T143000
DTSTAMP:20260421T061229
CREATED:20180919T082618Z
LAST-MODIFIED:20180919T082923Z
UID:22710-1537619400-1537626600@preproduccion.alpedrete.es
SUMMARY:Exhibición canina en favor del AFALPE
DESCRIPTION:El Ayuntamiento de Alpedrete colabora con AFALPE (Asociación de Familiares de Enfermos de Alzheimer y otras Demencias de Alpedrete) en la exhibición de los perros adiestrados del Centro Militar Canino de la Defensa (CEMILCANDEF) que tendrá lugar el sábado 22 de septiembre a partir de las 12:30 de la mañana en la plaza de Francisco Rabal. \nLa exhibición\, que es gratuita\, se organiza por segundo año consecutivo con el propósito de reacudar fondos en favor de AFALPE adquiriendo las pañoletas solidarias y pulseras de AFALPE que se pueden encontrar en diversos comercios de la localidad y en el punto de información de la asociación el mismo día de la exhibición.
URL:https://preproduccion.alpedrete.es/evento/exhibicion-de-perros-en-favor-del-afalpe/
LOCATION:Plaza de Francisco Rabal\, Plaza de Francisco Rabal s/n\, Alpedrete\, Madrid\, 28430\, España
CATEGORIES:Exhibición
ATTACH;FMTTYPE=image/jpeg:https://preproduccion.alpedrete.es/wp-content/uploads/2018/09/alperrete-2018.jpg
GEO:40.6621635;-4.031169
X-APPLE-STRUCTURED-LOCATION;VALUE=URI;X-ADDRESS=Plaza de Francisco Rabal Plaza de Francisco Rabal s/n Alpedrete Madrid 28430 España;X-APPLE-RADIUS=500;X-TITLE=Plaza de Francisco Rabal s/n:geo:-4.031169,40.6621635
END:VEVENT
END:VCALENDAR