BEGIN:VCALENDAR
VERSION:2.0
PRODID:-//Web Ayuntamiento de Alpedrete - ECPv6.9.0//NONSGML v1.0//EN
CALSCALE:GREGORIAN
METHOD:PUBLISH
X-ORIGINAL-URL:https://preproduccion.alpedrete.es
X-WR-CALDESC:Eventos para Web Ayuntamiento de Alpedrete
REFRESH-INTERVAL;VALUE=DURATION:PT1H
X-Robots-Tag:noindex
X-PUBLISHED-TTL:PT1H
BEGIN:VTIMEZONE
TZID:Europe/Madrid
BEGIN:DAYLIGHT
TZOFFSETFROM:+0100
TZOFFSETTO:+0200
TZNAME:CEST
DTSTART:20180325T010000
END:DAYLIGHT
BEGIN:STANDARD
TZOFFSETFROM:+0200
TZOFFSETTO:+0100
TZNAME:CET
DTSTART:20181028T010000
END:STANDARD
END:VTIMEZONE
BEGIN:VEVENT
DTSTART;VALUE=DATE:20180923
DTEND;VALUE=DATE:20180924
DTSTAMP:20260421T061232
CREATED:20180829T112044Z
LAST-MODIFIED:20180829T112044Z
UID:22416-1537660800-1537747199@preproduccion.alpedrete.es
SUMMARY:Truequedrete: usa y reutiliza
DESCRIPTION:El mercadillo de intercambio denominado “Truequedrete” vuelve a las calles de Alpedrete el próximo 23 de septiembre durante la celebración de la Semana de la Movilidad (en esa fecha se propone únicamente el intercambio de bicicletas y/o elementos relacionados con la movilidad). A partir de entonces el mercadillo se realizará el segundo domingo de cada mes\, siendo la primera cita el 14 de octubre. \n“Truequedrete” es una actividad que surgió de un grupo de ciudadanos y que tras los encuentros de los últimos meses ha sido repensada por el Consejo Sectorial de Medio Ambiente del Ayuntamiento de Alpedrete. El propósito es fomentar la reutilización y evitar la llegada al vertedero de aquellos objetos que están en buen estado y aún pueden ser usados. \nLa novedad de “Truequedrete” es que además de intercambiar se va a permitir la venta y regalo de objetos\, según los requisitos definidos en las características de la actividad. Se trata de un espacio pensado exclusivamente para los vecinos de Alpedrete que participarán a título personal\, no como empresario\, profesional o autónomo. \nMás información: https://preproduccion.alpedrete.es/truequedrete-usa-y-reutiliza/ \n 
URL:https://preproduccion.alpedrete.es/evento/truequedrete-usa-y-reutiliza/
LOCATION:Calle Santa Quiteria s/n\, Calle Santa Quiteria\, Alpedrete\, Madrid\, 28430\, España
CATEGORIES:Medioambiente,Mercadillo
ATTACH;FMTTYPE=image/jpeg:https://preproduccion.alpedrete.es/wp-content/uploads/2018/08/Sin-título-1-4.jpg
GEO:40.6572467;-4.0211999
X-APPLE-STRUCTURED-LOCATION;VALUE=URI;X-ADDRESS=Calle Santa Quiteria s/n Calle Santa Quiteria Alpedrete Madrid 28430 España;X-APPLE-RADIUS=500;X-TITLE=Calle Santa Quiteria:geo:-4.0211999,40.6572467
END:VEVENT
BEGIN:VEVENT
DTSTART;TZID=Europe/Madrid:20180923T093000
DTEND;TZID=Europe/Madrid:20180923T150000
DTSTAMP:20260421T061233
CREATED:20180914T140055Z
LAST-MODIFIED:20180914T140331Z
UID:22657-1537695000-1537714800@preproduccion.alpedrete.es
SUMMARY:Truequedrete\, taller de bicicletas\, marcha popular ciclista... Semana Europea de la Movilidad
DESCRIPTION:El Ayuntamiento de Alpedrete\, por cuarto año consecutivo\, se suma a la Semana Europea de la Movilidad 2018\, que se celebrará del 16 al 22 de septiembre. En 2017 participaron en todo el mundo 2.526 ciudades\, 467 de ellas en España. Alpedrete fue uno de esos municipios\, y este año repite la experiencia. \nEl lema elegido este año por la Comisión Europea es “Combina y Muévete” (con la correspondiente etiqueta #combinaymuevete). La idea que expresa ese lema es el fomento del uso y combinación de diferentes modos de transporte en los desplazamientos urbanos de personas y mercancías para conseguir mayor eficiencia\, rapidez\, ahorro y sostenibilidad. \nEl Ayuntamiento de Alpedrete promueve la Semana de la Movilidad añadiendo cinco palabras al lema europeo: Patina\, pedalea\, corre\, salta\, camina. Las actividades previstas se desarrollarán entre el jueves 20 y el domingo 23 de septiembre. Cine\, rutas a pie y en bici\, peatonalización del centro del municipio o taller de arreglo e intercambio de bicicletas. \nDomingo 23 de septiembre \n\nMarcha Popular Ciclista. Salida a las 09:30 de la mañana desde la Plaza de Vicewnte Guillén Zamorano con la Peña Ciclista de Alpedrete. Llegada aproximada entre las 12:30 y las 13:30 h. El recorrido son 35 kilómetros que se pueden concultar pinchando en este enlace.\nPeatonalización del centro de Alpedrete. La calle Real permanecerá cortada de 11:00 de la mañana a 15:00 de la tarde al tráfico y los comerciantes que lo deseen podrán instalar sus puestos en la calle\, dejando espacio para que circulen las bicicletas y los peatones. Los comerciantes que deseen participar en esta actividad se deberán poner en contacto con la concejalía de medio ambiente a través del correo electrónico guiomar_romero@alpedrete.es\nPeatonalización de la calle Santa Quiteria. Como sucede todos los domingos\, permanecerá cerrada al tráfico entre las 11:00 de la mañana y las 15:00 de la tarde para poder patinar y montar en bicicleta.\nTaller de bicicletas. Villanueva Bike enseñará a arreglar pinchazos\, colocar la cadena de la bici… Además de la clase de mecánica\, se diseñará un circuito y se enseñarán técnicas para mejorar la manera de montar en bicicleta.\nTruequedrete. El objetivo es que quien lo desee pueda cambiar la bicicleta o accesorios que no le son útiles por otros que cubran las nuevas necesidades.\nEl taller de bicicletas y Truequedrete se instalarán en la calle Santa Quiteria a la altura del colegio El Peralejo.
URL:https://preproduccion.alpedrete.es/evento/22657/
LOCATION:Alpedrete\, Alpedrete\, Madrid\, 28430\, España
CATEGORIES:Medioambiente
ATTACH;FMTTYPE=image/jpeg:https://preproduccion.alpedrete.es/wp-content/uploads/2018/09/ALPEDRETE-SemanaDelaMovilidad-2018-cabecera600x400.jpg
END:VEVENT
BEGIN:VEVENT
DTSTART;TZID=Europe/Madrid:20180923T110000
DTEND;TZID=Europe/Madrid:20180923T140000
DTSTAMP:20260421T061233
CREATED:20180912T085752Z
LAST-MODIFIED:20180912T085752Z
UID:22616-1537700400-1537711200@preproduccion.alpedrete.es
SUMMARY:VI Milla Intergeneracional Los Llanos
DESCRIPTION:El Ayuntamiento de Alpedrete participa en la organización de la VI Milla Intergeneracional Siempre Vital Los Llanos\, que se celebrará el próximo 23 de septiembre a las 11:00 de la mañana en la residencia “Los Llanos Vital”. El objetivo de esta milla es la inclusión a través de la participación de todos. \nEn esta edición la Milla Intergeneracional incluye una novedad: su compromiso con la investigación científica a través de la recaudación de fondos. Será una carrera solidaria en la que las aportaciones económicas se realizará a través de PRECIPITA\, una plataforma especializada en promover la financiación de proyectos científicos a través de la recaudación popular. Serán los mayores quienes decidan a qué proyecto se destina el dinero obtenido. \nParticipar en la Milla Intergeneracional cuesta un máximo de 8 euros\, dependiendo de la modaliad de inscripción. Las inscripciones están abiertas hasta el 21 de septiembre. Para quienes no pueden o no desean correr\, pero sí quieren apoyar la investigación científica existe el “Dorsal 0” como manera de donación directa. A los dorsales cero se sumará el 50% del dinero obtenido a través de las inscripciones y de la venta de algunos productos durante el día de la celebración de la Milla.
URL:https://preproduccion.alpedrete.es/evento/vi-milla-intergeneracional-los-llanos/
LOCATION:Los Llanos Vital\, Miguel de Cervantes\, Alpedrete\, Madrid\, 28430\, España
CATEGORIES:Marcha,Salud
ATTACH;FMTTYPE=image/jpeg:https://preproduccion.alpedrete.es/wp-content/uploads/2018/09/IV_MillaIntergeneracional_LosLlanos_412.jpg
END:VEVENT
END:VCALENDAR