BEGIN:VCALENDAR
VERSION:2.0
PRODID:-//Web Ayuntamiento de Alpedrete - ECPv6.9.0//NONSGML v1.0//EN
CALSCALE:GREGORIAN
METHOD:PUBLISH
X-ORIGINAL-URL:https://preproduccion.alpedrete.es
X-WR-CALDESC:Eventos para Web Ayuntamiento de Alpedrete
REFRESH-INTERVAL;VALUE=DURATION:PT1H
X-Robots-Tag:noindex
X-PUBLISHED-TTL:PT1H
BEGIN:VTIMEZONE
TZID:Europe/Madrid
BEGIN:DAYLIGHT
TZOFFSETFROM:+0100
TZOFFSETTO:+0200
TZNAME:CEST
DTSTART:20180325T010000
END:DAYLIGHT
BEGIN:STANDARD
TZOFFSETFROM:+0200
TZOFFSETTO:+0100
TZNAME:CET
DTSTART:20181028T010000
END:STANDARD
END:VTIMEZONE
BEGIN:VEVENT
DTSTART;VALUE=DATE:20180925
DTEND;VALUE=DATE:20181019
DTSTAMP:20260421T061232
CREATED:20180926T094214Z
LAST-MODIFIED:20180926T094214Z
UID:22769-1537833600-1539907199@preproduccion.alpedrete.es
SUMMARY:Exposición Círculo de Pintores Solidarios
DESCRIPTION:El Círculo de Pintores Solidarios es una asociación cultural sin ánimo de lucro y solidaria entre cuyos objetivos se encuentran servir de plataforma para el desarrollo y promoción de los pintores noveles y contribuir a la unión de los artistas mediante el acercamiento\, difusión y fomento de la pintura en todas sus modalidades\, expresiones y orígenes.\nLa asociación nace con una seña de identidad particular y característica: la solidaridad. Actualmente la aportación solidaria de la asociación se canaliza a travésa través de Cruz Roja Española. \n\nDossier actividades Círculo de Pintores Solidarios
URL:https://preproduccion.alpedrete.es/evento/exposicion-circulo-de-pintores-solidarios/
LOCATION:Casa de Cultura Asunción Balaguer\, Plaza de Francisco Rabal\, Alpedrete\, Madrid\, 28430\, España
CATEGORIES:Exposición
ATTACH;FMTTYPE=image/jpeg:https://preproduccion.alpedrete.es/wp-content/uploads/2018/09/expo-circulo-pintores-solidarios.jpg
GEO:40.65755;-4.02389
X-APPLE-STRUCTURED-LOCATION;VALUE=URI;X-ADDRESS=Casa de Cultura Asunción Balaguer Plaza de Francisco Rabal Alpedrete Madrid 28430 España;X-APPLE-RADIUS=500;X-TITLE=Plaza de Francisco Rabal:geo:-4.02389,40.65755
END:VEVENT
BEGIN:VEVENT
DTSTART;TZID=Europe/Madrid:20180925T103000
DTEND;TZID=Europe/Madrid:20180925T143000
DTSTAMP:20260421T061232
CREATED:20180904T164450Z
LAST-MODIFIED:20180904T164450Z
UID:22493-1537871400-1537885800@preproduccion.alpedrete.es
SUMMARY:Salida cultural: Imprenta Municipal de Madrid
DESCRIPTION:Salida cultural gratuita a la Imprenta Municipal de Madrid en la que visitaremos la exposición actual\, “Papel\, pluma\, tinta\, plomo\, edición…una muestra de impresión” que muestra una selección de piezas de la Colección Del Olmo & Vilas\, incorporada recientemente al Patrimonio Municipal. Plazas limitadas. Inscripciones en la Casa de Cultura o en el 918571590 del 10 al 19 de septiembre. Si las inscripciones superan el límite de plazas se realizará un sorteo público el 20 de septiembre a las 12.00H. \nMartes 25 de septiembre de 10:30 a 14:30 horas.
URL:https://preproduccion.alpedrete.es/evento/salida-cultural-imprenta-municipal-de-madrid/
LOCATION:Imprenta Municipal de Madrid\, Madrid\, Madrid\, 28430\, España
CATEGORIES:Salida Cultural
ATTACH;FMTTYPE=image/gif:https://preproduccion.alpedrete.es/wp-content/uploads/2018/09/Sin-título-6.gif
END:VEVENT
END:VCALENDAR