BEGIN:VCALENDAR
VERSION:2.0
PRODID:-//Web Ayuntamiento de Alpedrete - ECPv6.9.0//NONSGML v1.0//EN
CALSCALE:GREGORIAN
METHOD:PUBLISH
X-WR-CALNAME:Web Ayuntamiento de Alpedrete
X-ORIGINAL-URL:https://preproduccion.alpedrete.es
X-WR-CALDESC:Eventos para Web Ayuntamiento de Alpedrete
REFRESH-INTERVAL;VALUE=DURATION:PT1H
X-Robots-Tag:noindex
X-PUBLISHED-TTL:PT1H
BEGIN:VTIMEZONE
TZID:Europe/Madrid
BEGIN:DAYLIGHT
TZOFFSETFROM:+0100
TZOFFSETTO:+0200
TZNAME:CEST
DTSTART:20180325T010000
END:DAYLIGHT
BEGIN:STANDARD
TZOFFSETFROM:+0200
TZOFFSETTO:+0100
TZNAME:CET
DTSTART:20181028T010000
END:STANDARD
END:VTIMEZONE
BEGIN:VEVENT
DTSTART;VALUE=DATE:20181108
DTEND;VALUE=DATE:20181129
DTSTAMP:20260421T173347
CREATED:20181031T094857Z
LAST-MODIFIED:20181031T094857Z
UID:23320-1541635200-1543449599@preproduccion.alpedrete.es
SUMMARY:Exposición: "Mirar otra vez"
DESCRIPTION:La exposición “Mirar otra vez” refleja el cambio de paradigma en la cultura visual\, cuando la fotografía se transforma en un instrumento de valor artístico\, adquiriendo conciencia de su capacidad representativa. Todas las imágenes expuestas proceden de la Galería Spectrum de Zaragoza\, un espacio creado en 1976 con el convencimiento de que la fotografía es un medio de expresión y creación plástica\, el arte de nuestro tiempo. \nLa exposición podrá visitarse en horario de 9.00 a 22.00h de lunes a viernes y los sábados de 10.00 a 14.00h. \n  \n 
URL:https://preproduccion.alpedrete.es/evento/exposicion-mirar-otra-vez/
LOCATION:Casa de Cultura Asunción Balaguer\, Plaza de Francisco Rabal\, Alpedrete\, Madrid\, 28430\, España
CATEGORIES:Arte/Pintura,Exposición
ATTACH;FMTTYPE=image/jpeg:https://preproduccion.alpedrete.es/wp-content/uploads/2018/10/mirar-otra-vez.jpg
GEO:40.65755;-4.02389
X-APPLE-STRUCTURED-LOCATION;VALUE=URI;X-ADDRESS=Casa de Cultura Asunción Balaguer Plaza de Francisco Rabal Alpedrete Madrid 28430 España;X-APPLE-RADIUS=500;X-TITLE=Plaza de Francisco Rabal:geo:-4.02389,40.65755
END:VEVENT
BEGIN:VEVENT
DTSTART;TZID=Europe/Madrid:20181116T170000
DTEND;TZID=Europe/Madrid:20181116T200000
DTSTAMP:20260421T173347
CREATED:20181105T094814Z
LAST-MODIFIED:20181105T094845Z
UID:23487-1542387600-1542398400@preproduccion.alpedrete.es
SUMMARY:No puedo con los exámenes
DESCRIPTION:El Ayuntamiento de Alpedrete ha puesto en marcha el taller “No puedo con los exámenes”\, que se celebrará el 16 de noviembre de 17:00 a 20:00 de la tarde en el Centro de Juventud impartido por la coach educativa y familiar Laura Guerrero Paz. Las inscripciones para cubrir las 16 plazas ofertadas se pueden formalizar a partir del 5 de noviembre en el mismo Centro de Juventud. \n“No puedo con los exámenes” quiere dar respuesta a situaciones de bloqueo y nervios ante los exámenes. Se trata de aprender a controlar los nervios y los pensamientos a través de un taller práctico que profundiza en la confianza y en la tranquilidad\, así como en un mejor aprovechamiento del tiempo de estudio. \n\nINSCRIPCIONES \n\nCalle Félix Díaz\, n.º 3. 28430 Alpedrete\nTeléfono: 91 857 13 94 Email: juventud.inscripciones@alpedrete.es\nLunes y miércoles de 10:00 a 14:00 h y de lunes a viernes de 17:00 a 20:00 h
URL:https://preproduccion.alpedrete.es/evento/no-puedo-con-los-examenes/
LOCATION:Centro de Juventud\, Félix Díaz\, 5\, Alpedrete\, España
CATEGORIES:Taller
ATTACH;FMTTYPE=image/bmp:https://preproduccion.alpedrete.es/wp-content/uploads/2018/11/CARTEL-TALLER-ANSIEDAD-EXÁMENES-NOV-18.bmp
GEO:40.6602847;-4.0252745
X-APPLE-STRUCTURED-LOCATION;VALUE=URI;X-ADDRESS=Centro de Juventud Félix Díaz 5 Alpedrete España;X-APPLE-RADIUS=500;X-TITLE=Félix Díaz\, 5:geo:-4.0252745,40.6602847
END:VEVENT
BEGIN:VEVENT
DTSTART;TZID=Europe/Madrid:20181116T173000
DTEND;TZID=Europe/Madrid:20181116T193000
DTSTAMP:20260421T173347
CREATED:20181109T080713Z
LAST-MODIFIED:20181109T080713Z
UID:23593-1542389400-1542396600@preproduccion.alpedrete.es
SUMMARY:Cocina en familia
DESCRIPTION:Cocina en familia es una actividad diseñada para todos los miembros dela familia\, a partir de 5 años\, con la que se pretende potenciar la participación de toda la familia en torno\, en este caso\, a la cocina. Se celebrará el 16 de noviembre\, de 17:30 a 19:30 horas en el edificio polivalente (plaza de la Constitución)M. Acceso gratuito previa inscripción en Servicios Sociales.
URL:https://preproduccion.alpedrete.es/evento/cocina-en-familia/
LOCATION:Edificio Polivalente\, Plaza de la Constitución\, 6\, Alpedrete\, Madrid\, 28430\, España
CATEGORIES:Taller
ATTACH;FMTTYPE=image/jpeg:https://preproduccion.alpedrete.es/wp-content/uploads/2018/11/16-11-Taller-Cocina-en-Familia.jpg
GEO:40.6604232;-4.0256288
X-APPLE-STRUCTURED-LOCATION;VALUE=URI;X-ADDRESS=Edificio Polivalente Plaza de la Constitución 6 Alpedrete Madrid 28430 España;X-APPLE-RADIUS=500;X-TITLE=Plaza de la Constitución\, 6:geo:-4.0256288,40.6604232
END:VEVENT
BEGIN:VEVENT
DTSTART;TZID=Europe/Madrid:20181116T190000
DTEND;TZID=Europe/Madrid:20181116T203000
DTSTAMP:20260421T173347
CREATED:20181106T094451Z
LAST-MODIFIED:20181106T094451Z
UID:23532-1542394800-1542400200@preproduccion.alpedrete.es
SUMMARY:Conferencia sobre Séneca
DESCRIPTION:Dentro del ciclo de conferencias «Españoles extraordinarios»\, el 16 de noviembre se impartirá la correspondiente a Séneca. Será a partir de las 19:00 de la tarde en el Centro de Mayores Los Canteros de Alpedrete. No es necesaria inscripción y es gratuita. El ponente será Alfonso Contreras.
URL:https://preproduccion.alpedrete.es/evento/conferencia-sobre-seneca/
LOCATION:Centro de Mayores Los Canteros de Alpedrete\, Plaza de la Constitución\, s/n\, Alpedrete\, España
CATEGORIES:Cultura
ATTACH;FMTTYPE=image/jpeg:https://preproduccion.alpedrete.es/wp-content/uploads/2018/11/f0d4788c7ddb1dcb4a7179106aa13453.jpg
GEO:40.6602075;-4.0254104
X-APPLE-STRUCTURED-LOCATION;VALUE=URI;X-ADDRESS=Centro de Mayores Los Canteros de Alpedrete Plaza de la Constitución s/n Alpedrete España;X-APPLE-RADIUS=500;X-TITLE=Plaza de la Constitución\, s/n:geo:-4.0254104,40.6602075
END:VEVENT
END:VCALENDAR