BEGIN:VCALENDAR
VERSION:2.0
PRODID:-//Web Ayuntamiento de Alpedrete - ECPv6.9.0//NONSGML v1.0//EN
CALSCALE:GREGORIAN
METHOD:PUBLISH
X-WR-CALNAME:Web Ayuntamiento de Alpedrete
X-ORIGINAL-URL:https://preproduccion.alpedrete.es
X-WR-CALDESC:Eventos para Web Ayuntamiento de Alpedrete
REFRESH-INTERVAL;VALUE=DURATION:PT1H
X-Robots-Tag:noindex
X-PUBLISHED-TTL:PT1H
BEGIN:VTIMEZONE
TZID:Europe/Madrid
BEGIN:DAYLIGHT
TZOFFSETFROM:+0100
TZOFFSETTO:+0200
TZNAME:CEST
DTSTART:20180325T010000
END:DAYLIGHT
BEGIN:STANDARD
TZOFFSETFROM:+0200
TZOFFSETTO:+0100
TZNAME:CET
DTSTART:20181028T010000
END:STANDARD
END:VTIMEZONE
BEGIN:VEVENT
DTSTART;VALUE=DATE:20181108
DTEND;VALUE=DATE:20181129
DTSTAMP:20260421T190442
CREATED:20181031T094857Z
LAST-MODIFIED:20181031T094857Z
UID:23320-1541635200-1543449599@preproduccion.alpedrete.es
SUMMARY:Exposición: "Mirar otra vez"
DESCRIPTION:La exposición “Mirar otra vez” refleja el cambio de paradigma en la cultura visual\, cuando la fotografía se transforma en un instrumento de valor artístico\, adquiriendo conciencia de su capacidad representativa. Todas las imágenes expuestas proceden de la Galería Spectrum de Zaragoza\, un espacio creado en 1976 con el convencimiento de que la fotografía es un medio de expresión y creación plástica\, el arte de nuestro tiempo. \nLa exposición podrá visitarse en horario de 9.00 a 22.00h de lunes a viernes y los sábados de 10.00 a 14.00h. \n  \n 
URL:https://preproduccion.alpedrete.es/evento/exposicion-mirar-otra-vez/
LOCATION:Casa de Cultura Asunción Balaguer\, Plaza de Francisco Rabal\, Alpedrete\, Madrid\, 28430\, España
CATEGORIES:Arte/Pintura,Exposición
ATTACH;FMTTYPE=image/jpeg:https://preproduccion.alpedrete.es/wp-content/uploads/2018/10/mirar-otra-vez.jpg
GEO:40.65755;-4.02389
X-APPLE-STRUCTURED-LOCATION;VALUE=URI;X-ADDRESS=Casa de Cultura Asunción Balaguer Plaza de Francisco Rabal Alpedrete Madrid 28430 España;X-APPLE-RADIUS=500;X-TITLE=Plaza de Francisco Rabal:geo:-4.02389,40.65755
END:VEVENT
BEGIN:VEVENT
DTSTART;TZID=Europe/Madrid:20181122T180000
DTEND;TZID=Europe/Madrid:20181122T200000
DTSTAMP:20260421T190442
CREATED:20181120T112627Z
LAST-MODIFIED:20181121T122900Z
UID:23887-1542909600-1542916800@preproduccion.alpedrete.es
SUMMARY:"Como decir no cuando no quiero decir sí"
DESCRIPTION:“Cómo decir no cuando no quiero decir sí” es el punto de partida de un espacio de reflexión sobre las habilidades de la comunicación y específicamente de asertividad (la afirmación y la expresión firme de la opinión). El taller está dirigido a mujeres. El objetivo es tomar conciencia de los modos comunicacionales y mejorar en asertividad. De esa manera\, se busca profundizar en la defensa de los propios derechos\, opiniones y decisiones\, y que esta actitud de respeto hacia una misma influya positivamente en la autoestima. El taller será impartido por Carmen Molinero Merchán\, psicóloga y especialista en Intervención Social con Mujeres. \nActividad gratuita\, dirigida a mujeres mayores de 16 años\, previa inscripción en Servicios Sociales\, presencialmente o en el teléfono 918508080. Posibilidad de cuidados infantiles si hay demanda. \nEvento programado celebración el 25 de noviembre del Día Internacional de la Eliminación de la Violencia contra las Mujeres.
URL:https://preproduccion.alpedrete.es/evento/como-decir-no-cuando-no-quiero-decir-si/
LOCATION:Centro de Mayores Los Canteros de Alpedrete\, Plaza de la Constitución\, s/n\, Alpedrete\, España
CATEGORIES:Taller
ATTACH;FMTTYPE=image/jpeg:https://preproduccion.alpedrete.es/wp-content/uploads/2018/11/discusion-hombre-mujer-violencia.jpg
GEO:40.6602075;-4.0254104
X-APPLE-STRUCTURED-LOCATION;VALUE=URI;X-ADDRESS=Centro de Mayores Los Canteros de Alpedrete Plaza de la Constitución s/n Alpedrete España;X-APPLE-RADIUS=500;X-TITLE=Plaza de la Constitución\, s/n:geo:-4.0254104,40.6602075
END:VEVENT
BEGIN:VEVENT
DTSTART;TZID=Europe/Madrid:20181122T190000
DTEND;TZID=Europe/Madrid:20181122T210000
DTSTAMP:20260421T190442
CREATED:20181119T122722Z
LAST-MODIFIED:20181119T122722Z
UID:23855-1542913200-1542920400@preproduccion.alpedrete.es
SUMMARY:Wall-E\, cine.
DESCRIPTION:El jueves 22 de noviembre se proyectará en el Centro de Juventud a partir de las 19:00 de la tarde la película Wall-E\, dirigida en 2008 por Andrew Stanton. Se trata de un film de animación ambientado en el año 2800 en un planeta Tierra arrasado y sin vida. \nDespués de cientos de solitarios años haciendo aquello para lo que fue construido -limpiar el planeta de basura- el pequeño robot WALL•E (acrónimo de Waste Allocation Load Lifter Earth-Class) descubre una nueva misión en su vida (además de recolectar cosas inservibles) cuando se encuentra con una moderna y lustrosa robot exploradora llamada EVE.La cinta dura 103 minutos y tiene la calificación de cine familiar. La entrada es gratuita.
URL:https://preproduccion.alpedrete.es/evento/wall-e-cine/
LOCATION:Centro de Juventud\, Félix Díaz\, 5\, Alpedrete\, España
CATEGORIES:Cine
ATTACH;FMTTYPE=image/jpeg:https://preproduccion.alpedrete.es/wp-content/uploads/2018/11/WALLa_E-973488527-large.jpg
GEO:40.6602847;-4.0252745
X-APPLE-STRUCTURED-LOCATION;VALUE=URI;X-ADDRESS=Centro de Juventud Félix Díaz 5 Alpedrete España;X-APPLE-RADIUS=500;X-TITLE=Félix Díaz\, 5:geo:-4.0252745,40.6602847
END:VEVENT
END:VCALENDAR