BEGIN:VCALENDAR
VERSION:2.0
PRODID:-//Web Ayuntamiento de Alpedrete - ECPv6.9.0//NONSGML v1.0//EN
CALSCALE:GREGORIAN
METHOD:PUBLISH
X-ORIGINAL-URL:https://preproduccion.alpedrete.es
X-WR-CALDESC:Eventos para Web Ayuntamiento de Alpedrete
REFRESH-INTERVAL;VALUE=DURATION:PT1H
X-Robots-Tag:noindex
X-PUBLISHED-TTL:PT1H
BEGIN:VTIMEZONE
TZID:Europe/Madrid
BEGIN:DAYLIGHT
TZOFFSETFROM:+0100
TZOFFSETTO:+0200
TZNAME:CEST
DTSTART:20180325T010000
END:DAYLIGHT
BEGIN:STANDARD
TZOFFSETFROM:+0200
TZOFFSETTO:+0100
TZNAME:CET
DTSTART:20181028T010000
END:STANDARD
END:VTIMEZONE
BEGIN:VEVENT
DTSTART;VALUE=DATE:20181108
DTEND;VALUE=DATE:20181129
DTSTAMP:20260421T173235
CREATED:20181031T094857Z
LAST-MODIFIED:20181031T094857Z
UID:23320-1541635200-1543449599@preproduccion.alpedrete.es
SUMMARY:Exposición: "Mirar otra vez"
DESCRIPTION:La exposición “Mirar otra vez” refleja el cambio de paradigma en la cultura visual\, cuando la fotografía se transforma en un instrumento de valor artístico\, adquiriendo conciencia de su capacidad representativa. Todas las imágenes expuestas proceden de la Galería Spectrum de Zaragoza\, un espacio creado en 1976 con el convencimiento de que la fotografía es un medio de expresión y creación plástica\, el arte de nuestro tiempo. \nLa exposición podrá visitarse en horario de 9.00 a 22.00h de lunes a viernes y los sábados de 10.00 a 14.00h. \n  \n 
URL:https://preproduccion.alpedrete.es/evento/exposicion-mirar-otra-vez/
LOCATION:Casa de Cultura Asunción Balaguer\, Plaza de Francisco Rabal\, Alpedrete\, Madrid\, 28430\, España
CATEGORIES:Arte/Pintura,Exposición
ATTACH;FMTTYPE=image/jpeg:https://preproduccion.alpedrete.es/wp-content/uploads/2018/10/mirar-otra-vez.jpg
GEO:40.65755;-4.02389
X-APPLE-STRUCTURED-LOCATION;VALUE=URI;X-ADDRESS=Casa de Cultura Asunción Balaguer Plaza de Francisco Rabal Alpedrete Madrid 28430 España;X-APPLE-RADIUS=500;X-TITLE=Plaza de Francisco Rabal:geo:-4.02389,40.65755
END:VEVENT
BEGIN:VEVENT
DTSTART;TZID=Europe/Madrid:20181123T183000
DTEND;TZID=Europe/Madrid:20181123T193000
DTSTAMP:20260421T173235
CREATED:20181109T112202Z
LAST-MODIFIED:20181109T112202Z
UID:23617-1542997800-1543001400@preproduccion.alpedrete.es
SUMMARY:"Solo una bala". Encuentro literario
DESCRIPTION:«Solo una bala»\, de Eva García Romo\, protagonizará el encuentro literario que tendsrá lugar el 23 de noviembre a las 18:30 de la tarde en la sala infantil de la Biblioteca Municipal. Comenzando con un relato cruel de un hecho real\, la autora nos sumerge en un mundo de pequeñas historias\, donde a veces lo irreal se confunde con lo cotidiano. Se trata de un viaje por diferentes escenarios\, repartidos en un total de 47 relatos\, que pretenden mostrar el amor en todas sus formas\, concluyendo en el odio. Entrada libre.  Coloquio tras la presentación con la autora. \n 
URL:https://preproduccion.alpedrete.es/evento/solo-una-bala-encuentro-literario/
LOCATION:Alpedrete\, Madrid\, 28430\, España
CATEGORIES:Literatura
ATTACH;FMTTYPE=image/jpeg:https://preproduccion.alpedrete.es/wp-content/uploads/2018/11/Sin-título-1-7.jpg
END:VEVENT
BEGIN:VEVENT
DTSTART;TZID=Europe/Madrid:20181123T190000
DTEND;TZID=Europe/Madrid:20181123T210000
DTSTAMP:20260421T173235
CREATED:20181119T123445Z
LAST-MODIFIED:20181122T073712Z
UID:23858-1542999600-1543006800@preproduccion.alpedrete.es
SUMMARY:Contaminación atmosférica en la Sierra de Guadarrama
DESCRIPTION:El viernes 23 de noviembre\, a partir de las 19:00 de la tarde en el centro de Mayores Los Canteros de Alpedrete\, investigadores del CIEMAT (Centro de Investigaciones Energéticas\, Medio Ambientales y Tecnológicas) y de la UCM (Universidad Complutense de Madrid) presentarán en Alpedrete las mediciones realizadas en los últimos diez años de manera estable en el Parque Nacional de Guadarrama sobre la contaminación atmosférica y su afección en los ecosistemas. Unas mediciones que muestran que se superan en la los niveles marcados por la Directiva de Calidad del Aire para determinadas zonas y vegetaciones. Además\, se presentarán las pautas de un nuevo estudio sobre vegetaciones sensibles.
URL:https://preproduccion.alpedrete.es/evento/la-capa-de-ozono-en-la-sierra-de-guadarrama/
LOCATION:Alpedrete\, Madrid\, 28430\, España
CATEGORIES:Medioambiente
ATTACH;FMTTYPE=image/jpeg:https://preproduccion.alpedrete.es/wp-content/uploads/2018/11/CARTEL-CHARLAS-CIEMAT-ALPEDRETE.jpg
END:VEVENT
BEGIN:VEVENT
DTSTART;TZID=Europe/Madrid:20181123T193000
DTEND;TZID=Europe/Madrid:20181123T210000
DTSTAMP:20260421T173235
CREATED:20181119T121728Z
LAST-MODIFIED:20181119T121728Z
UID:23850-1543001400-1543006800@preproduccion.alpedrete.es
SUMMARY:Consejo Sectorial de Festejos
DESCRIPTION:El viernes 23 de  noviembre se reunirá el Consejo Sectorial de Festejos a partir de las 19:30 de la tarde en el Edificio Polivalente de la plaza de la Constitució. La reunión consta de dos puntos en el orden del día: Fiestas de Navidad y Reyes\, y sugerencias.
URL:https://preproduccion.alpedrete.es/evento/consejo-sectorial-de-festejos-2/
LOCATION:Edificio Polivalente\, Plaza de la Constitución\, 6\, Alpedrete\, Madrid\, 28430\, España
CATEGORIES:Navidad
ATTACH;FMTTYPE=image/jpeg:https://preproduccion.alpedrete.es/wp-content/uploads/2018/11/Navidad.jpg
GEO:40.6604232;-4.0256288
X-APPLE-STRUCTURED-LOCATION;VALUE=URI;X-ADDRESS=Edificio Polivalente Plaza de la Constitución 6 Alpedrete Madrid 28430 España;X-APPLE-RADIUS=500;X-TITLE=Plaza de la Constitución\, 6:geo:-4.0256288,40.6604232
END:VEVENT
END:VCALENDAR