BEGIN:VCALENDAR
VERSION:2.0
PRODID:-//Web Ayuntamiento de Alpedrete - ECPv6.9.0//NONSGML v1.0//EN
CALSCALE:GREGORIAN
METHOD:PUBLISH
X-ORIGINAL-URL:https://preproduccion.alpedrete.es
X-WR-CALDESC:Eventos para Web Ayuntamiento de Alpedrete
REFRESH-INTERVAL;VALUE=DURATION:PT1H
X-Robots-Tag:noindex
X-PUBLISHED-TTL:PT1H
BEGIN:VTIMEZONE
TZID:Europe/Madrid
BEGIN:DAYLIGHT
TZOFFSETFROM:+0100
TZOFFSETTO:+0200
TZNAME:CEST
DTSTART:20180325T010000
END:DAYLIGHT
BEGIN:STANDARD
TZOFFSETFROM:+0200
TZOFFSETTO:+0100
TZNAME:CET
DTSTART:20181028T010000
END:STANDARD
END:VTIMEZONE
BEGIN:VEVENT
DTSTART;VALUE=DATE:20181108
DTEND;VALUE=DATE:20181129
DTSTAMP:20260421T173235
CREATED:20181031T094857Z
LAST-MODIFIED:20181031T094857Z
UID:23320-1541635200-1543449599@preproduccion.alpedrete.es
SUMMARY:Exposición: "Mirar otra vez"
DESCRIPTION:La exposición “Mirar otra vez” refleja el cambio de paradigma en la cultura visual\, cuando la fotografía se transforma en un instrumento de valor artístico\, adquiriendo conciencia de su capacidad representativa. Todas las imágenes expuestas proceden de la Galería Spectrum de Zaragoza\, un espacio creado en 1976 con el convencimiento de que la fotografía es un medio de expresión y creación plástica\, el arte de nuestro tiempo. \nLa exposición podrá visitarse en horario de 9.00 a 22.00h de lunes a viernes y los sábados de 10.00 a 14.00h. \n  \n 
URL:https://preproduccion.alpedrete.es/evento/exposicion-mirar-otra-vez/
LOCATION:Casa de Cultura Asunción Balaguer\, Plaza de Francisco Rabal\, Alpedrete\, Madrid\, 28430\, España
CATEGORIES:Arte/Pintura,Exposición
ATTACH;FMTTYPE=image/jpeg:https://preproduccion.alpedrete.es/wp-content/uploads/2018/10/mirar-otra-vez.jpg
GEO:40.65755;-4.02389
X-APPLE-STRUCTURED-LOCATION;VALUE=URI;X-ADDRESS=Casa de Cultura Asunción Balaguer Plaza de Francisco Rabal Alpedrete Madrid 28430 España;X-APPLE-RADIUS=500;X-TITLE=Plaza de Francisco Rabal:geo:-4.02389,40.65755
END:VEVENT
BEGIN:VEVENT
DTSTART;TZID=Europe/Madrid:20181124T120000
DTEND;TZID=Europe/Madrid:20181124T130000
DTSTAMP:20260421T173235
CREATED:20181109T110809Z
LAST-MODIFIED:20181109T110809Z
UID:23612-1543060800-1543064400@preproduccion.alpedrete.es
SUMMARY:Cuentacuentos en inglés
DESCRIPTION:El cuentacuentos en inglés vuelve a la Biblioteca Municipal el sábado 24 de noviembre a partir de las 12:00 de la mañana. La propuesta de Chameleon Theatre\, con Mike Schaupp\, es «The egg-cellent adventure».
URL:https://preproduccion.alpedrete.es/evento/cuentacuentos-en-ingles-6/
LOCATION:Biblioteca Municipal\, Plaza de Francisco Rabal\, Alpedrete\, Madrid\, 28430\, España
CATEGORIES:Cuentacuentos
ATTACH;FMTTYPE=image/jpeg:https://preproduccion.alpedrete.es/wp-content/uploads/2018/11/Sin-título-1-5.jpg
GEO:40.65755;-4.02389
X-APPLE-STRUCTURED-LOCATION;VALUE=URI;X-ADDRESS=Biblioteca Municipal Plaza de Francisco Rabal Alpedrete Madrid 28430 España;X-APPLE-RADIUS=500;X-TITLE=Plaza de Francisco Rabal:geo:-4.02389,40.65755
END:VEVENT
BEGIN:VEVENT
DTSTART;TZID=Europe/Madrid:20181124T190000
DTEND;TZID=Europe/Madrid:20181124T203000
DTSTAMP:20260421T173235
CREATED:20181120T123635Z
LAST-MODIFIED:20181120T133556Z
UID:23901-1543086000-1543091400@preproduccion.alpedrete.es
SUMMARY:En femenino y Plural
DESCRIPTION:“En Femenino y Plural”. Espectáculo musical y narrativo que propone un recorrido vital a través de las canciones escuchadas por todas desde la infancia y de cuatro relatos que muestran distintas realidades de la mujer. \nLa puesta en escena es de la compañía Cuentos de Sobremesa. Bajo la dirección de Marina Fernández\, las intérpretes Mónica Botella y Silvia Mascaray plantean un “espectáculo de provocación que invita a descubrir a cada participante qué le despierta y a analizar el porqué\, y a identificar los mensajes que nos han rodeado y han ayudado a nuestra conformación de género”. \n“En Femenino y Plural” está recomendado para mayores de 16 años y tiene una duración aproximada de 60 minutos. \nEvento programado dentro de la celebración el 25 de noviembre del Día Internacional de la Eliminación de la Violencia contra las Mujeres.
URL:https://preproduccion.alpedrete.es/evento/en-femenino-y-plural/
LOCATION:Casa de Cultura Asunción Balaguer\, Plaza de Francisco Rabal\, Alpedrete\, Madrid\, 28430\, España
CATEGORIES:Teatro
ATTACH;FMTTYPE=image/jpeg:https://preproduccion.alpedrete.es/wp-content/uploads/2018/11/en-femenino-y-plural.jpg
GEO:40.65755;-4.02389
X-APPLE-STRUCTURED-LOCATION;VALUE=URI;X-ADDRESS=Casa de Cultura Asunción Balaguer Plaza de Francisco Rabal Alpedrete Madrid 28430 España;X-APPLE-RADIUS=500;X-TITLE=Plaza de Francisco Rabal:geo:-4.02389,40.65755
END:VEVENT
BEGIN:VEVENT
DTSTART;TZID=Europe/Madrid:20181124T190000
DTEND;TZID=Europe/Madrid:20181124T220000
DTSTAMP:20260421T173235
CREATED:20181119T131213Z
LAST-MODIFIED:20181119T131213Z
UID:23849-1543086000-1543096800@preproduccion.alpedrete.es
SUMMARY:Noche Joven
DESCRIPTION:El sábado 24 de noviembre da comienzo la temporada otoño-invierno de la «Noche Joven» en el Centro de Juventud .  La entrada es gratuita\, previa inscripción en el propio centro\, calle Felix Díaz 3\, de lunes a viernes de 17 a 20 h.
URL:https://preproduccion.alpedrete.es/evento/noche-joven/
LOCATION:Centro de Juventud\, Félix Díaz\, 5\, Alpedrete\, España
CATEGORIES:Juventud
ATTACH;FMTTYPE=image/jpeg:https://preproduccion.alpedrete.es/wp-content/uploads/2018/11/cartel-24-nov-2018.jpg
GEO:40.6602847;-4.0252745
X-APPLE-STRUCTURED-LOCATION;VALUE=URI;X-ADDRESS=Centro de Juventud Félix Díaz 5 Alpedrete España;X-APPLE-RADIUS=500;X-TITLE=Félix Díaz\, 5:geo:-4.0252745,40.6602847
END:VEVENT
END:VCALENDAR