BEGIN:VCALENDAR
VERSION:2.0
PRODID:-//Web Ayuntamiento de Alpedrete - ECPv6.9.0//NONSGML v1.0//EN
CALSCALE:GREGORIAN
METHOD:PUBLISH
X-ORIGINAL-URL:https://preproduccion.alpedrete.es
X-WR-CALDESC:Eventos para Web Ayuntamiento de Alpedrete
REFRESH-INTERVAL;VALUE=DURATION:PT1H
X-Robots-Tag:noindex
X-PUBLISHED-TTL:PT1H
BEGIN:VTIMEZONE
TZID:Europe/Madrid
BEGIN:DAYLIGHT
TZOFFSETFROM:+0100
TZOFFSETTO:+0200
TZNAME:CEST
DTSTART:20180325T010000
END:DAYLIGHT
BEGIN:STANDARD
TZOFFSETFROM:+0200
TZOFFSETTO:+0100
TZNAME:CET
DTSTART:20181028T010000
END:STANDARD
END:VTIMEZONE
BEGIN:VEVENT
DTSTART;VALUE=DATE:20181108
DTEND;VALUE=DATE:20181129
DTSTAMP:20260421T190531
CREATED:20181031T094857Z
LAST-MODIFIED:20181031T094857Z
UID:23320-1541635200-1543449599@preproduccion.alpedrete.es
SUMMARY:Exposición: "Mirar otra vez"
DESCRIPTION:La exposición “Mirar otra vez” refleja el cambio de paradigma en la cultura visual\, cuando la fotografía se transforma en un instrumento de valor artístico\, adquiriendo conciencia de su capacidad representativa. Todas las imágenes expuestas proceden de la Galería Spectrum de Zaragoza\, un espacio creado en 1976 con el convencimiento de que la fotografía es un medio de expresión y creación plástica\, el arte de nuestro tiempo. \nLa exposición podrá visitarse en horario de 9.00 a 22.00h de lunes a viernes y los sábados de 10.00 a 14.00h. \n  \n 
URL:https://preproduccion.alpedrete.es/evento/exposicion-mirar-otra-vez/
LOCATION:Casa de Cultura Asunción Balaguer\, Plaza de Francisco Rabal\, Alpedrete\, Madrid\, 28430\, España
CATEGORIES:Arte/Pintura,Exposición
ATTACH;FMTTYPE=image/jpeg:https://preproduccion.alpedrete.es/wp-content/uploads/2018/10/mirar-otra-vez.jpg
GEO:40.65755;-4.02389
X-APPLE-STRUCTURED-LOCATION;VALUE=URI;X-ADDRESS=Casa de Cultura Asunción Balaguer Plaza de Francisco Rabal Alpedrete Madrid 28430 España;X-APPLE-RADIUS=500;X-TITLE=Plaza de Francisco Rabal:geo:-4.02389,40.65755
END:VEVENT
BEGIN:VEVENT
DTSTART;VALUE=DATE:20181127
DTEND;VALUE=DATE:20181128
DTSTAMP:20260421T190531
CREATED:20181126T141201Z
LAST-MODIFIED:20181126T141804Z
UID:23971-1543276800-1543363199@preproduccion.alpedrete.es
SUMMARY:IV Concurso de Cuentos Navideños
DESCRIPTION:La Biblioteca Municipal de Alpedrete convoca la IV Edición de su tradicional Concurso de Cuentos Navideños Infantiles\, este año en formato cómic.\nPodrán participar niños y niñas de edades comprendidas entre 1 y 12 años matriculados en alguno de los colegios de Alpedrete y que estén en posesión del carné de la Biblioteca Municipal.\nLos cuentos se pueden presentar desde el martes 27 de noviembre hasta el martes 11 de diciembre de 2018\, en la Biblioteca Municipal de Alpedrete.\nEn el enlace a continuación se pueden consultar las condiciones de participación. \nBases reguladoras de los premios del IV Concurso Cuentos Navideños \nFolleto informativo IV Concurso de Cuentos Navideños \n  \n 
URL:https://preproduccion.alpedrete.es/evento/iv-concurso-de-cuentos-navidenos/2018-11-27/
LOCATION:Biblioteca Municipal de Alpedrete\, Plaza Francisco Rabal\, 2\, Alpedrete\, 28430 \, España
CATEGORIES:Navidad
ATTACH;FMTTYPE=image/jpeg:https://preproduccion.alpedrete.es/wp-content/uploads/2018/11/escribiendo-en-Navidad.jpg
GEO:40.6621635;-4.031169
X-APPLE-STRUCTURED-LOCATION;VALUE=URI;X-ADDRESS=Biblioteca Municipal de Alpedrete Plaza Francisco Rabal 2 Alpedrete 28430  España;X-APPLE-RADIUS=500;X-TITLE=Plaza Francisco Rabal\, 2:geo:-4.031169,40.6621635
END:VEVENT
BEGIN:VEVENT
DTSTART;TZID=Europe/Madrid:20181127T180000
DTEND;TZID=Europe/Madrid:20181127T193000
DTSTAMP:20260421T190531
CREATED:20181120T134427Z
LAST-MODIFIED:20181120T134427Z
UID:23908-1543341600-1543347000@preproduccion.alpedrete.es
SUMMARY:Descubre la Clown que hay en ti y libérate
DESCRIPTION:El mundo del clown hasta ahora ha sido un lugar ocupado por hombres. El “taller de clown entre payasas” propone que las mujeres accedan a ese espacio escénico y desde la comicidad reflexionen sobre la cultura patriarcal\, ridiculizando los estereotipos\, y cambiando sensibilidades y percepciones. \nEstos espacios\, explica Tatiana Isaza de la compañía 2×2 Deyavú\, “sirven para que las mujeres acepten su mundo interior\, encontrando la Clown que hay en cada una de nosotras\, para empoderarnos\, sintiendo nuestras subjetividades y convirtiéndolas para hacer catarsis de los que nos pasa\, pero sobre todo para evidenciar desde la escena el poder y la fuerza de cada mujer”. \nEl taller está pensado para ejercitar la creación de un personaje cómico a través de ejercicios en los que los asistentes participan activamente. \nActividad gratuita\, dirigida a mujeres mayores de 16 años\, previa inscripción en Servicios Sociales. Posibilidad de cuidados infantiles si hay demanda. \nEvento programado dentro de la celebración el 25 de noviembre del Día Internacional de la Eliminación de la Violencia contra las Mujeres.
URL:https://preproduccion.alpedrete.es/evento/descubre-la-clown-que-hay-en-ti-y-liberate/
LOCATION:Centro de Mayores Los Canteros de Alpedrete\, Plaza de la Constitución\, s/n\, Alpedrete\, España
CATEGORIES:Teatro
ATTACH;FMTTYPE=image/jpeg:https://preproduccion.alpedrete.es/wp-content/uploads/2018/11/2x2deyavu.jpg
GEO:40.6602075;-4.0254104
X-APPLE-STRUCTURED-LOCATION;VALUE=URI;X-ADDRESS=Centro de Mayores Los Canteros de Alpedrete Plaza de la Constitución s/n Alpedrete España;X-APPLE-RADIUS=500;X-TITLE=Plaza de la Constitución\, s/n:geo:-4.0254104,40.6602075
END:VEVENT
END:VCALENDAR