BEGIN:VCALENDAR
VERSION:2.0
PRODID:-//Web Ayuntamiento de Alpedrete - ECPv6.9.0//NONSGML v1.0//EN
CALSCALE:GREGORIAN
METHOD:PUBLISH
X-WR-CALNAME:Web Ayuntamiento de Alpedrete
X-ORIGINAL-URL:https://preproduccion.alpedrete.es
X-WR-CALDESC:Eventos para Web Ayuntamiento de Alpedrete
REFRESH-INTERVAL;VALUE=DURATION:PT1H
X-Robots-Tag:noindex
X-PUBLISHED-TTL:PT1H
BEGIN:VTIMEZONE
TZID:Europe/Madrid
BEGIN:DAYLIGHT
TZOFFSETFROM:+0100
TZOFFSETTO:+0200
TZNAME:CEST
DTSTART:20180325T010000
END:DAYLIGHT
BEGIN:STANDARD
TZOFFSETFROM:+0200
TZOFFSETTO:+0100
TZNAME:CET
DTSTART:20181028T010000
END:STANDARD
END:VTIMEZONE
BEGIN:VEVENT
DTSTART;TZID=Europe/Madrid:20181130T100000
DTEND;TZID=Europe/Madrid:20181214T220000
DTSTAMP:20260421T173351
CREATED:20181109T112844Z
LAST-MODIFIED:20181116T110649Z
UID:23624-1543572000-1544824800@preproduccion.alpedrete.es
SUMMARY:Albinismo. Exposición
DESCRIPTION:ALBA\, Asociación para la ayuda a personas con albinismo\, presenta una exposición fotográfica de Ana Yturralde\, coincidiendo en la semana que se celebra el Día Internacional de las Personas con Discapacidades. La exposición «albinismo\, una condición genética\, dos realidades: España y Senegal» podrá visitarse en horario de 09:00 a 22:00h de lunes a viernes y los sábados de 10:00 a 14:00h. Inauguración de la exposición el sábado 1 de diciembre a las 12.30h\, y a continuación proyección del corto “¿Lo ves?” de Patty Bonet y actividad de concienciación sobre el albinismo. La exposición estará abierta del 30 noviembre al 14 de diciembre en la Casa de Cultura Asunción Balaguer. \n 
URL:https://preproduccion.alpedrete.es/evento/albinismo-exposicion/
LOCATION:Alpedrete\, Madrid\, 28430\, España
CATEGORIES:Cine,Exposición
ATTACH;FMTTYPE=image/jpeg:https://preproduccion.alpedrete.es/wp-content/uploads/2018/11/Imagen6.jpg
END:VEVENT
BEGIN:VEVENT
DTSTART;TZID=Europe/Madrid:20181201T170000
DTEND;TZID=Europe/Madrid:20181201T200000
DTSTAMP:20260421T173351
CREATED:20181130T080031Z
LAST-MODIFIED:20181130T080031Z
UID:24039-1543683600-1543694400@preproduccion.alpedrete.es
SUMMARY:Noche joven
DESCRIPTION:El Centro de Juventud celebra el 1 de diciembre la Noche Joven con «Furor»\, una propuesta en formato de concurso en la que los participantes deben demostrar sus concimientos musicales. La experiencia comenzará a las 19:00 de la tarde y concluirá a las 22:00 de la noche. Para participar es necesario estar apuntado. Las inscripciones se pueden realizar el el Centro de Juventud (c/Félix Díaz\, 3) de lunes a viernes de 17:00 a 20:00 de la tarde. Esta actividad está organizada para jóvenes de edades comprendidas entre los 12 y los 17 años. La entrada es gratuita.
URL:https://preproduccion.alpedrete.es/evento/noche-joven-2/
LOCATION:Centro de Juventud\, Félix Díaz\, 5\, Alpedrete\, España
CATEGORIES:Juventud,Música
ATTACH;FMTTYPE=image/jpeg:https://preproduccion.alpedrete.es/wp-content/uploads/2018/11/Furor.jpg
GEO:40.6602847;-4.0252745
X-APPLE-STRUCTURED-LOCATION;VALUE=URI;X-ADDRESS=Centro de Juventud Félix Díaz 5 Alpedrete España;X-APPLE-RADIUS=500;X-TITLE=Félix Díaz\, 5:geo:-4.0252745,40.6602847
END:VEVENT
BEGIN:VEVENT
DTSTART;TZID=Europe/Madrid:20181201T190000
DTEND;TZID=Europe/Madrid:20181201T200000
DTSTAMP:20260421T173351
CREATED:20181130T120817Z
LAST-MODIFIED:20181130T120817Z
UID:24043-1543690800-1543694400@preproduccion.alpedrete.es
SUMMARY:La loca historia de la Bella Durmiente
DESCRIPTION:El 1 de diciembre la Casa de Cultura Asunción Balaguer acoge “La loca historia de la Bella Durmiente”\, un teatro musical dirigido a todos los públicos que interpretará la compañía “La Ratonera” a partir de las 19:00 de la tarde. Desde el lunes 26 de noviembre se pueden reservar las entradas eh la Casa de Cultura o en el teléfono 918571590. El precio de la entrada es 4 euros la general y 2 euros la reducida. \nSe cumplen 100 años del hechizo que hizo dormir a la Bella Durmiente y Maléfica ha lanzado un ultimátum… “Si la joven princesa no despierta antes de la media noche dormirá para siempre”. Los personajes están desapareciendo porque los niños cada vez leen menos cuentos\, pero un humilde soldado\, Berto\, decide salir en busca del último Príncipe. ¿Lo encontrará? ¿Y si la Bella Durmiente no despertase?… Un musical rock para reír en familia.
URL:https://preproduccion.alpedrete.es/evento/la-loca-historia-de-la-bella-durmiente/
LOCATION:Casa de Cultura Asunción Balaguer\, Plaza Francisco Rabal\, 2\, Alpedrete\, Madrid\, 28430 \, España
CATEGORIES:Teatro
ATTACH;FMTTYPE=image/jpeg:https://preproduccion.alpedrete.es/wp-content/uploads/2018/11/Foto01-BELLA-bella-La-Ratonera-Teatro.jpg.jpg
GEO:40.6621635;-4.031169
X-APPLE-STRUCTURED-LOCATION;VALUE=URI;X-ADDRESS=Casa de Cultura Asunción Balaguer Plaza Francisco Rabal 2 Alpedrete Madrid 28430  España;X-APPLE-RADIUS=500;X-TITLE=Plaza Francisco Rabal\, 2:geo:-4.031169,40.6621635
END:VEVENT
END:VCALENDAR