BEGIN:VCALENDAR
VERSION:2.0
PRODID:-//Web Ayuntamiento de Alpedrete - ECPv6.9.0//NONSGML v1.0//EN
CALSCALE:GREGORIAN
METHOD:PUBLISH
X-WR-CALNAME:Web Ayuntamiento de Alpedrete
X-ORIGINAL-URL:https://preproduccion.alpedrete.es
X-WR-CALDESC:Eventos para Web Ayuntamiento de Alpedrete
REFRESH-INTERVAL;VALUE=DURATION:PT1H
X-Robots-Tag:noindex
X-PUBLISHED-TTL:PT1H
BEGIN:VTIMEZONE
TZID:Europe/Madrid
BEGIN:DAYLIGHT
TZOFFSETFROM:+0100
TZOFFSETTO:+0200
TZNAME:CEST
DTSTART:20180325T010000
END:DAYLIGHT
BEGIN:STANDARD
TZOFFSETFROM:+0200
TZOFFSETTO:+0100
TZNAME:CET
DTSTART:20181028T010000
END:STANDARD
END:VTIMEZONE
BEGIN:VEVENT
DTSTART;VALUE=DATE:20181214
DTEND;VALUE=DATE:20181217
DTSTAMP:20260422T042749
CREATED:20181210T092356Z
LAST-MODIFIED:20181210T123736Z
UID:24155-1544745600-1545004799@preproduccion.alpedrete.es
SUMMARY:Belén viviente. Los Negrales
DESCRIPTION:Belén viviente solidario en Los Negrales\, organizado por la Parroquia de Nuestra Señora del Carmen y el colegio San Agustín\, con la colaboración del Ayuntamiento de Alpedrete. Durante los días en los que estará el Belén se recogerán alimentos no perecederos en el patio de la Parroquia. Se pide a quienes vayan a ver el belén que colaboren con la entrega de 1 kg de alimento. \nAlpedrete en Navidad. Programación completa
URL:https://preproduccion.alpedrete.es/evento/belen-viviente/
LOCATION:Parroquia Nuestra Señora del Carmen\, Calle de Sta. Emilia\, 3\, ALpedrete\, Madrid\, 28430\, España
CATEGORIES:Navidad
ATTACH;FMTTYPE=image/jpeg:https://preproduccion.alpedrete.es/wp-content/uploads/2018/12/nacimiento-belen.jpg
GEO:40.6380669;-4.0227753
X-APPLE-STRUCTURED-LOCATION;VALUE=URI;X-ADDRESS=Parroquia Nuestra Señora del Carmen Calle de Sta. Emilia 3 ALpedrete Madrid 28430 España;X-APPLE-RADIUS=500;X-TITLE=Calle de Sta. Emilia\, 3:geo:-4.0227753,40.6380669
END:VEVENT
BEGIN:VEVENT
DTSTART;TZID=Europe/Madrid:20181216T100000
DTEND;TZID=Europe/Madrid:20181216T130000
DTSTAMP:20260422T042749
CREATED:20181210T133146Z
LAST-MODIFIED:20181211T115231Z
UID:24177-1544954400-1544965200@preproduccion.alpedrete.es
SUMMARY:XXV Edición Caminos de la Sierra
DESCRIPTION:La marcha popular ciclista MTB “Caminos de la Sierra” cumple su vigésimo quinto aniversario. Y lo hará con un recorrido de 40 kilómetros con un desnivel de 725 metros el próximo 16 de diciembre. El plazo para inscribirse está abierto hasta el 13 de diciembre. Quienes formalicen su participación antes del 3 de diciembre abonarán 15 euros\, quienes lo hagan entre el 4 y el 13 de diciembre pagarán 20 euros. \nLa carrera\, organizada por el Ayuntamiento de Alpedrete y la Peña Ciclista de Alpedrete\, saldrá de la Casa de Cultura Asunción Balaguer (plaza de Francisco Rabal\, 3) a las 10:00 h. Los participantes habrán recogido los dorsales en ese mismo punto. \nLas inscripciones se pueden hacer a través de este enlace. El número máximo de participantes es de 300. \nLos inscritos aceptan las normas de la organización como tener más de 16 años\, usar casco y respetar el carácter lúdico y popular de la marcha. \n 
URL:https://preproduccion.alpedrete.es/evento/xv-edicion-caminos-de-la-sierra/
LOCATION:Plaza de Francisco Rabal\, Plaza de Francisco Rabal s/n\, Alpedrete\, Madrid\, 28430\, España
CATEGORIES:Deportes
ATTACH;FMTTYPE=image/jpeg:https://preproduccion.alpedrete.es/wp-content/uploads/2018/11/10.jpg
GEO:40.6621635;-4.031169
X-APPLE-STRUCTURED-LOCATION;VALUE=URI;X-ADDRESS=Plaza de Francisco Rabal Plaza de Francisco Rabal s/n Alpedrete Madrid 28430 España;X-APPLE-RADIUS=500;X-TITLE=Plaza de Francisco Rabal s/n:geo:-4.031169,40.6621635
END:VEVENT
END:VCALENDAR