BEGIN:VCALENDAR
VERSION:2.0
PRODID:-//Web Ayuntamiento de Alpedrete - ECPv6.9.0//NONSGML v1.0//EN
CALSCALE:GREGORIAN
METHOD:PUBLISH
X-WR-CALNAME:Web Ayuntamiento de Alpedrete
X-ORIGINAL-URL:https://preproduccion.alpedrete.es
X-WR-CALDESC:Eventos para Web Ayuntamiento de Alpedrete
REFRESH-INTERVAL;VALUE=DURATION:PT1H
X-Robots-Tag:noindex
X-PUBLISHED-TTL:PT1H
BEGIN:VTIMEZONE
TZID:Europe/Madrid
BEGIN:DAYLIGHT
TZOFFSETFROM:+0100
TZOFFSETTO:+0200
TZNAME:CEST
DTSTART:20180325T010000
END:DAYLIGHT
BEGIN:STANDARD
TZOFFSETFROM:+0200
TZOFFSETTO:+0100
TZNAME:CET
DTSTART:20181028T010000
END:STANDARD
BEGIN:DAYLIGHT
TZOFFSETFROM:+0100
TZOFFSETTO:+0200
TZNAME:CEST
DTSTART:20190331T010000
END:DAYLIGHT
BEGIN:STANDARD
TZOFFSETFROM:+0200
TZOFFSETTO:+0100
TZNAME:CET
DTSTART:20191027T010000
END:STANDARD
END:VTIMEZONE
BEGIN:VEVENT
DTSTART;TZID=Europe/Madrid:20181217T090000
DTEND;TZID=Europe/Madrid:20190107T220000
DTSTAMP:20260422T042747
CREATED:20181214T152511Z
LAST-MODIFIED:20181214T152511Z
UID:24249-1545037200-1546898400@preproduccion.alpedrete.es
SUMMARY:"Entrenatura"\, exposición
DESCRIPTION:La exposición ‘Entrenatura’ muestra la obra reciente de Alicia Gomis Pérez\, arquitecta y diseñadora que compagina su profesión con la pintura. La temática se centra en la naturaleza\, las flores y los paisajes. La exposición cuenta con obras en su mayoría a la acuarela así como algunas obras al óleo. El estilo es colorista y expresivo\, utilizando como técnica la aguada de color y la pincelada suelta. El color se reivindica como elemento plástico que conforma la naturaleza y el paisaje. \nLa exposición podrá visitarse en horario de 9.00 a 22.00h de lunes a viernes y los sábados de 10.00 a 14.00h\, en la Casa de Cultura Asunción Balaguer. \nCurrículum artístico Alicia Gomis Pérez \n 
URL:https://preproduccion.alpedrete.es/evento/entrenatura-exposicion/
LOCATION:Casa de Cultura Asunción Balaguer\, Plaza Francisco Rabal\, 2\, Alpedrete\, Madrid\, 28430 \, España
CATEGORIES:Arte/Pintura
ATTACH;FMTTYPE=image/jpeg:https://preproduccion.alpedrete.es/wp-content/uploads/2018/12/21-FLORES.jpg
GEO:40.6621635;-4.031169
X-APPLE-STRUCTURED-LOCATION;VALUE=URI;X-ADDRESS=Casa de Cultura Asunción Balaguer Plaza Francisco Rabal 2 Alpedrete Madrid 28430  España;X-APPLE-RADIUS=500;X-TITLE=Plaza Francisco Rabal\, 2:geo:-4.031169,40.6621635
END:VEVENT
BEGIN:VEVENT
DTSTART;TZID=Europe/Madrid:20181218T170000
DTEND;TZID=Europe/Madrid:20190118T200000
DTSTAMP:20260422T042747
CREATED:20181214T150923Z
LAST-MODIFIED:20181214T150923Z
UID:24244-1545152400-1547841600@preproduccion.alpedrete.es
SUMMARY:Inscripciones : esquí Astún 2019
DESCRIPTION:Viaje de esquí organizado por la Concejalía de Juventud. Actividad abierta a todas las familias\, en rl ambiente natural y cultural del Valle de Astún (Jaca). \nInscripciones: \nTienen preferencia los jóvenes de 12 a 35 años y familias con menores entre los 7 y 17 años empadronados en el municipio. Los menores de 12 a 17 años pueden venir sin adultos al viaje\, a cargo de los responsables de la Concejalía de Juventud y de los monitores/as 24 h por parte de la entidad Proyecta Sport\, S.L. Los adultos y no empadronados una vez finalizado el plazo de inscripciones el 18 de enero\, podrán apuntarse si han quedado plazas libres. \nDichas inscripciones podrán realizarse desde el martes 18 de diciembre hasta el 18 de enero\, en el Centro de Juventud en horario de 17.00 a 20.00 h. sito en la C/ Félix Díaz nº 3. Alpedrete. \nInformación completa sobre el viaje de esquí- Astún 2019 Juventud
URL:https://preproduccion.alpedrete.es/evento/inscripciones-esqui-astun-2019/
LOCATION:Centro de Juventud\, Félix Díaz\, 5\, Alpedrete\, España
CATEGORIES:Juventud
ATTACH;FMTTYPE=image/jpeg:https://preproduccion.alpedrete.es/wp-content/uploads/2018/12/esqui-2019-banner.jpg
GEO:40.6602847;-4.0252745
X-APPLE-STRUCTURED-LOCATION;VALUE=URI;X-ADDRESS=Centro de Juventud Félix Díaz 5 Alpedrete España;X-APPLE-RADIUS=500;X-TITLE=Félix Díaz\, 5:geo:-4.0252745,40.6602847
END:VEVENT
BEGIN:VEVENT
DTSTART;VALUE=DATE:20181222
DTEND;VALUE=DATE:20181223
DTSTAMP:20260422T042747
CREATED:20181217T132622Z
LAST-MODIFIED:20181221T105005Z
UID:24315-1545436800-1545523199@preproduccion.alpedrete.es
SUMMARY:Tren de la Navidad y Jumping
DESCRIPTION:22\, 23 y 24 de diciembre. Plaza de la Villa de 11 a 20 h (Adquisición de tickes en los comercios adheridos a AECA: Centro Óptico Alpedrete\, Papelería Ráser\, Andalucía Sol Moda\, Panadería Burguillo\, Confecciones Hermanas Recio\, A&A Perfumería Angelines\, Arcylis\, Climasol perfumería\, Ferretería Cachinero y Farmaestro). \nMás información: https://preproduccion.alpedrete.es/el-tren-de-la-navidad-llega-a-alpedrete/ \n#MiAlpedrete en Navidad. Programación completa \n 
URL:https://preproduccion.alpedrete.es/evento/tren-de-la-navidad-y-jumping/2018-12-22/
LOCATION:Plaza de la Villa\, Plaza de la Villa\, Alpedrete\, 28430 \, España
CATEGORIES:Navidad
ATTACH;FMTTYPE=image/jpeg:https://preproduccion.alpedrete.es/wp-content/uploads/2018/12/Tren-navidad.jpg
GEO:40.6589274;-4.0239866
X-APPLE-STRUCTURED-LOCATION;VALUE=URI;X-ADDRESS=Plaza de la Villa Plaza de la Villa Alpedrete 28430  España;X-APPLE-RADIUS=500;X-TITLE=Plaza de la Villa:geo:-4.0239866,40.6589274
END:VEVENT
BEGIN:VEVENT
DTSTART;TZID=Europe/Madrid:20181222T100000
DTEND;TZID=Europe/Madrid:20181222T130000
DTSTAMP:20260422T042747
CREATED:20181217T133501Z
LAST-MODIFIED:20181217T143540Z
UID:24320-1545472800-1545483600@preproduccion.alpedrete.es
SUMMARY:Lotería de la Navidad y chocolate
DESCRIPTION:Carpa de la Navidad. Desde las 10:00 h retransmisión del sorteo nacional de lotería. A partir de las 11:00 h\, se jugarán partidas de ajedrez solidario organizadas por el Club de Ajedrez de Alpedrete. Para poder jugar los participantes entregarán un juguete (gratuito). \n#MiAlpedrete en Navidad. Programación completa
URL:https://preproduccion.alpedrete.es/evento/loteria-de-la-navidad-y-chocolate/
LOCATION:Plaza de Francisco Rabal\, Plaza de Francisco Rabal s/n\, Alpedrete\, Madrid\, 28430\, España
CATEGORIES:Navidad
ATTACH;FMTTYPE=image/jpeg:https://preproduccion.alpedrete.es/wp-content/uploads/2018/12/Churros_con_Chocolate_en_San_Sebastián.jpg
GEO:40.6621635;-4.031169
X-APPLE-STRUCTURED-LOCATION;VALUE=URI;X-ADDRESS=Plaza de Francisco Rabal Plaza de Francisco Rabal s/n Alpedrete Madrid 28430 España;X-APPLE-RADIUS=500;X-TITLE=Plaza de Francisco Rabal s/n:geo:-4.031169,40.6621635
END:VEVENT
BEGIN:VEVENT
DTSTART;TZID=Europe/Madrid:20181222T110000
DTEND;TZID=Europe/Madrid:20181222T110000
DTSTAMP:20260422T042747
CREATED:20181217T135020Z
LAST-MODIFIED:20181217T135641Z
UID:24323-1545476400-1545476400@preproduccion.alpedrete.es
SUMMARY:Ajedrez solidario
DESCRIPTION:Carpa de la Navidad.  A partir de las 11:00 h\, se jugarán partidas de ajedrez solidario organizadas por el Club de Ajedrez de Alpedrete. Para poder jugar los participantes entregarán un juguete (gratuito). \nDesde las 10:00 h se retransmitirá el sorteo nacional de lotería y habrá chocolate con churros. \n#MiAlpedrete en Navidad. Programación completa
URL:https://preproduccion.alpedrete.es/evento/ajedrez-solidario-3/
LOCATION:Alpedrete\, Madrid\, 28430\, España
CATEGORIES:Navidad
ATTACH;FMTTYPE=image/jpeg:https://preproduccion.alpedrete.es/wp-content/uploads/2018/12/ajedrez-navidad.jpg
END:VEVENT
BEGIN:VEVENT
DTSTART;TZID=Europe/Madrid:20181222T180000
DTEND;TZID=Europe/Madrid:20181222T190000
DTSTAMP:20260422T042747
CREATED:20181217T145822Z
LAST-MODIFIED:20181217T145822Z
UID:24342-1545501600-1545505200@preproduccion.alpedrete.es
SUMMARY:Entrega de premios. Cuentos de Navidad
DESCRIPTION:Concurso cuentos de Navidad. Entrega de premios en la Biblioteca de la Casa de la Cultura Asunción Balaguer. A partir de las 18:00 h las niñas y niños contarán con la visita de Papa Noel. \n#MiAlpedrete en Navidad. Programación completa \n 
URL:https://preproduccion.alpedrete.es/evento/entrega-de-premios-cuentos-de-navidad/
LOCATION:Casa de Cultura Asunción Balaguer\, Plaza Francisco Rabal\, 2\, Alpedrete\, Madrid\, 28430 \, España
CATEGORIES:Navidad
ATTACH;FMTTYPE=image/jpeg:https://preproduccion.alpedrete.es/wp-content/uploads/2018/12/cuento-de-Navidad.jpg
GEO:40.6621635;-4.031169
X-APPLE-STRUCTURED-LOCATION;VALUE=URI;X-ADDRESS=Casa de Cultura Asunción Balaguer Plaza Francisco Rabal 2 Alpedrete Madrid 28430  España;X-APPLE-RADIUS=500;X-TITLE=Plaza Francisco Rabal\, 2:geo:-4.031169,40.6621635
END:VEVENT
BEGIN:VEVENT
DTSTART;TZID=Europe/Madrid:20181222T180000
DTEND;TZID=Europe/Madrid:20181222T190000
DTSTAMP:20260422T042747
CREATED:20181217T151222Z
LAST-MODIFIED:20181217T151222Z
UID:24346-1545501600-1545505200@preproduccion.alpedrete.es
SUMMARY:Visita de Papá Noel
DESCRIPTION:Visita de Papá Noel a partir de las 18:00 h y entrega de premios del concurso cuentos de Navidad. Casa de la Cultura Asunción Balaguer. \n#MiAlpedrete en Navidad. Programación completa
URL:https://preproduccion.alpedrete.es/evento/visita-de-papa-noel/
LOCATION:Casa de Cultura Asunción Balaguer\, Plaza Francisco Rabal\, 2\, Alpedrete\, Madrid\, 28430 \, España
CATEGORIES:Navidad
ATTACH;FMTTYPE=image/jpeg:https://preproduccion.alpedrete.es/wp-content/uploads/2016/12/papa-noel.jpg
GEO:40.6621635;-4.031169
X-APPLE-STRUCTURED-LOCATION;VALUE=URI;X-ADDRESS=Casa de Cultura Asunción Balaguer Plaza Francisco Rabal 2 Alpedrete Madrid 28430  España;X-APPLE-RADIUS=500;X-TITLE=Plaza Francisco Rabal\, 2:geo:-4.031169,40.6621635
END:VEVENT
BEGIN:VEVENT
DTSTART;TZID=Europe/Madrid:20181222T190000
DTEND;TZID=Europe/Madrid:20181222T220000
DTSTAMP:20260422T042747
CREATED:20181217T154018Z
LAST-MODIFIED:20181220T140138Z
UID:24348-1545505200-1545516000@preproduccion.alpedrete.es
SUMMARY:Fiesta pre-uvas flúor en Juventud
DESCRIPTION:De 12 a 17 años. Esa es la edad que deben tener los participantes de la “Fiesta Pre Uvas Flúor” con la que el Centro de Juventud despedirá el año 2018. Será el sábado 22 de diciembre de 19:00 de la tarde a 22:00 de la noche. A la entrada\, los asistentes recibirán una pulsera fluorescente y se adentrarán en un espacio de luz negra en el que el color será protagonista y cobrará especial relevancia. \nLa música y los talleres de maquillaje\, accesorios y pintura mural\, siempre fluorescentes\, formarán parte de una Fiesta que acabará con las Pre Uvas\, en este caso salidas de una máquina de Inscripciones en el Centro de Juventud. Gratuito \nMás información: https://preproduccion.alpedrete.es/colores-fluorescentes-para-la-fiesta-mas-joven/ \n#MiAlpedrete en Navidad. Programación completa \n 
URL:https://preproduccion.alpedrete.es/evento/fiesta-pre-uvas-en-juventud/
LOCATION:Alpedrete\, Madrid\, 28430\, España
CATEGORIES:Navidad
ATTACH;FMTTYPE=image/jpeg:https://preproduccion.alpedrete.es/wp-content/uploads/2018/12/image004.jpg
END:VEVENT
END:VCALENDAR