BEGIN:VCALENDAR
VERSION:2.0
PRODID:-//Web Ayuntamiento de Alpedrete - ECPv6.9.0//NONSGML v1.0//EN
CALSCALE:GREGORIAN
METHOD:PUBLISH
X-ORIGINAL-URL:https://preproduccion.alpedrete.es
X-WR-CALDESC:Eventos para Web Ayuntamiento de Alpedrete
REFRESH-INTERVAL;VALUE=DURATION:PT1H
X-Robots-Tag:noindex
X-PUBLISHED-TTL:PT1H
BEGIN:VTIMEZONE
TZID:Europe/Madrid
BEGIN:DAYLIGHT
TZOFFSETFROM:+0100
TZOFFSETTO:+0200
TZNAME:CEST
DTSTART:20190331T010000
END:DAYLIGHT
BEGIN:STANDARD
TZOFFSETFROM:+0200
TZOFFSETTO:+0100
TZNAME:CET
DTSTART:20191027T010000
END:STANDARD
END:VTIMEZONE
BEGIN:VEVENT
DTSTART;VALUE=DATE:20190108
DTEND;VALUE=DATE:20190216
DTSTAMP:20260423T033108
CREATED:20190114T100245Z
LAST-MODIFIED:20190114T100245Z
UID:24579-1546905600-1550275199@preproduccion.alpedrete.es
SUMMARY:Exposición "Oriéntate"
DESCRIPTION:La exposición «Oriéntate» está compuesta por 5 paneles con información sobre el sistema educativo\, formación profesional\, enseñanzas de régimen especial\, estudios universitarios\, formación a lo largo de la vida\, etc. \nLa exposición se encontrará abierta del 8 de enero al 1 de febrero en la Casa de Cultura en la Plaza de Francisco Rabal y del 4 al 15 de febrero en el Centro de Juventud en la Calle Félix Díaz\, nº 3. \nDurante el mes de febrero se realizarán en el municipio de Alpedrete talleres de “Orientación socioeducativa y/o sociolaboral” dentro de las vigésimo terceras jornadas “Conócete\, Oriéntate y Decide”. Más información: XXIII Jornadas “Conócete\, Oriéntate y Decide”.
URL:https://preproduccion.alpedrete.es/evento/exposicion-orientate-2/
LOCATION:Alpedrete\, Alpedrete\, Madrid\, 28430\, España
CATEGORIES:Juventud
ATTACH;FMTTYPE=image/jpeg:https://preproduccion.alpedrete.es/wp-content/uploads/2019/01/Sin-título-2.jpg
END:VEVENT
BEGIN:VEVENT
DTSTART;TZID=Europe/Madrid:20190202T110000
DTEND;TZID=Europe/Madrid:20190202T140000
DTSTAMP:20260423T033108
CREATED:20190128T084502Z
LAST-MODIFIED:20190128T084502Z
UID:24801-1549105200-1549116000@preproduccion.alpedrete.es
SUMMARY:Día Mundial de los Humedales
DESCRIPTION:El sábado 2 de febrero se celebra el Día Mundial de los Humedales con el lema “Defiende los humedales: #ProtegeTuAgua. En ese contexto\, el Ayuntamiento de Alpedrete presentará “La Guía de los Anfibios”\, en la que se recogen las 3 especies de urodelos (o anfibios con cola) y las 7 especies de anuros (o anfibios sin cola en estado adulto) que existen el municipio. \nLa Guía de los Anfibios es la cuarta publicación de estas características que edita el Ayuntamiento de Alpedrete. Las anteriores fueron las referidas a: aves\, setas y flora. Todas ellas están disponibles en la página web municipal. Son de consulta y descarga gratuita. \nMás Información: Presentación de la Guía de Anfibios. Día Mundial de los Humedales
URL:https://preproduccion.alpedrete.es/evento/dia-mundial-de-los-humedales/
LOCATION:Dehesa Municipal de Alpedrete\, Camino de la Dehesa s/n\, Alpedrete\, Madrid\, 28430\, España
CATEGORIES:Medioambiente
ATTACH;FMTTYPE=image/jpeg:https://preproduccion.alpedrete.es/wp-content/uploads/2019/01/Humedales-3.jpg
GEO:40.6614541;-4.0184429
X-APPLE-STRUCTURED-LOCATION;VALUE=URI;X-ADDRESS=Dehesa Municipal de Alpedrete Camino de la Dehesa s/n Alpedrete Madrid 28430 España;X-APPLE-RADIUS=500;X-TITLE=Camino de la Dehesa s/n:geo:-4.0184429,40.6614541
END:VEVENT
BEGIN:VEVENT
DTSTART;TZID=Europe/Madrid:20190202T183000
DTEND;TZID=Europe/Madrid:20190202T193000
DTSTAMP:20260423T033108
CREATED:20190128T122134Z
LAST-MODIFIED:20190128T122134Z
UID:24805-1549132200-1549135800@preproduccion.alpedrete.es
SUMMARY:"El Mundo Lirondo"\, teatro familiar
DESCRIPTION:Spasmo Teatro\, compañía de teatro que hace del humor gestual su seña de identidad \, presenta “El Mundo Lirondo”\, un viaje que te llevará a los rincones más lejanos del mundo y te traerá de vuelta a casa. Los pequeños espectadores adquirirán de una manera divertida y emocionante nociones básicas de geografía\, gentes y diferencias culturales\, plantas y animales\, y fundamentalmente la importancia de respetar y cuidar el medioambiente. \nPúblico Infantil. Todos los públicos. Duración: 50min. Precio: 6€ entrada general y 3€ entrada reducida. Reserva anticipada de entradas desde el lunes 28 de enero en la Casa de Cultura Asunción Balaguer o en el 918571590.
URL:https://preproduccion.alpedrete.es/evento/el-mundo-lirondo-teatro-familiar/
LOCATION:Casa de Cultura Asunción Balaguer\, Plaza Francisco Rabal\, 2\, Alpedrete\, Madrid\, 28430 \, España
CATEGORIES:Teatro
ATTACH;FMTTYPE=image/jpeg:https://preproduccion.alpedrete.es/wp-content/uploads/2019/01/el-mundo-lirondo-banner.jpg
GEO:40.6621635;-4.031169
X-APPLE-STRUCTURED-LOCATION;VALUE=URI;X-ADDRESS=Casa de Cultura Asunción Balaguer Plaza Francisco Rabal 2 Alpedrete Madrid 28430  España;X-APPLE-RADIUS=500;X-TITLE=Plaza Francisco Rabal\, 2:geo:-4.031169,40.6621635
END:VEVENT
BEGIN:VEVENT
DTSTART;TZID=Europe/Madrid:20190202T190000
DTEND;TZID=Europe/Madrid:20190202T220000
DTSTAMP:20260423T033108
CREATED:20190130T105931Z
LAST-MODIFIED:20190130T105931Z
UID:24870-1549134000-1549144800@preproduccion.alpedrete.es
SUMMARY:Cluedo en vivo
DESCRIPTION:La Noche Joven del Centro de Juventud propone el sábado 2 de febrero «Cluedo en Vivo»\, de 19:00 de la tarde a 22:00 de la noche. El señor Romero\, un hombre adinerado del pueblo aparece muerto la noche de la gran fiesta anual. Se creía que el señor Romero era muy apreciado\, o eso pensaba todo el mundo. ¿Quién habrá cometido el asesinato? ¡Conviértete en detective o sospechoso y descubre las incógnitas del crimen jugando al Cluedo en Vivo0. Actividad gratuita para jóvenes entre 12 y 17 años. Inscripción previa en el Centro de Juventud.
URL:https://preproduccion.alpedrete.es/evento/cluedo-en-vivo/
LOCATION:Centro de Juventud\, Félix Díaz\, 5\, Alpedrete\, España
CATEGORIES:Juventud
ATTACH;FMTTYPE=image/jpeg:https://preproduccion.alpedrete.es/wp-content/uploads/2019/01/body-20569_1280.jpg
GEO:40.6602847;-4.0252745
X-APPLE-STRUCTURED-LOCATION;VALUE=URI;X-ADDRESS=Centro de Juventud Félix Díaz 5 Alpedrete España;X-APPLE-RADIUS=500;X-TITLE=Félix Díaz\, 5:geo:-4.0252745,40.6602847
END:VEVENT
END:VCALENDAR