BEGIN:VCALENDAR
VERSION:2.0
PRODID:-//Web Ayuntamiento de Alpedrete - ECPv6.9.0//NONSGML v1.0//EN
CALSCALE:GREGORIAN
METHOD:PUBLISH
X-ORIGINAL-URL:https://preproduccion.alpedrete.es
X-WR-CALDESC:Eventos para Web Ayuntamiento de Alpedrete
REFRESH-INTERVAL;VALUE=DURATION:PT1H
X-Robots-Tag:noindex
X-PUBLISHED-TTL:PT1H
BEGIN:VTIMEZONE
TZID:Europe/Madrid
BEGIN:DAYLIGHT
TZOFFSETFROM:+0100
TZOFFSETTO:+0200
TZNAME:CEST
DTSTART:20190331T010000
END:DAYLIGHT
BEGIN:STANDARD
TZOFFSETFROM:+0200
TZOFFSETTO:+0100
TZNAME:CET
DTSTART:20191027T010000
END:STANDARD
END:VTIMEZONE
BEGIN:VEVENT
DTSTART;VALUE=DATE:20190108
DTEND;VALUE=DATE:20190216
DTSTAMP:20260423T033100
CREATED:20190114T100245Z
LAST-MODIFIED:20190114T100245Z
UID:24579-1546905600-1550275199@preproduccion.alpedrete.es
SUMMARY:Exposición "Oriéntate"
DESCRIPTION:La exposición «Oriéntate» está compuesta por 5 paneles con información sobre el sistema educativo\, formación profesional\, enseñanzas de régimen especial\, estudios universitarios\, formación a lo largo de la vida\, etc. \nLa exposición se encontrará abierta del 8 de enero al 1 de febrero en la Casa de Cultura en la Plaza de Francisco Rabal y del 4 al 15 de febrero en el Centro de Juventud en la Calle Félix Díaz\, nº 3. \nDurante el mes de febrero se realizarán en el municipio de Alpedrete talleres de “Orientación socioeducativa y/o sociolaboral” dentro de las vigésimo terceras jornadas “Conócete\, Oriéntate y Decide”. Más información: XXIII Jornadas “Conócete\, Oriéntate y Decide”.
URL:https://preproduccion.alpedrete.es/evento/exposicion-orientate-2/
LOCATION:Alpedrete\, Alpedrete\, Madrid\, 28430\, España
CATEGORIES:Juventud
ATTACH;FMTTYPE=image/jpeg:https://preproduccion.alpedrete.es/wp-content/uploads/2019/01/Sin-título-2.jpg
END:VEVENT
BEGIN:VEVENT
DTSTART;VALUE=DATE:20190204
DTEND;VALUE=DATE:20190217
DTSTAMP:20260423T033100
CREATED:20190128T141646Z
LAST-MODIFIED:20190128T142916Z
UID:24824-1549238400-1550361599@preproduccion.alpedrete.es
SUMMARY:"Pintura al óleo"\, exposición de Rafael Hontoria
DESCRIPTION:Esta exposición de óleos de Rafael Hontoria\, artista autodidacta\, nos muestra su pintura realista\, manchista y en parte impresionista. Típicamente englobada como Naif\, se caracteriza por la pureza y espontaneidad de colores brillantes y contrastados con una paleta que actúa por impulso. \n  \n 
URL:https://preproduccion.alpedrete.es/evento/pintura-al-oleo-exposicion-de-rafael-hontoria/
LOCATION:Casa de Cultura Asunción Balaguer\, Plaza Francisco Rabal\, 2\, Alpedrete\, Madrid\, 28430 \, España
CATEGORIES:Arte/Pintura
ATTACH;FMTTYPE=image/jpeg:https://preproduccion.alpedrete.es/wp-content/uploads/2019/01/rafael-hontoria.jpg
GEO:40.6621635;-4.031169
X-APPLE-STRUCTURED-LOCATION;VALUE=URI;X-ADDRESS=Casa de Cultura Asunción Balaguer Plaza Francisco Rabal 2 Alpedrete Madrid 28430  España;X-APPLE-RADIUS=500;X-TITLE=Plaza Francisco Rabal\, 2:geo:-4.031169,40.6621635
END:VEVENT
BEGIN:VEVENT
DTSTART;TZID=Europe/Madrid:20190213T083000
DTEND;TZID=Europe/Madrid:20190227T223000
DTSTAMP:20260423T033100
CREATED:20190212T173008Z
LAST-MODIFIED:20190215T124554Z
UID:25070-1550046600-1551306600@preproduccion.alpedrete.es
SUMMARY:Los Cuentos del Erizo
DESCRIPTION:Del 13 al 26 de febrero\, la Biblioteca Municipal de Alpedrete presenta la exposición “Los Cuentos del Erizo”\, basada en las historias de tradición oral escuchadas\, traducidas y escritas por Ana Cristina Herreros\, contadas  en los campamentos de refugiados de Tinduf. \nLas ilustraciones se obtuvieron en los talleres de ilustración que Daniel Tornero Rojo realizó en la Dajla (Sáhara Occidental) durante el Fi Sáhara (Festival de Cine Internacional del Sahara Occidental) y posteriormente en algunos centros escolares y en varias bibliotecas Bubisher. Esta exposición muestra las maravillosas ilustraciones del libro con el mismo nombre\, juntando la voz de las mujeres y los dibujos de las niñas y niños del Sáhara. La exposición se puede visitar de lunes a viernes de 8:30 a 22:30 h. y los sábados de 9:30 a 14:30 h. \nComo actividades de animación de la exposición contaremos con: \n\nCuentacuentos:\n\nAna Cristina Herreros y Daniel Tornero Rojo. Sábado 16 de febrero a las 12:00 h. Entrada gratuita hasta completar aforo\, a partir de 4 años. Duración aproximada 45 minutos. \n\nTaller de Ilustración:\n\nViernes 22 de febrero a las 18:00 h. Público familiar a partir de 4 años. Gratuito\, inscripciones en la biblioteca a partir del 1 de febrero. \nDossier informativo «Los Cuentos del Erizo» \n \n  \n 
URL:https://preproduccion.alpedrete.es/evento/los-cuentos-del-erizo/
LOCATION:Biblioteca Municipal\, Plaza de Francisco Rabal\, Alpedrete\, Madrid\, 28430\, España
CATEGORIES:Exposición
ATTACH;FMTTYPE=image/jpeg:https://preproduccion.alpedrete.es/wp-content/uploads/2019/02/los-cuentos-del-erizo-1.jpg
GEO:40.65755;-4.02389
X-APPLE-STRUCTURED-LOCATION;VALUE=URI;X-ADDRESS=Biblioteca Municipal Plaza de Francisco Rabal Alpedrete Madrid 28430 España;X-APPLE-RADIUS=500;X-TITLE=Plaza de Francisco Rabal:geo:-4.02389,40.65755
END:VEVENT
BEGIN:VEVENT
DTSTART;TZID=Europe/Madrid:20190213T173000
DTEND;TZID=Europe/Madrid:20190213T193000
DTSTAMP:20260423T033100
CREATED:20190129T151644Z
LAST-MODIFIED:20190129T151644Z
UID:24857-1550079000-1550086200@preproduccion.alpedrete.es
SUMMARY:Aprender a educar cuidando
DESCRIPTION:Nueva sesión del programa “Espacio para familias” de la Mancomunidad de Servicios Sociales THAM. “Aprender a educar cuidando” está dirigido a familias con menores hasta 10 años. \nEn el taller aprenderemos cómo construir relaciones respetuosas y saludables entre los miembros de la familia. Trabajaremos pautas educativas para un adecuado establecimiento de límites\, centrándonos en la autoridad (buenas prácticas\, errores de uso) y cómo reforzarla\, así como en las estrategias a adoptar ante la desobediencia. \n13 de febrero a las 17:30 horas en el CEIP Santa Quiteria. Inscripción previa en el Centro Municipal de Servicios Sociales THAM\, con posibilidad de cuidados infantiles solicitándolo en el momento de la inscripción.
URL:https://preproduccion.alpedrete.es/evento/aprender-a-educar-cuidando/
LOCATION:CEIP Santa Quiteria\, C/ Santa Quiteria 45\, Alpedrete\, Madrid\, 28430\, España
CATEGORIES:Escuela de Familia
ATTACH;FMTTYPE=image/jpeg:https://preproduccion.alpedrete.es/wp-content/uploads/2019/01/EDUCAR-CUIDANDO.jpg
GEO:40.6551181;-4.0198729
X-APPLE-STRUCTURED-LOCATION;VALUE=URI;X-ADDRESS=CEIP Santa Quiteria C/ Santa Quiteria 45 Alpedrete Madrid 28430 España;X-APPLE-RADIUS=500;X-TITLE=C/ Santa Quiteria 45:geo:-4.0198729,40.6551181
END:VEVENT
END:VCALENDAR