BEGIN:VCALENDAR
VERSION:2.0
PRODID:-//Web Ayuntamiento de Alpedrete - ECPv6.9.0//NONSGML v1.0//EN
CALSCALE:GREGORIAN
METHOD:PUBLISH
X-WR-CALNAME:Web Ayuntamiento de Alpedrete
X-ORIGINAL-URL:https://preproduccion.alpedrete.es
X-WR-CALDESC:Eventos para Web Ayuntamiento de Alpedrete
REFRESH-INTERVAL;VALUE=DURATION:PT1H
X-Robots-Tag:noindex
X-PUBLISHED-TTL:PT1H
BEGIN:VTIMEZONE
TZID:Europe/Madrid
BEGIN:DAYLIGHT
TZOFFSETFROM:+0100
TZOFFSETTO:+0200
TZNAME:CEST
DTSTART:20190331T010000
END:DAYLIGHT
BEGIN:STANDARD
TZOFFSETFROM:+0200
TZOFFSETTO:+0100
TZNAME:CET
DTSTART:20191027T010000
END:STANDARD
END:VTIMEZONE
BEGIN:VEVENT
DTSTART;TZID=Europe/Madrid:20190213T083000
DTEND;TZID=Europe/Madrid:20190227T223000
DTSTAMP:20260423T045556
CREATED:20190212T173008Z
LAST-MODIFIED:20190215T124554Z
UID:25070-1550046600-1551306600@preproduccion.alpedrete.es
SUMMARY:Los Cuentos del Erizo
DESCRIPTION:Del 13 al 26 de febrero\, la Biblioteca Municipal de Alpedrete presenta la exposición “Los Cuentos del Erizo”\, basada en las historias de tradición oral escuchadas\, traducidas y escritas por Ana Cristina Herreros\, contadas  en los campamentos de refugiados de Tinduf. \nLas ilustraciones se obtuvieron en los talleres de ilustración que Daniel Tornero Rojo realizó en la Dajla (Sáhara Occidental) durante el Fi Sáhara (Festival de Cine Internacional del Sahara Occidental) y posteriormente en algunos centros escolares y en varias bibliotecas Bubisher. Esta exposición muestra las maravillosas ilustraciones del libro con el mismo nombre\, juntando la voz de las mujeres y los dibujos de las niñas y niños del Sáhara. La exposición se puede visitar de lunes a viernes de 8:30 a 22:30 h. y los sábados de 9:30 a 14:30 h. \nComo actividades de animación de la exposición contaremos con: \n\nCuentacuentos:\n\nAna Cristina Herreros y Daniel Tornero Rojo. Sábado 16 de febrero a las 12:00 h. Entrada gratuita hasta completar aforo\, a partir de 4 años. Duración aproximada 45 minutos. \n\nTaller de Ilustración:\n\nViernes 22 de febrero a las 18:00 h. Público familiar a partir de 4 años. Gratuito\, inscripciones en la biblioteca a partir del 1 de febrero. \nDossier informativo «Los Cuentos del Erizo» \n \n  \n 
URL:https://preproduccion.alpedrete.es/evento/los-cuentos-del-erizo/
LOCATION:Biblioteca Municipal\, Plaza de Francisco Rabal\, Alpedrete\, Madrid\, 28430\, España
CATEGORIES:Exposición
ATTACH;FMTTYPE=image/jpeg:https://preproduccion.alpedrete.es/wp-content/uploads/2019/02/los-cuentos-del-erizo-1.jpg
GEO:40.65755;-4.02389
X-APPLE-STRUCTURED-LOCATION;VALUE=URI;X-ADDRESS=Biblioteca Municipal Plaza de Francisco Rabal Alpedrete Madrid 28430 España;X-APPLE-RADIUS=500;X-TITLE=Plaza de Francisco Rabal:geo:-4.02389,40.65755
END:VEVENT
BEGIN:VEVENT
DTSTART;VALUE=DATE:20190218
DTEND;VALUE=DATE:20190302
DTSTAMP:20260423T045556
CREATED:20190214T153640Z
LAST-MODIFIED:20190219T092624Z
UID:25095-1550448000-1551484799@preproduccion.alpedrete.es
SUMMARY:Exposición de manualidades
DESCRIPTION:En esta exposición podremos ver platos decorados\, cestas\, cajas con diferentes formas\, y todas aquellas manualidades que realizaron durante el año pasado las alumnas de los cursos para mayores de nuestro municipio que se imparten tanto en el Centro de Mayores de Alpedrete\, como en el Centro de Mayores de Los Negrales. Los visitantes también podrán apreciar una pequeña muestra de los trabajos de las alumnas del taller de pacthwork y corte y confección que dirige Raquel Velázquez. \nHorario de apertura: lunes a viernes: 8:30 a 22:30 h. Sábados: 9:30 a 14:30 h. Del 18 de febrero al 1 de marzo.
URL:https://preproduccion.alpedrete.es/evento/exposicion-de-manualidades/
LOCATION:Casa de Cultura Asunción Balaguer\, Plaza Francisco Rabal\, 2\, Alpedrete\, Madrid\, 28430 \, España
CATEGORIES:Mayores
ATTACH;FMTTYPE=image/jpeg:https://preproduccion.alpedrete.es/wp-content/uploads/2019/02/manualidades.jpg
GEO:40.6621635;-4.031169
X-APPLE-STRUCTURED-LOCATION;VALUE=URI;X-ADDRESS=Casa de Cultura Asunción Balaguer Plaza Francisco Rabal 2 Alpedrete Madrid 28430  España;X-APPLE-RADIUS=500;X-TITLE=Plaza Francisco Rabal\, 2:geo:-4.031169,40.6621635
END:VEVENT
BEGIN:VEVENT
DTSTART;TZID=Europe/Madrid:20190223T093000
DTEND;TZID=Europe/Madrid:20190223T123000
DTSTAMP:20260423T045556
CREATED:20190205T123733Z
LAST-MODIFIED:20190205T123733Z
UID:24968-1550914200-1550925000@preproduccion.alpedrete.es
SUMMARY:Taller de manualidades de Carnaval
DESCRIPTION:Se celebrarán varios talleres de 90 minutos cada uno\, en la Biblioteca Municipal. Las inscripciones se realizan en la propia biblioteca y están dirigidos a niñ@s a partir de 6 años. Las plazas son limitadas. \nLos días en los que se impartirán los talleres son: \nViernes 8 y 15 de febrero (de 17.30-19.00) y (de 19.00-20.30)\nSábado 23 de febrero (de 9.30-11.00) y (11.00-12.30)
URL:https://preproduccion.alpedrete.es/evento/taller-de-manualidades-de-carnaval-3/
LOCATION:Biblioteca Municipal\, Plaza de Francisco Rabal\, Alpedrete\, Madrid\, 28430\, España
CATEGORIES:Carnaval
ATTACH;FMTTYPE=image/jpeg:https://preproduccion.alpedrete.es/wp-content/uploads/2019/02/cartel-talleres-carnaval.jpg
GEO:40.65755;-4.02389
X-APPLE-STRUCTURED-LOCATION;VALUE=URI;X-ADDRESS=Biblioteca Municipal Plaza de Francisco Rabal Alpedrete Madrid 28430 España;X-APPLE-RADIUS=500;X-TITLE=Plaza de Francisco Rabal:geo:-4.02389,40.65755
END:VEVENT
BEGIN:VEVENT
DTSTART;TZID=Europe/Madrid:20190223T120000
DTEND;TZID=Europe/Madrid:20190223T130000
DTSTAMP:20260423T045556
CREATED:20190214T160241Z
LAST-MODIFIED:20190214T160241Z
UID:25134-1550923200-1550926800@preproduccion.alpedrete.es
SUMMARY:Cuentacuentos en inglés: “Sam´s search”
DESCRIPTION:El sábado 23 de febrero\, cuentacuentos en inglés presenta “Sam´s search”\, a cargo de Chameleon Theatre\, con Mike Schaupp. La sesión se celebrará en la Biblioteca Municipal a partir de las 12:00 de la mañana. Los menores de ocho años deben ir acompañados de un adulto. \n 
URL:https://preproduccion.alpedrete.es/evento/cuentacuentos-en-ingles-sams-search/
LOCATION:Biblioteca Municipal de Alpedrete\, Plaza Francisco Rabal\, 2\, Alpedrete\, 28430 \, España
CATEGORIES:Cuentacuentos
ATTACH;FMTTYPE=image/jpeg:https://preproduccion.alpedrete.es/wp-content/uploads/2016/05/mike-shaupp.jpg
GEO:40.6621635;-4.031169
X-APPLE-STRUCTURED-LOCATION;VALUE=URI;X-ADDRESS=Biblioteca Municipal de Alpedrete Plaza Francisco Rabal 2 Alpedrete 28430  España;X-APPLE-RADIUS=500;X-TITLE=Plaza Francisco Rabal\, 2:geo:-4.031169,40.6621635
END:VEVENT
BEGIN:VEVENT
DTSTART;TZID=Europe/Madrid:20190223T190000
DTEND;TZID=Europe/Madrid:20190223T220000
DTSTAMP:20260423T045556
CREATED:20190219T154922Z
LAST-MODIFIED:20190219T154922Z
UID:25206-1550948400-1550959200@preproduccion.alpedrete.es
SUMMARY:Experimentos locos
DESCRIPTION:El Centro de Juventud será un gran laboratorio de experimentos locos: slime\, gominolas\, globos con vida propia\, arena mágica…sábado 23 de febrero de 19:00 a 22:00 h. Actividad dedicada a jóvenes de 12 a 17 años. Para participar es necesario inscribirse previamente en el Centro de Juventud (c/ Félix Díaz\, 3.)Teléfono 918571394 o en  juventud.inscripciones@alpedrete.es
URL:https://preproduccion.alpedrete.es/evento/experimentos-locos/
LOCATION:Centro de Juventud\, Félix Díaz\, 5\, Alpedrete\, España
CATEGORIES:Juventud
ATTACH;FMTTYPE=image/jpeg:https://preproduccion.alpedrete.es/wp-content/uploads/2019/02/slime-experimentos.jpg
GEO:40.6602847;-4.0252745
X-APPLE-STRUCTURED-LOCATION;VALUE=URI;X-ADDRESS=Centro de Juventud Félix Díaz 5 Alpedrete España;X-APPLE-RADIUS=500;X-TITLE=Félix Díaz\, 5:geo:-4.0252745,40.6602847
END:VEVENT
END:VCALENDAR