BEGIN:VCALENDAR
VERSION:2.0
PRODID:-//Web Ayuntamiento de Alpedrete - ECPv6.9.0//NONSGML v1.0//EN
CALSCALE:GREGORIAN
METHOD:PUBLISH
X-WR-CALNAME:Web Ayuntamiento de Alpedrete
X-ORIGINAL-URL:https://preproduccion.alpedrete.es
X-WR-CALDESC:Eventos para Web Ayuntamiento de Alpedrete
REFRESH-INTERVAL;VALUE=DURATION:PT1H
X-Robots-Tag:noindex
X-PUBLISHED-TTL:PT1H
BEGIN:VTIMEZONE
TZID:Europe/Madrid
BEGIN:DAYLIGHT
TZOFFSETFROM:+0100
TZOFFSETTO:+0200
TZNAME:CEST
DTSTART:20190331T010000
END:DAYLIGHT
BEGIN:STANDARD
TZOFFSETFROM:+0200
TZOFFSETTO:+0100
TZNAME:CET
DTSTART:20191027T010000
END:STANDARD
END:VTIMEZONE
BEGIN:VEVENT
DTSTART;TZID=Europe/Madrid:20190303T103000
DTEND;TZID=Europe/Madrid:20190303T150000
DTSTAMP:20260422T122834
CREATED:20190228T121511Z
LAST-MODIFIED:20190228T122354Z
UID:25326-1551609000-1551625200@preproduccion.alpedrete.es
SUMMARY:Feria de Productos Locales
DESCRIPTION:El primer domingo de mes y la plaza de la Constitución acogen la “Feria de productos locales en Alpedrete” de 10:30 de la mañana a 15:00 de la tarde. Cerveza artesanal té\, miel\, dulces\, cosmética natural\, plantas medicinales\, productos naturales para animales… Una propuesta de productos eco certificados a la que se unen puestos de artesanía.
URL:https://preproduccion.alpedrete.es/evento/feria-de-productos-locales/
LOCATION:Plaza de la Constitución\, Alpedrete\, Madrid\, 28430\, España
CATEGORIES:Mercadillo
ATTACH;FMTTYPE=image/jpeg:https://preproduccion.alpedrete.es/wp-content/uploads/2019/02/Feria-de-productos-locales.jpg
END:VEVENT
END:VCALENDAR