BEGIN:VCALENDAR
VERSION:2.0
PRODID:-//Web Ayuntamiento de Alpedrete - ECPv6.9.0//NONSGML v1.0//EN
CALSCALE:GREGORIAN
METHOD:PUBLISH
X-WR-CALNAME:Web Ayuntamiento de Alpedrete
X-ORIGINAL-URL:https://preproduccion.alpedrete.es
X-WR-CALDESC:Eventos para Web Ayuntamiento de Alpedrete
REFRESH-INTERVAL;VALUE=DURATION:PT1H
X-Robots-Tag:noindex
X-PUBLISHED-TTL:PT1H
BEGIN:VTIMEZONE
TZID:Europe/Madrid
BEGIN:DAYLIGHT
TZOFFSETFROM:+0100
TZOFFSETTO:+0200
TZNAME:CEST
DTSTART:20190331T010000
END:DAYLIGHT
BEGIN:STANDARD
TZOFFSETFROM:+0200
TZOFFSETTO:+0100
TZNAME:CET
DTSTART:20191027T010000
END:STANDARD
END:VTIMEZONE
BEGIN:VEVENT
DTSTART;TZID=Europe/Madrid:20190304T100000
DTEND;TZID=Europe/Madrid:20190330T220000
DTSTAMP:20260422T154928
CREATED:20190228T091538Z
LAST-MODIFIED:20190228T091831Z
UID:25321-1551693600-1553983200@preproduccion.alpedrete.es
SUMMARY:Mundos naturales\, exposición fotográfica
DESCRIPTION:El fotógrafo Federico de Haro presenta en la Casa de Cultura Asunción Balaguer la exposición fotográfica titulada “Mundos Naturales”. Se podrá visitar del 4 al 30 de marzo en el horario habitual de la Casa de Cultura. \nEl jueves 15 de marzo\, el autor hará una visita guiada a partir de las 19:00 de la tarde para explicar las técnicas que se deben utilizar para hacer fotografías en la naturaleza y comentar los lugares donde fueron realizadas. \n“Mundos naturales” es una exposición de fotografía de naturaleza que ofrece un recorrido por paisajes que van desde la alta montaña hasta la costa\, pasando por bosques\, zonas volcánicas y otros ecosistemas. La composición y el tratamiento de la luz son las señas de identidad del autor.
URL:https://preproduccion.alpedrete.es/evento/mundos-naturales-exposicion-fotografica/
LOCATION:Casa de Cultura Asunción Balaguer\, Plaza de Francisco Rabal\, Alpedrete\, Madrid\, 28430\, España
CATEGORIES:Fotografía
ATTACH;FMTTYPE=image/jpeg:https://preproduccion.alpedrete.es/wp-content/uploads/2019/02/MG_8571.jpg
GEO:40.65755;-4.02389
X-APPLE-STRUCTURED-LOCATION;VALUE=URI;X-ADDRESS=Casa de Cultura Asunción Balaguer Plaza de Francisco Rabal Alpedrete Madrid 28430 España;X-APPLE-RADIUS=500;X-TITLE=Plaza de Francisco Rabal:geo:-4.02389,40.65755
END:VEVENT
BEGIN:VEVENT
DTSTART;TZID=Europe/Madrid:20190309T120000
DTEND;TZID=Europe/Madrid:20190309T130000
DTSTAMP:20260422T154928
CREATED:20190305T122055Z
LAST-MODIFIED:20190305T122055Z
UID:25385-1552132800-1552136400@preproduccion.alpedrete.es
SUMMARY:Cuentacuentos en inglés: "St. Patrick´s day"
DESCRIPTION:Cuentacuentos en inglés vuelve a la Biblioteca Municipal el 9 de marzo de 2019 a partir de las 12:00 de la mañana a cargo de Chameleon Theatre\, con Mike Schaupp. La aventura programada es «St. Patrick´s day». Los menores de ocho años deben ir acompañados de un adulto. \n 
URL:https://preproduccion.alpedrete.es/evento/cuentacuentos-en-ingles-st-patricks-day/
LOCATION:Biblioteca Municipal de Alpedrete\, Plaza Francisco Rabal\, 2\, Alpedrete\, 28430 \, España
CATEGORIES:Cuentacuentos
ATTACH;FMTTYPE=image/jpeg:https://preproduccion.alpedrete.es/wp-content/uploads/2019/03/st-patricks-day-irish-gold-st-patrick-st-patricks-day-background-celebration-1368929-pxhere.com_.jpg
GEO:40.6621635;-4.031169
X-APPLE-STRUCTURED-LOCATION;VALUE=URI;X-ADDRESS=Biblioteca Municipal de Alpedrete Plaza Francisco Rabal 2 Alpedrete 28430  España;X-APPLE-RADIUS=500;X-TITLE=Plaza Francisco Rabal\, 2:geo:-4.031169,40.6621635
END:VEVENT
BEGIN:VEVENT
DTSTART;TZID=Europe/Madrid:20190309T183000
DTEND;TZID=Europe/Madrid:20190309T193000
DTSTAMP:20260422T154928
CREATED:20190301T145142Z
LAST-MODIFIED:20190301T145305Z
UID:25362-1552156200-1552159800@preproduccion.alpedrete.es
SUMMARY:"Arturo y Clementina"
DESCRIPTION:“ARTURO Y CLEMENTINA” Concierto para piano y teatro de objetos \n\nSábado 9 de marzo. 18:30 h. Para todos los públicos.\nCasa de Cultura Asunción Balaguer.\nPrecio: 6 euros entrada general y 3 euros la reducida. Reservas de entradas desde el lunes 4 de marzo en la Casa de Cultura Asunción Balaguer o en el 918571590.\nCompañía: Titiritran.\nContenido: Hace más de 30 años\, la historiadora del arte y escritora Adela Turin comenzó a publicar en Italia “Dalla parte delle bambine”\, que poco después fue editada en España con el título de “A favor de las niñas”. Se convirtió en una serie de referencia para la educación en igualdad y fue traducida a varios idiomas. “Arturo y Clementina” es quizás uno de sus cuentos más reconocidos a nivel mundial. “Arturo y Clementina” son dos tortugas enamoradas que deciden compartir su vida. Clementina es alegre\, vivaz y soñadora. Arturo carga sobre su caparazón la responsabilidad de mantenerla y ofrecerle todo lo que él considera valioso. Pero los criterios de ambos son muy diferentes. “Arturo y Clementina” está recomendado por la comisión artística de la Red Española de Teatros\, Auditorios\, Circuitos y Festivales de Titularidad Pública y tiene un premio mención especial FETEN 2016 entre otros.\nVídeo\n\n \nProgramación completa Día Internacional de la Mujer
URL:https://preproduccion.alpedrete.es/evento/arturo-y-clementina/
LOCATION:Alpedrete\, Madrid\, 28430\, España
CATEGORIES:Concierto,Teatro
ATTACH;FMTTYPE=image/jpeg:https://preproduccion.alpedrete.es/wp-content/uploads/2019/03/arturo-y-clementina-banner.jpg
END:VEVENT
BEGIN:VEVENT
DTSTART;TZID=Europe/Madrid:20190309T190000
DTEND;TZID=Europe/Madrid:20190309T220000
DTSTAMP:20260422T154928
CREATED:20190305T124004Z
LAST-MODIFIED:20190305T124101Z
UID:25400-1552158000-1552168800@preproduccion.alpedrete.es
SUMMARY:Noche Joven
DESCRIPTION:Master class de ping pong y torneos de futbolín y ping pong. Sábado 9 de marzo de 19:00 a 22:00 h. Actividad dirigida a jovenes de12 a 17 años\, necesaria inscripción previa.
URL:https://preproduccion.alpedrete.es/evento/noche-joven-4/
LOCATION:Alpedrete\, Madrid\, 28430\, España
CATEGORIES:Juventud
ATTACH;FMTTYPE=image/jpeg:https://preproduccion.alpedrete.es/wp-content/uploads/2019/03/ping-pong.jpg
END:VEVENT
END:VCALENDAR