BEGIN:VCALENDAR
VERSION:2.0
PRODID:-//Web Ayuntamiento de Alpedrete - ECPv6.9.0//NONSGML v1.0//EN
CALSCALE:GREGORIAN
METHOD:PUBLISH
X-WR-CALNAME:Web Ayuntamiento de Alpedrete
X-ORIGINAL-URL:https://preproduccion.alpedrete.es
X-WR-CALDESC:Eventos para Web Ayuntamiento de Alpedrete
REFRESH-INTERVAL;VALUE=DURATION:PT1H
X-Robots-Tag:noindex
X-PUBLISHED-TTL:PT1H
BEGIN:VTIMEZONE
TZID:Europe/Madrid
BEGIN:DAYLIGHT
TZOFFSETFROM:+0100
TZOFFSETTO:+0200
TZNAME:CEST
DTSTART:20190331T010000
END:DAYLIGHT
BEGIN:STANDARD
TZOFFSETFROM:+0200
TZOFFSETTO:+0100
TZNAME:CET
DTSTART:20191027T010000
END:STANDARD
END:VTIMEZONE
BEGIN:VEVENT
DTSTART;TZID=Europe/Madrid:20190304T100000
DTEND;TZID=Europe/Madrid:20190330T220000
DTSTAMP:20260425T041659
CREATED:20190228T091538Z
LAST-MODIFIED:20190228T091831Z
UID:25321-1551693600-1553983200@preproduccion.alpedrete.es
SUMMARY:Mundos naturales\, exposición fotográfica
DESCRIPTION:El fotógrafo Federico de Haro presenta en la Casa de Cultura Asunción Balaguer la exposición fotográfica titulada “Mundos Naturales”. Se podrá visitar del 4 al 30 de marzo en el horario habitual de la Casa de Cultura. \nEl jueves 15 de marzo\, el autor hará una visita guiada a partir de las 19:00 de la tarde para explicar las técnicas que se deben utilizar para hacer fotografías en la naturaleza y comentar los lugares donde fueron realizadas. \n“Mundos naturales” es una exposición de fotografía de naturaleza que ofrece un recorrido por paisajes que van desde la alta montaña hasta la costa\, pasando por bosques\, zonas volcánicas y otros ecosistemas. La composición y el tratamiento de la luz son las señas de identidad del autor.
URL:https://preproduccion.alpedrete.es/evento/mundos-naturales-exposicion-fotografica/
LOCATION:Casa de Cultura Asunción Balaguer\, Plaza de Francisco Rabal\, Alpedrete\, Madrid\, 28430\, España
CATEGORIES:Fotografía
ATTACH;FMTTYPE=image/jpeg:https://preproduccion.alpedrete.es/wp-content/uploads/2019/02/MG_8571.jpg
GEO:40.65755;-4.02389
X-APPLE-STRUCTURED-LOCATION;VALUE=URI;X-ADDRESS=Casa de Cultura Asunción Balaguer Plaza de Francisco Rabal Alpedrete Madrid 28430 España;X-APPLE-RADIUS=500;X-TITLE=Plaza de Francisco Rabal:geo:-4.02389,40.65755
END:VEVENT
BEGIN:VEVENT
DTSTART;TZID=Europe/Madrid:20190310T110000
DTEND;TZID=Europe/Madrid:20190310T130000
DTSTAMP:20260425T041659
CREATED:20190305T143607Z
LAST-MODIFIED:20190309T203011Z
UID:25411-1552215600-1552222800@preproduccion.alpedrete.es
SUMMARY:Presentación de la guía “Mamíferos de Alpedrete”
DESCRIPTION:El Ayuntamiento de Alpedrete presentará el domingo 10 de marzo la guía “Mamíferos de Alpedrete”. El acto de presentación tendrá lugar a partir de las 11:00 de la mañana en las confluencias de las calles Palmira y Los Molinos. Una vez entregada la guía comenzará una ruta por el cordel de los Molinos con el autor de la publicación. Iván Lizcano Ochaita\, técnico forestal y miembro de la Sociedad Española para la Conservación y Estudios de los Mamíferos\, explicará el contenido de la guía y dará algunas pautas para localizar especies huidizas al ojo del ser humano. \nMás información: https://preproduccion.alpedrete.es/presentacion-de-la-guia-mamiferos-de-alpedrete/ \n  \n  \n 
URL:https://preproduccion.alpedrete.es/evento/presentacion-de-la-guia-mamiferos-de-alpedrete/
LOCATION:Alpedrete\, Alpedrete\, Madrid\, 28430\, España
CATEGORIES:Medioambiente
ATTACH;FMTTYPE=image/jpeg:https://preproduccion.alpedrete.es/wp-content/uploads/2019/03/Portada-2.jpg
END:VEVENT
BEGIN:VEVENT
DTSTART;TZID=Europe/Madrid:20190310T110000
DTEND;TZID=Europe/Madrid:20190310T150000
DTSTAMP:20260425T041659
CREATED:20190304T141105Z
LAST-MODIFIED:20190304T143019Z
UID:25373-1552215600-1552230000@preproduccion.alpedrete.es
SUMMARY:Truequedrete
DESCRIPTION:El mercadillo de intercambio denominado “Truequedrete” es una actividad que surgió de un grupo de ciudadanos y que tras los encuentros del Consejo Sectorial de Medio Ambiente del Ayuntamiento de Alpedrete. El propósito es fomentar la reutilización y evitar la llegada al vertedero de aquellos objetos que están en buen estado y aún pueden ser usados. \n“Truequedrete”\, además de intercambiar\, permite la venta y regalo de objetos\, según los requisitos definidos en las características de la actividad. Se trata de un espacio pensado exclusivamente para los vecinos de Alpedrete que participarán a título personal\, no como empresario\, profesional o autónomo. \nCaracterísticas de Truequedrete \n\nEn el Truequedrete podrán exponer para vender\, regalar o intercambiar EXCLUSIVAMENTE los vecinos de Alpedrete que lo acrediten con el justificante de empadronamiento o DNI que lo demuestre. Los vecinos que quieran vender tendrán que disponer de la solicitud de autorización presentada en el registro municipal.\nEl objetivo del Truequedrete es fomentar el intercambio y reutilización de objetos de segunda mano y/o elaborados con materiales reciclables\, pero a precios no comerciales.\nLa participación se realiza de forma gratuita y a título estrictamente particular y nunca como EMPRESARIO\, PROFESIONAL O AUTÓNOMO en ninguna de sus modalidades.\nHabrá un espacio destinado para las organizaciones de carácter social que deseen participar\, previa autorización municipal. Deberán estar inscritas en el Registro de Asociaciones del Ayuntamiento de Alpedrete.\nSe ubica en la plaza de la Constitución y se celebra el segundo domingo de cada mes\, excepto cuando las condiciones climatológicas lo impidan.\nEl horario es de 12:00 a 14:00 horas.\nEn el Truequedrete se pueden vender y comprar\, intercambiar o regalar: juguetes\, antigüedades\, libros\, ropa\, artesanía\, pequeños muebles\, pequeños electrodomésticos\, herramientas\, etc.\nPueden ser usados o en perfecto estado\, pero a precios módicos o simbólicos.\nQueda expresamente prohibida la venta de alimentos y bebidas\, animales y plantas y productos químicos\, cosméticos y de higiene.\nLos participantes utilizarán sus propias infraestructuras colocando los objetos sobre mesas\, cestas o cajas de madera y utilizando carpas o toldos que no supere el espacio máximo por puesto de 3m de largo por 1\,5m de ancho. Se intentará crear un ambiente agradable.\n\nNormas para exponer \nLa primera vez que quieran exponer\, los interesados deberán solicitar autorización previa al segundo domingo de cada mes. La solicitud se cursará a través del registro del Ayuntamiento y debe incluir la siguiente información: \nNombre\nD.N.I.\nTeléfono\nDomicilio\nY especificar: “Quiero participar como expositor en el próximo “Truequedrete” del segundo domingo de mes”. \n\nPodrán participar menores\, siempre que estén acompañados de un adulto\, por lo que la petición la realizará el adulto.\nUna vez comprobada la petición\, se enviará un correo de respuesta autorizando la participación en el Truequedrete.\nEn lo sucesivo ya no hará falta la solicitud del puesto\, simplemente cada segundo domingo de mes se puede exponer libremente.\nEl expositor deberá tener a mano el justificante de solicitud por email y el justificante de empadronamiento o DNI que demuestre el domicilio para presentar a cualquier inspección y tendrán que abandonar el Truequedrete quienes no presenten la documentación requerida o incumplan las condiciones generales de venta.\nParticipar en esta actividad supone la aceptación de las presentes normas.
URL:https://preproduccion.alpedrete.es/evento/truequedrete-4/
LOCATION:Plaza de la Constitución\, Alpedrete\, Madrid\, 28430\, España
CATEGORIES:Mercadillo
ATTACH;FMTTYPE=image/jpeg:https://preproduccion.alpedrete.es/wp-content/uploads/2019/03/mercadillo-trueque.jpg
END:VEVENT
BEGIN:VEVENT
DTSTART;TZID=Europe/Madrid:20190310T183000
DTEND;TZID=Europe/Madrid:20190310T200000
DTSTAMP:20260425T041659
CREATED:20190301T144120Z
LAST-MODIFIED:20190301T145342Z
UID:25359-1552242600-1552248000@preproduccion.alpedrete.es
SUMMARY:"Ellas ponen el título"
DESCRIPTION:“ELLAS PONEN EL TÍTULO” Teatro\n \n\nDomingo 10 de marzo. 18:30 h. A partir de 15 años.\nCasa de Cultura Asunción Balaguer.\nCompañía Delfoteatro.\nContenido: Lucía Rivas Cadalso\, escritora de gran éxito\, recibe un importante revés al ver publicada en una revista\, perteneciente a su grupo editorial\, una dura crítica a su obra. Este hecho va a hacer tambalear su visión acerca de la sociedad en la que vive. A través de las vidas de tres grandes referentes: Sor Juana Inés de la Cruz\, Carolina Coronado y Clara Campoamor\, Lucía irá descubriendo cómo las mujeres\, tan diferentes unas de otras\, se enfrentan a situaciones y dificultades comunes en todas las épocas e irá entendiendo el carácter estructural de las desigualdades a las que las mujeres se enfrentan\, aún\, hoy día.\nVídeo.\n\nProgramación completa Día Internacional de la Mujer
URL:https://preproduccion.alpedrete.es/evento/ellas-ponen-el-titulo/
LOCATION:Casa de Cultura Asunción Balaguer\, Plaza Francisco Rabal\, 2\, Alpedrete\, Madrid\, 28430 \, España
CATEGORIES:Teatro
ATTACH;FMTTYPE=image/jpeg:https://preproduccion.alpedrete.es/wp-content/uploads/2019/03/ellas-ponen-el-título.jpg
GEO:40.6621635;-4.031169
X-APPLE-STRUCTURED-LOCATION;VALUE=URI;X-ADDRESS=Casa de Cultura Asunción Balaguer Plaza Francisco Rabal 2 Alpedrete Madrid 28430  España;X-APPLE-RADIUS=500;X-TITLE=Plaza Francisco Rabal\, 2:geo:-4.031169,40.6621635
END:VEVENT
END:VCALENDAR