BEGIN:VCALENDAR
VERSION:2.0
PRODID:-//Web Ayuntamiento de Alpedrete - ECPv6.9.0//NONSGML v1.0//EN
CALSCALE:GREGORIAN
METHOD:PUBLISH
X-ORIGINAL-URL:https://preproduccion.alpedrete.es
X-WR-CALDESC:Eventos para Web Ayuntamiento de Alpedrete
REFRESH-INTERVAL;VALUE=DURATION:PT1H
X-Robots-Tag:noindex
X-PUBLISHED-TTL:PT1H
BEGIN:VTIMEZONE
TZID:Europe/Madrid
BEGIN:DAYLIGHT
TZOFFSETFROM:+0100
TZOFFSETTO:+0200
TZNAME:CEST
DTSTART:20190331T010000
END:DAYLIGHT
BEGIN:STANDARD
TZOFFSETFROM:+0200
TZOFFSETTO:+0100
TZNAME:CET
DTSTART:20191027T010000
END:STANDARD
END:VTIMEZONE
BEGIN:VEVENT
DTSTART;TZID=Europe/Madrid:20190304T100000
DTEND;TZID=Europe/Madrid:20190330T220000
DTSTAMP:20260423T150829
CREATED:20190228T091538Z
LAST-MODIFIED:20190228T091831Z
UID:25321-1551693600-1553983200@preproduccion.alpedrete.es
SUMMARY:Mundos naturales\, exposición fotográfica
DESCRIPTION:El fotógrafo Federico de Haro presenta en la Casa de Cultura Asunción Balaguer la exposición fotográfica titulada “Mundos Naturales”. Se podrá visitar del 4 al 30 de marzo en el horario habitual de la Casa de Cultura. \nEl jueves 15 de marzo\, el autor hará una visita guiada a partir de las 19:00 de la tarde para explicar las técnicas que se deben utilizar para hacer fotografías en la naturaleza y comentar los lugares donde fueron realizadas. \n“Mundos naturales” es una exposición de fotografía de naturaleza que ofrece un recorrido por paisajes que van desde la alta montaña hasta la costa\, pasando por bosques\, zonas volcánicas y otros ecosistemas. La composición y el tratamiento de la luz son las señas de identidad del autor.
URL:https://preproduccion.alpedrete.es/evento/mundos-naturales-exposicion-fotografica/
LOCATION:Casa de Cultura Asunción Balaguer\, Plaza de Francisco Rabal\, Alpedrete\, Madrid\, 28430\, España
CATEGORIES:Fotografía
ATTACH;FMTTYPE=image/jpeg:https://preproduccion.alpedrete.es/wp-content/uploads/2019/02/MG_8571.jpg
GEO:40.65755;-4.02389
X-APPLE-STRUCTURED-LOCATION;VALUE=URI;X-ADDRESS=Casa de Cultura Asunción Balaguer Plaza de Francisco Rabal Alpedrete Madrid 28430 España;X-APPLE-RADIUS=500;X-TITLE=Plaza de Francisco Rabal:geo:-4.02389,40.65755
END:VEVENT
BEGIN:VEVENT
DTSTART;TZID=Europe/Madrid:20190330T110000
DTEND;TZID=Europe/Madrid:20190330T140000
DTSTAMP:20260423T150829
CREATED:20190325T132920Z
LAST-MODIFIED:20190325T132920Z
UID:25693-1553943600-1553954400@preproduccion.alpedrete.es
SUMMARY:XXVI Duatlón de Alpedrete
DESCRIPTION:El sábado 30 de marzo se celebrará la vigésimo sexta edición del Duatlón Cross Villa de Alpedrete\, que también es campeonato Individual de Duatlón Cross de La Comunidad de Madrid y campeonato Universitario de Madrid. La prueba comenzará a las 11:00 de la mañana. A partir de las 09:00 h se entregarán los dorsales a los participantes en la Dehesa Municipal\, en el entorno de la conocida como “Cantera de las Truchas”. \nUn total de 350 atletas pueden participar en la prueba\, para la que es necesario inscribirse previamente a través de este enlace. Los precios varían en función de cuándo se ha realizado la inscripción y de si el participante está empadronado o no en Alpedrete. Puede participar cualquier persona que lo desee\, sin importar condición\, sexo o nacionalidad de acuerdo con las limitaciones y categorías establecidas en el reglamento de la prueba. La edad mínima es de 18 años (nacidos en 2001 o anterior). Los participantes se comprometen a garantizar que su estado de salud les permite afrontar la prueba sin riesgo alguno. \nLa prueba transcurre en plena naturaleza por lo que la conducta del participante con respecto al medio ambiente tendrá que ser de profundo respeto por el entorno donde se celebra.
URL:https://preproduccion.alpedrete.es/evento/xxvi-duatlon-de-alpedrete/
LOCATION:Dehesa Municipal de Alpedrete\, Camino de la Dehesa s/n\, Alpedrete\, Madrid\, 28430\, España
CATEGORIES:Deportes
ATTACH;FMTTYPE=image/jpeg:https://preproduccion.alpedrete.es/wp-content/uploads/2019/03/Duatlón3.jpg
GEO:40.6614541;-4.0184429
X-APPLE-STRUCTURED-LOCATION;VALUE=URI;X-ADDRESS=Dehesa Municipal de Alpedrete Camino de la Dehesa s/n Alpedrete Madrid 28430 España;X-APPLE-RADIUS=500;X-TITLE=Camino de la Dehesa s/n:geo:-4.0184429,40.6614541
END:VEVENT
BEGIN:VEVENT
DTSTART;TZID=Europe/Madrid:20190330T180000
DTEND;TZID=Europe/Madrid:20190330T193000
DTSTAMP:20260423T150829
CREATED:20190325T090758Z
LAST-MODIFIED:20190325T090758Z
UID:25655-1553968800-1553974200@preproduccion.alpedrete.es
SUMMARY:Encuentro coral de primavera
DESCRIPTION:El sábado 30 de marzo la Casa de Cultura Asunción Balaguer acogerá a partir de las 18:00 de la tarde el “Encuentro coral de primavera”. La entrada es libre hasta completar aforo. \nParticiparán: \n\nEl coro de niñas y niños más el conjunto vocal de la Escuela Municipal de Música y Danza de Alpedrete dirigido por Raúl Trincado.\nEl coro “Canticorum lubilo” de la Escuela Municipal de Música y Danza de Alpedrete dirigido por Ramón Pérez.\nEl coro “Voces de Gredos” de la Escuela Municipal de Música y Danza de Arenas de San Pedro dirigido por José Antonio Díez (coro invitado).
URL:https://preproduccion.alpedrete.es/evento/encuentro-coral-de-primavera-2/
LOCATION:Casa de Cultura Asunción Balaguer\, Plaza de Francisco Rabal\, Alpedrete\, Madrid\, 28430\, España
CATEGORIES:Concierto
ATTACH;FMTTYPE=image/jpeg:https://preproduccion.alpedrete.es/wp-content/uploads/2019/03/choir-408422_1280.jpg
GEO:40.65755;-4.02389
X-APPLE-STRUCTURED-LOCATION;VALUE=URI;X-ADDRESS=Casa de Cultura Asunción Balaguer Plaza de Francisco Rabal Alpedrete Madrid 28430 España;X-APPLE-RADIUS=500;X-TITLE=Plaza de Francisco Rabal:geo:-4.02389,40.65755
END:VEVENT
BEGIN:VEVENT
DTSTART;TZID=Europe/Madrid:20190330T190000
DTEND;TZID=Europe/Madrid:20190330T220000
DTSTAMP:20260423T150829
CREATED:20190325T093711Z
LAST-MODIFIED:20190325T111802Z
UID:25660-1553972400-1553983200@preproduccion.alpedrete.es
SUMMARY:Noche Joven
DESCRIPTION:El sábado 30 de marzo la cita está en el Centro de Juventud con “Escape room”\, una actividad programada para jóvenes con edades comprendidas entre los 12 y los 17 años. Las pruebas comenzarán a las 19:00 de la tarde y concluirán a las 22:00 de la noche. \nPara participar en la sesión de Escape room es necesario inscribirse previamente en el Centro de Juventud. Es gratuito.
URL:https://preproduccion.alpedrete.es/evento/noche-joven-8/
LOCATION:Centro de Juventud\, España
CATEGORIES:Juventud
ATTACH;FMTTYPE=image/jpeg:https://preproduccion.alpedrete.es/wp-content/uploads/2019/03/scape-room2.jpg
END:VEVENT
BEGIN:VEVENT
DTSTART;TZID=Europe/Madrid:20190330T203000
DTEND;TZID=Europe/Madrid:20190330T213000
DTSTAMP:20260423T150829
CREATED:20190329T144106Z
LAST-MODIFIED:20190329T144106Z
UID:25784-1553977800-1553981400@preproduccion.alpedrete.es
SUMMARY:Alpedrete en la "Hora del Planeta"
DESCRIPTION:El Ayuntamiento de Alpedrete participa por cuarto año consecutivo en la “Hora del Planeta”\, una iniciativa de la asociación WWF que desde el año 2007 intenta llamar la atención sobre el cambio climático con la acción simbólica de apagar la luz el 30 de marzo de 20:30 de la tarde a 21:30 de la noche en todo el planeta. \nAlpedrete\, como en años anteriores\, se suma a la llamada a la concienciación apagando las luces de la Plaza de la Villa y del Ayuntamiento. En la edición 2019 de la “Hora del Planeta”\, además\, se plantean tres retos relacionados con el consumo de carne\, de plásticos de un solo uso y de la emisión de CO2 por el uso de transporte: \n\n#RetoDíaSinCarne: se necesitan 15.500 litros de agua para producir un kilo de carne.\n#RetoDíaSinPlástico de un solo uso: cada año se vierten 100 millones de toneladas de plástico a la naturaleza.\n#RetoDíaSinEmisiones: el transporte urbano es el causante del 30% de todas las emisiones de CO2.\n\nEl Ayuntamiento de Alpedrete ha manifestado su voluntad de aceptar el #RetoDíaSinPlástico y el #RetoDíaSinEmisiones\, dos áreas en las que se han realizado diversas acciones en el último año. \n#RetoDíaSinPlástico \nCoincidiendo con la “Hora del Planeta 2019”\, el Ayuntamiento de Alpedrete hace pública la guía titulada “Objetos cotidianos\, ¿cuánto tardan en degradarse?”\, en la que se recoge el trabajo realizado durante 2018 con una campaña de concienciación mensual. \n\n Objetos cotidianos. ¿Cuánto tardan en degradarse?\n\n#RetoDíaSinEmisiones \nEn cuanto a la reducción de emisiones\, en la “Hora del Planeta 2019” se van a llevar a cabo dos acciones relacionadas en el ámbito formativo de los más jóvenes. \nEl viernes 29 de marzo se entregarán los cheques correspondientes a los ahorros conseguidos por los colegios públicos en el programa de eficiencia energética conocido como 50/50\, que propone un consumo sostenible de electricidad\, calefacción y agua. El ahorro neto de los colegios a lo largo de curso 2017/2018 fue de 5\,67 toneladas de CO2. \n\n Informe programa eficiencia energética 50/50 curso 2017/2018.pdf\n\nEn segundo lugar\, la semana en la que se celebra “La Hora del Planeta”\, el Ayuntamiento de Alpedrete hace públicos los vídeos realizados por las chicas y los chicos que participaron en el curso de aprendizaje para producir\, grabar y montar un vídeo utilizando el móvil. El contenido de los vídeos es una reflexión sobre la gestión de los residuos\, el uso del agua\, o el cambio climático. Los autores realizaron unas grabaciones que luego compartieron. Cada grupo de trabajo realizó un guion y montaje. \nLos cuatro vídeos se encuentran alojados en el canal de información que el Ayuntamiento de Alpedrete tiene en Youtube. Para que sea más sencillo su visionado\, los cuatro se han compilado en un único vídeo. Se pueden ver por el siguiente orden: el primero no tiene título por expreso deseo de sus autores. El segundo es “Piensa”\, el tercero “Destrucción” y el cuarto “La Mirada”.
URL:https://preproduccion.alpedrete.es/evento/alpedrete-en-la-hora-del-planeta/
LOCATION:Alpedrete\, Alpedrete\, Madrid\, 28430\, España
CATEGORIES:Medioambiente
ATTACH;FMTTYPE=image/jpeg:https://preproduccion.alpedrete.es/wp-content/uploads/2019/03/Sin-título-1-9.jpg
END:VEVENT
END:VCALENDAR