BEGIN:VCALENDAR
VERSION:2.0
PRODID:-//Web Ayuntamiento de Alpedrete - ECPv6.9.0//NONSGML v1.0//EN
CALSCALE:GREGORIAN
METHOD:PUBLISH
X-WR-CALNAME:Web Ayuntamiento de Alpedrete
X-ORIGINAL-URL:https://preproduccion.alpedrete.es
X-WR-CALDESC:Eventos para Web Ayuntamiento de Alpedrete
REFRESH-INTERVAL;VALUE=DURATION:PT1H
X-Robots-Tag:noindex
X-PUBLISHED-TTL:PT1H
BEGIN:VTIMEZONE
TZID:Europe/Madrid
BEGIN:DAYLIGHT
TZOFFSETFROM:+0100
TZOFFSETTO:+0200
TZNAME:CEST
DTSTART:20190331T010000
END:DAYLIGHT
BEGIN:STANDARD
TZOFFSETFROM:+0200
TZOFFSETTO:+0100
TZNAME:CET
DTSTART:20191027T010000
END:STANDARD
END:VTIMEZONE
BEGIN:VEVENT
DTSTART;VALUE=DATE:20190401
DTEND;VALUE=DATE:20190413
DTSTAMP:20260423T133048
CREATED:20190327T103110Z
LAST-MODIFIED:20190405T134119Z
UID:25750-1554076800-1555113599@preproduccion.alpedrete.es
SUMMARY:“Conoce tus árboles”\, exposición y taller
DESCRIPTION:Del 1 al 12 de abril se expone en la Casa de la Cultura Asunción Balaguer “Conoce tus árboles”\, una muestra fotográfica que recoge usos\, costumbres y curiosidades de algunos de los árboles más emblemáticos que existen en la península ibérica. \nLa exposición está formada por paneles fotográficos de gran formato (100 x 80 centímetros) de especies arbóreas como arce\, nogal\, tejo\, álamo\, encina\, serbal de los cazadores\, acebo\, higuera\, pino piñonero\, sabina\, enebro\, castaño y alcornoque. Así mismo\, contiene dos paneles informativos en los que se explican los beneficios y problemas de los árboles. \nEl viernes 5 de abril se realizará un taller para despertar el interés de niños y mayores sobre el mundo de los árboles. Comenzará a las 18:00 de la tarde. La propuesta es descubrir secretos y curiosidades utilizando materiales para tocar\, oler\, medir y calcular. \nsUna hora después\, a partir de las 19:00 de la tarde se realizará una visita guiada por las fotografías de la exposición
URL:https://preproduccion.alpedrete.es/evento/conoce-tus-arboles-exposicion-y-taller/
LOCATION:Casa de Cultura Asunción Balaguer\, Plaza de Francisco Rabal\, Alpedrete\, Madrid\, 28430\, España
CATEGORIES:Fotografía
GEO:40.65755;-4.02389
X-APPLE-STRUCTURED-LOCATION;VALUE=URI;X-ADDRESS=Casa de Cultura Asunción Balaguer Plaza de Francisco Rabal Alpedrete Madrid 28430 España;X-APPLE-RADIUS=500;X-TITLE=Plaza de Francisco Rabal:geo:-4.02389,40.65755
END:VEVENT
BEGIN:VEVENT
DTSTART;VALUE=DATE:20190405
DTEND;VALUE=DATE:20190407
DTSTAMP:20260423T133048
CREATED:20190325T090609Z
LAST-MODIFIED:20190402T105015Z
UID:25651-1554422400-1554595199@preproduccion.alpedrete.es
SUMMARY:VI Fiesta del deporte
DESCRIPTION:El viernes 5 y el sábado 6 de abril se celebra la VI Feria del deporte del Ayuntamiento de Alpedrete y ADIP Ciudad Deportiva Municipal. Durante esos dos días\, las instalaciones deportivas municipales acogen un programa de actividades amplísimo tanto en horario (el viernes desde las 09:00 de la mañana a las 22:30 de la noche\, y el sábado de 09:00 de la mañana a 18:00 de la tarde) como en disciplinas (leer información adjunta). \nPara participar en algunas de las disciplinas es necesaria la inscripción previa. Cualquier información al respecto se puede consultar en la recepción de la Ciudad Deportiva Municipal o llamando al teléfono 91 857 19 19. \nAdemás de practicar las disciplinas propuestas\, se puede acceder a la promoción de primavera con un precio especial para los meses de abril\, mayo y junio: los tres meses por 83 euros los empadronados y 99 euros los no empadronados. Los socios activos de la cuota única podrán acudir con un invitado durante el mes de abril. Y presentando el flyer “Primavera Party” se podrá entrenar un día gratis durante el mes de abril. \n Programa de la VI Fiesta del Deporte de Alpedrete.pdf
URL:https://preproduccion.alpedrete.es/evento/vi-fiesta-del-deporte/
LOCATION:Ciudad Deportiva Municipal de Alpedrete\, C/ Campo de Fútbol s/n\, Alpedrete\, Madrid\, 28430\, España
CATEGORIES:Deportes
ATTACH;FMTTYPE=image/jpeg:https://preproduccion.alpedrete.es/wp-content/uploads/2019/03/VI-Fiesta-del-deporte.jpg
END:VEVENT
BEGIN:VEVENT
DTSTART;TZID=Europe/Madrid:20190406T113000
DTEND;TZID=Europe/Madrid:20190406T140000
DTSTAMP:20260423T133048
CREATED:20190401T124045Z
LAST-MODIFIED:20190401T124045Z
UID:25808-1554550200-1554559200@preproduccion.alpedrete.es
SUMMARY:Semana del cortometraje
DESCRIPTION:El Ayuntamiento de Alpedrete participa en la vigésimo primera semana del cortometraje  de la Comunidad de Madrid\, que se celebra del 1 al 7 de abril. La propuesta para Alpedrete es doble\, con una proyección de cortos infantiles y otra para adultos. Ambas tendrán lugar en la Casa de Cultura Asunción Balaguer el sábado 6 de abril. A las 11:30 de la mañana comenzará el ciclo infantil y a la 13:00 de la tarde el dedicado a los adultos. \nPrograma infantil \n\nALMA de Rodrigo Blaas Nacle. 5 minutos.\nCAZATALENTOS de José Herrera. 8 minutos. 2008.\nJUAN Y LA NUBE de mGiovanni Maccelli. 14 minutos.\nBLUE & MALONE de Abraham López Guerrero. 21 minutos.\nEL LADRÓN NAVIDEÑO de Javier Tostado. 12 minutos.\n\n Programa adulto \n\nATO SAN NEN de Pedro Collantes. 25 minutos. Madrid en Corto 2018. Todos los públicos.\nPANCHITO de Arantxa Echevarría. 17 minutos. 2010. Todos los públicos.\nMISS WAMBA de Estefanía Cortés. 17 minutos. Madrid en Corto 2017. No recomendada para menores de 12 años.\nCATHARSIS de Daniel Chamorro. 10 minutos. 2007. Todos los públicos.
URL:https://preproduccion.alpedrete.es/evento/semana-del-cortometraje-2/
LOCATION:Casa de Cultura Asunción Balaguer\, Plaza de Francisco Rabal\, Alpedrete\, Madrid\, 28430\, España
CATEGORIES:Cine
ATTACH;FMTTYPE=image/jpeg:https://preproduccion.alpedrete.es/wp-content/uploads/2019/04/01-SDC_Imagen-Proyector-1280x720.jpg
GEO:40.65755;-4.02389
X-APPLE-STRUCTURED-LOCATION;VALUE=URI;X-ADDRESS=Casa de Cultura Asunción Balaguer Plaza de Francisco Rabal Alpedrete Madrid 28430 España;X-APPLE-RADIUS=500;X-TITLE=Plaza de Francisco Rabal:geo:-4.02389,40.65755
END:VEVENT
BEGIN:VEVENT
DTSTART;TZID=Europe/Madrid:20190406T120000
DTEND;TZID=Europe/Madrid:20190406T130000
DTSTAMP:20260423T133048
CREATED:20190405T135136Z
LAST-MODIFIED:20190405T135136Z
UID:25887-1554552000-1554555600@preproduccion.alpedrete.es
SUMMARY:Cuentacuentos en inglés
DESCRIPTION:El sábado 6 de abril el cuentacuentos en inglés a cargo de Chameleon Theatre\, con Mike Schaupp\, presenta «Perfect Love». La sesión se celebrará en la Biblioteca Municipal a partir de las 12:00 de la mañana.
URL:https://preproduccion.alpedrete.es/evento/cuentacuentos-en-ingles-9/
LOCATION:Biblioteca Municipal de Alpedrete\, Plaza Francisco Rabal\, 2\, Alpedrete\, 28430 \, España
CATEGORIES:Cuentacuentos
ATTACH;FMTTYPE=image/jpeg:https://preproduccion.alpedrete.es/wp-content/uploads/2016/02/Cuenta-cuentos.jpg
GEO:40.6621635;-4.031169
X-APPLE-STRUCTURED-LOCATION;VALUE=URI;X-ADDRESS=Biblioteca Municipal de Alpedrete Plaza Francisco Rabal 2 Alpedrete 28430  España;X-APPLE-RADIUS=500;X-TITLE=Plaza Francisco Rabal\, 2:geo:-4.031169,40.6621635
END:VEVENT
END:VCALENDAR