BEGIN:VCALENDAR
VERSION:2.0
PRODID:-//Web Ayuntamiento de Alpedrete - ECPv6.9.0//NONSGML v1.0//EN
CALSCALE:GREGORIAN
METHOD:PUBLISH
X-WR-CALNAME:Web Ayuntamiento de Alpedrete
X-ORIGINAL-URL:https://preproduccion.alpedrete.es
X-WR-CALDESC:Eventos para Web Ayuntamiento de Alpedrete
REFRESH-INTERVAL;VALUE=DURATION:PT1H
X-Robots-Tag:noindex
X-PUBLISHED-TTL:PT1H
BEGIN:VTIMEZONE
TZID:Europe/Madrid
BEGIN:DAYLIGHT
TZOFFSETFROM:+0100
TZOFFSETTO:+0200
TZNAME:CEST
DTSTART:20190331T010000
END:DAYLIGHT
BEGIN:STANDARD
TZOFFSETFROM:+0200
TZOFFSETTO:+0100
TZNAME:CET
DTSTART:20191027T010000
END:STANDARD
END:VTIMEZONE
BEGIN:VEVENT
DTSTART;VALUE=DATE:20190422
DTEND;VALUE=DATE:20190507
DTSTAMP:20260423T133047
CREATED:20190408T110706Z
LAST-MODIFIED:20190408T111150Z
UID:25902-1555891200-1557187199@preproduccion.alpedrete.es
SUMMARY:Exposición. Grabado
DESCRIPTION:Trabajos de los alumnos del curso de grabado que se imparte en el Centro Polivalente de Alpedrete a cargo del profesor Jorge Oloriz. Presentan sus obras realizadas desde octubre de 2018 hasta abril de 2019 con técnicas como  xilografía\, litografía\, puntaseca o aguafuerte.
URL:https://preproduccion.alpedrete.es/evento/exposicion-grabado/
LOCATION:Casa de Cultura Asunción Balaguer\, Plaza Francisco Rabal\, 2\, Alpedrete\, Madrid\, 28430 \, España
CATEGORIES:Exposición
ATTACH;FMTTYPE=image/jpeg:https://preproduccion.alpedrete.es/wp-content/uploads/2019/04/grabado.jpg
GEO:40.6621635;-4.031169
X-APPLE-STRUCTURED-LOCATION;VALUE=URI;X-ADDRESS=Casa de Cultura Asunción Balaguer Plaza Francisco Rabal 2 Alpedrete Madrid 28430  España;X-APPLE-RADIUS=500;X-TITLE=Plaza Francisco Rabal\, 2:geo:-4.031169,40.6621635
END:VEVENT
BEGIN:VEVENT
DTSTART;VALUE=DATE:20190422
DTEND;VALUE=DATE:20190516
DTSTAMP:20260423T133047
CREATED:20190416T073827Z
LAST-MODIFIED:20190416T073827Z
UID:25995-1555891200-1557964799@preproduccion.alpedrete.es
SUMMARY:Incripciones actividades y talleres Casa de Cultura y EMMD
DESCRIPTION:Del 22 de abril al 15 de mayo se abre el plazo de recogida de solicitudes para las actividades de la EMMD y los Talleres Culturales de la Casa de Cultura de Alpedrete. Se recogerán solicitudes en horario de 10:00h a 14:00h y de 18:00h a 20:00h. \n 
URL:https://preproduccion.alpedrete.es/evento/incripciones-actividades-y-talleres-casa-de-cultura-y-emmd/
LOCATION:Casa de Cultura Asunción Balaguer\, Plaza Francisco Rabal\, 2\, Alpedrete\, Madrid\, 28430 \, España
CATEGORIES:Cultura
ATTACH;FMTTYPE=image/jpeg:https://preproduccion.alpedrete.es/wp-content/uploads/2016/07/casacultalpedrete_124.jpg
GEO:40.6621635;-4.031169
X-APPLE-STRUCTURED-LOCATION;VALUE=URI;X-ADDRESS=Casa de Cultura Asunción Balaguer Plaza Francisco Rabal 2 Alpedrete Madrid 28430  España;X-APPLE-RADIUS=500;X-TITLE=Plaza Francisco Rabal\, 2:geo:-4.031169,40.6621635
END:VEVENT
BEGIN:VEVENT
DTSTART;TZID=Europe/Madrid:20190423T100000
DTEND;TZID=Europe/Madrid:20190423T200000
DTSTAMP:20260423T133047
CREATED:20190422T072826Z
LAST-MODIFIED:20190422T103122Z
UID:26075-1556013600-1556049600@preproduccion.alpedrete.es
SUMMARY:Campamentos de verano del Centro de Juventud
DESCRIPTION:Las inscripciones para participar en los campamentos de verano del Centro de Juventud de Alpedrete se abren el martes 23 de abril. Como en ediciones anteriores\, se han programado tres campamentos: urbano\, que se desarrollará en Alpedrete\, y otros dos fuera del municipio que llevarán a los participantes a Alcoba de los Montes\, Ciudad Real\, y a Valdés\, en Asturias. Las inscripciones se realizan en el Centro de Juventud\, calle Félix Díaz nº3\, en el horario habitual de atención al público: lunes y miércoles de 10:00 a 14:00 h\, y martes y jueves 17:00 a 20:00 h. Las consultas telefónicas se atendrán en el número 91 857 13 94.
URL:https://preproduccion.alpedrete.es/evento/campamentos-de-verano-del-centro-de-juventud/
LOCATION:Centro de Juventud\, Félix Díaz\, 5\, Alpedrete\, España
CATEGORIES:Campamento
ATTACH;FMTTYPE=image/jpeg:https://preproduccion.alpedrete.es/wp-content/uploads/2019/04/ALPEDRETEVERANOJOVEN2019-Instagram1080x1080.jpg
GEO:40.6602847;-4.0252745
X-APPLE-STRUCTURED-LOCATION;VALUE=URI;X-ADDRESS=Centro de Juventud Félix Díaz 5 Alpedrete España;X-APPLE-RADIUS=500;X-TITLE=Félix Díaz\, 5:geo:-4.0252745,40.6602847
END:VEVENT
BEGIN:VEVENT
DTSTART;TZID=Europe/Madrid:20190423T180000
DTEND;TZID=Europe/Madrid:20190423T200000
DTSTAMP:20260423T133047
CREATED:20190408T113959Z
LAST-MODIFIED:20190416T090315Z
UID:25910-1556042400-1556049600@preproduccion.alpedrete.es
SUMMARY:Día del Libro
DESCRIPTION:  \nDía del Libro \n\nEntrega de los premios al Concurso de Microrrelatos. 18:00h\nRecital de cuentos a cargo del alumnado del Taller de Escritura Creativa. Los alumnos del taller de escritura creativa impartido por Blanca Castillo nos ofrecerán un recital con los textos que han escrito a lo largo del presente curso con motivo de la celebración del Día Internacional del Libro. 19:00 h\nInauguración de la máquina de auto préstamo de la Biblioteca Municipal.
URL:https://preproduccion.alpedrete.es/evento/dia-del-libro/
LOCATION:Biblioteca Municipal de Alpedrete\, Plaza Francisco Rabal\, 2\, Alpedrete\, 28430 \, España
CATEGORIES:Cultura
ATTACH;FMTTYPE=image/png:https://preproduccion.alpedrete.es/wp-content/uploads/2019/04/2.png
GEO:40.6621635;-4.031169
X-APPLE-STRUCTURED-LOCATION;VALUE=URI;X-ADDRESS=Biblioteca Municipal de Alpedrete Plaza Francisco Rabal 2 Alpedrete 28430  España;X-APPLE-RADIUS=500;X-TITLE=Plaza Francisco Rabal\, 2:geo:-4.031169,40.6621635
END:VEVENT
END:VCALENDAR