BEGIN:VCALENDAR
VERSION:2.0
PRODID:-//Web Ayuntamiento de Alpedrete - ECPv6.9.0//NONSGML v1.0//EN
CALSCALE:GREGORIAN
METHOD:PUBLISH
X-WR-CALNAME:Web Ayuntamiento de Alpedrete
X-ORIGINAL-URL:https://preproduccion.alpedrete.es
X-WR-CALDESC:Eventos para Web Ayuntamiento de Alpedrete
REFRESH-INTERVAL;VALUE=DURATION:PT1H
X-Robots-Tag:noindex
X-PUBLISHED-TTL:PT1H
BEGIN:VTIMEZONE
TZID:Europe/Madrid
BEGIN:DAYLIGHT
TZOFFSETFROM:+0100
TZOFFSETTO:+0200
TZNAME:CEST
DTSTART:20190331T010000
END:DAYLIGHT
BEGIN:STANDARD
TZOFFSETFROM:+0200
TZOFFSETTO:+0100
TZNAME:CET
DTSTART:20191027T010000
END:STANDARD
END:VTIMEZONE
BEGIN:VEVENT
DTSTART;VALUE=DATE:20190507
DTEND;VALUE=DATE:20190601
DTSTAMP:20260423T180755
CREATED:20190430T140007Z
LAST-MODIFIED:20190430T140007Z
UID:26210-1557187200-1559347199@preproduccion.alpedrete.es
SUMMARY:Historia de un cartel
DESCRIPTION:“Historia de un cartel” es el nombre de la muestra que se expondrá del 7 al 31 de mayo en la Casa de Cultura Asunción Balaguer. Esta exposición muestra una treintena de los carteles diseñados en los últimos años para difundir eventos programados y realizados por el Ayuntamiento de Alpedrete. \n“Historia de un cartel” nace con la pretensión de mostrar la evolución de una de las herramientas empleadas por el Ayuntamiento de Alpedrete en la difusión de las actividades públicas. Un cartel tiene vida. El primero marcó el camino que el resto de eventos e historias recorrieron de forma coherente en tipografía\, bosquejos y gamas de color. \nEl primer cartel destacó el Día Internacional de la Mujer de 2017\, el último es el referido a las Fiestas patronales de Santa Quiteria 2019. Entre uno y otro\, la cartelería municipal ha mostrado asuntos culturales\, medioambientales\, de juventud\, navidades\, ferias\, de participación ciudadana\, carnaval o conciertos.
URL:https://preproduccion.alpedrete.es/evento/historia-de-un-cartel/
LOCATION:Casa de Cultura Asunción Balaguer\, Plaza Francisco Rabal\, 2\, Alpedrete\, Madrid\, 28430 \, España
CATEGORIES:Exposición
ATTACH;FMTTYPE=image/jpeg:https://preproduccion.alpedrete.es/wp-content/uploads/2019/04/ALPEDRETEEXPOCARTEL19-cabecera600x400.jpg
GEO:40.6621635;-4.031169
X-APPLE-STRUCTURED-LOCATION;VALUE=URI;X-ADDRESS=Casa de Cultura Asunción Balaguer Plaza Francisco Rabal 2 Alpedrete Madrid 28430  España;X-APPLE-RADIUS=500;X-TITLE=Plaza Francisco Rabal\, 2:geo:-4.031169,40.6621635
END:VEVENT
BEGIN:VEVENT
DTSTART;TZID=Europe/Madrid:20190524T090000
DTEND;TZID=Europe/Madrid:20190524T130000
DTSTAMP:20260423T180755
CREATED:20190521T120305Z
LAST-MODIFIED:20190521T121044Z
UID:26590-1558688400-1558702800@preproduccion.alpedrete.es
SUMMARY:Pleno extraordinario
DESCRIPTION:El viernes 24 de mayo se convoca sesión extraordinaria del pleno del Ayuntamiento de Alpedrete a las 09:00 de la mañana en la Casa de Cultura Asunción Balaguer. El único punto en el orden del día es alegaciones y aprobación definitiva modificaciones presupuestarias 4 y 5 de 2019. \n Decreto de convocatoria de sesión extraordinaria de pleno el 24 de mayo de 2019
URL:https://preproduccion.alpedrete.es/evento/pleno-extraordinario-7/
LOCATION:Casa de Cultura Asunción Balaguer\, Plaza Francisco Rabal\, 2\, Alpedrete\, Madrid\, 28430 \, España
CATEGORIES:Pleno
ATTACH;FMTTYPE=image/jpeg:https://preproduccion.alpedrete.es/wp-content/uploads/2019/05/pleno.jpg
GEO:40.6621635;-4.031169
X-APPLE-STRUCTURED-LOCATION;VALUE=URI;X-ADDRESS=Casa de Cultura Asunción Balaguer Plaza Francisco Rabal 2 Alpedrete Madrid 28430  España;X-APPLE-RADIUS=500;X-TITLE=Plaza Francisco Rabal\, 2:geo:-4.031169,40.6621635
END:VEVENT
BEGIN:VEVENT
DTSTART;TZID=Europe/Madrid:20190524T180000
DTEND;TZID=Europe/Madrid:20190524T190000
DTSTAMP:20260423T180755
CREATED:20190521T134237Z
LAST-MODIFIED:20190521T134237Z
UID:26599-1558720800-1558724400@preproduccion.alpedrete.es
SUMMARY:Bajada de Santa Quiteria
DESCRIPTION:Desde la Parroquia de Nuestra Señora de la Asunción hasta su Ermita acompañada por la Banda Municipal de la EMMD de Alpedrete.
URL:https://preproduccion.alpedrete.es/evento/bajada-de-santa-quiteria/
LOCATION:Parroquia de la Asunción de Nuestra Señora\, Plaza de la Villa\, Alpedrete\, Madrid\, 28430\, España
CATEGORIES:Fiestas patronales
ATTACH;FMTTYPE=image/jpeg:https://preproduccion.alpedrete.es/wp-content/uploads/2019/05/bajada-de-Santa-Quiteria.jpg
GEO:40.6589274;-4.0239866
X-APPLE-STRUCTURED-LOCATION;VALUE=URI;X-ADDRESS=Parroquia de la Asunción de Nuestra Señora Plaza de la Villa Alpedrete Madrid 28430 España;X-APPLE-RADIUS=500;X-TITLE=Plaza de la Villa:geo:-4.0239866,40.6589274
END:VEVENT
BEGIN:VEVENT
DTSTART;TZID=Europe/Madrid:20190524T190000
DTEND;TZID=Europe/Madrid:20190524T203000
DTSTAMP:20260423T180755
CREATED:20190523T130617Z
LAST-MODIFIED:20190523T130617Z
UID:26628-1558724400-1558729800@preproduccion.alpedrete.es
SUMMARY:Tejer para leer. Presentación del libro "Tejiendo salud"
DESCRIPTION:Betsan Corkhill es autor del libro “Knit for health & wellness” el cual proporciona herramientas asequibles para la mejora de la salud y bienestar\, enseñándote lo puedes hacer en cualquier momento y en cualquier lugar. La edición española “Tejiendo salud” será presentada por la autora y por la asociación IAIA que colabora en el proyecto. Podrán adquirirse ejemplares. La compra de este libro implica una acción solidaria. La autora donará una parte de los beneficios a la Asociación IAIA\, organización sin ánimo de lucro.
URL:https://preproduccion.alpedrete.es/evento/tejer-para-leer-presentacion-del-libro-tejiendo-salud/
LOCATION:Biblioteca Municipal de Alpedrete\, Plaza Francisco Rabal\, 2\, Alpedrete\, 28430 \, España
CATEGORIES:Literatura
ATTACH;FMTTYPE=image/jpeg:https://preproduccion.alpedrete.es/wp-content/uploads/2019/05/tejiendo-salud-banner.jpg
GEO:40.6621635;-4.031169
X-APPLE-STRUCTURED-LOCATION;VALUE=URI;X-ADDRESS=Biblioteca Municipal de Alpedrete Plaza Francisco Rabal 2 Alpedrete 28430  España;X-APPLE-RADIUS=500;X-TITLE=Plaza Francisco Rabal\, 2:geo:-4.031169,40.6621635
END:VEVENT
END:VCALENDAR