BEGIN:VCALENDAR
VERSION:2.0
PRODID:-//Web Ayuntamiento de Alpedrete - ECPv6.9.0//NONSGML v1.0//EN
CALSCALE:GREGORIAN
METHOD:PUBLISH
X-ORIGINAL-URL:https://preproduccion.alpedrete.es
X-WR-CALDESC:Eventos para Web Ayuntamiento de Alpedrete
REFRESH-INTERVAL;VALUE=DURATION:PT1H
X-Robots-Tag:noindex
X-PUBLISHED-TTL:PT1H
BEGIN:VTIMEZONE
TZID:Europe/Madrid
BEGIN:DAYLIGHT
TZOFFSETFROM:+0100
TZOFFSETTO:+0200
TZNAME:CEST
DTSTART:20190331T010000
END:DAYLIGHT
BEGIN:STANDARD
TZOFFSETFROM:+0200
TZOFFSETTO:+0100
TZNAME:CET
DTSTART:20191027T010000
END:STANDARD
END:VTIMEZONE
BEGIN:VEVENT
DTSTART;VALUE=DATE:20190603
DTEND;VALUE=DATE:20190616
DTSTAMP:20260423T192706
CREATED:20190603T081739Z
LAST-MODIFIED:20190603T081739Z
UID:26803-1559520000-1560643199@preproduccion.alpedrete.es
SUMMARY:Exposición de fotografía
DESCRIPTION:Exposición de los trabajos de fotografía realizados por los alumnos del taller de la Casa de Cultura Asunción Balaguer impartido por Carlos Martín. \n 
URL:https://preproduccion.alpedrete.es/evento/exposicion-de-fotografia/
LOCATION:Casa de Cultura Asunción Balaguer\, Plaza Francisco Rabal\, 2\, Alpedrete\, Madrid\, 28430 \, España
CATEGORIES:Fotografía
ATTACH;FMTTYPE=image/jpeg:https://preproduccion.alpedrete.es/wp-content/uploads/2019/06/lens-3046269_640.jpg
GEO:40.6621635;-4.031169
X-APPLE-STRUCTURED-LOCATION;VALUE=URI;X-ADDRESS=Casa de Cultura Asunción Balaguer Plaza Francisco Rabal 2 Alpedrete Madrid 28430  España;X-APPLE-RADIUS=500;X-TITLE=Plaza Francisco Rabal\, 2:geo:-4.031169,40.6621635
END:VEVENT
BEGIN:VEVENT
DTSTART;TZID=Europe/Madrid:20190607T170000
DTEND;TZID=Europe/Madrid:20190607T190000
DTSTAMP:20260423T192706
CREATED:20190605T090851Z
LAST-MODIFIED:20190605T090851Z
UID:26868-1559926800-1559934000@preproduccion.alpedrete.es
SUMMARY:Cocina en familia
DESCRIPTION:Cocina en familia es una actividad diseñada por la Mancomunidad de Servicios Sociales THAM para todos los miembros de la familia a partir de 5 años\, con la que se pretende potenciar la participación de todos sus miembros. Se celebrará el 7 de junio\, de 17 a 19 horas en el edificio polivalente (plaza de la Constitución). Acceso libre y gratuito hasta completar aforo.
URL:https://preproduccion.alpedrete.es/evento/cocina-en-familia-2/
LOCATION:Edificio Polivalente\, Plaza de la Constitución\, 6\, Alpedrete\, Madrid\, 28430\, España
CATEGORIES:Taller
ATTACH;FMTTYPE=image/jpeg:https://preproduccion.alpedrete.es/wp-content/uploads/2019/06/food-3230799_640.jpg
GEO:40.6604232;-4.0256288
X-APPLE-STRUCTURED-LOCATION;VALUE=URI;X-ADDRESS=Edificio Polivalente Plaza de la Constitución 6 Alpedrete Madrid 28430 España;X-APPLE-RADIUS=500;X-TITLE=Plaza de la Constitución\, 6:geo:-4.0256288,40.6604232
END:VEVENT
END:VCALENDAR