BEGIN:VCALENDAR
VERSION:2.0
PRODID:-//Web Ayuntamiento de Alpedrete - ECPv6.9.0//NONSGML v1.0//EN
CALSCALE:GREGORIAN
METHOD:PUBLISH
X-ORIGINAL-URL:https://preproduccion.alpedrete.es
X-WR-CALDESC:Eventos para Web Ayuntamiento de Alpedrete
REFRESH-INTERVAL;VALUE=DURATION:PT1H
X-Robots-Tag:noindex
X-PUBLISHED-TTL:PT1H
BEGIN:VTIMEZONE
TZID:Europe/Madrid
BEGIN:DAYLIGHT
TZOFFSETFROM:+0100
TZOFFSETTO:+0200
TZNAME:CEST
DTSTART:20190331T010000
END:DAYLIGHT
BEGIN:STANDARD
TZOFFSETFROM:+0200
TZOFFSETTO:+0100
TZNAME:CET
DTSTART:20191027T010000
END:STANDARD
END:VTIMEZONE
BEGIN:VEVENT
DTSTART;VALUE=DATE:20191024
DTEND;VALUE=DATE:20191107
DTSTAMP:20260426T015733
CREATED:20191015T144728Z
LAST-MODIFIED:20191017T115104Z
UID:28029-1571875200-1573084799@preproduccion.alpedrete.es
SUMMARY:Exposición "Naturephotography"
DESCRIPTION:“Naturephotography” es un proyecto de largo tiempo de viajes de trabajo y miles de kilómetros. La afición a la fotografía le llega de la mano de su profesión ligada a la óptica\, viajando a nivel nacional e internacional \, tras el trabajo y su pasión por la montaña\, empieza a descubrir entornos y lugares dignos de inmortalizar. \nLa exposición podrá visitarse en horario de 9.00 a 22.00h de lunes a viernes y los sábados de 9.30 a 14.30h. \n 
URL:https://preproduccion.alpedrete.es/evento/exposicion/
LOCATION:Casa de Cultura Asunción Balaguer\, Plaza Francisco Rabal\, 2\, Alpedrete\, Madrid\, 28430 \, España
CATEGORIES:Exposición
ATTACH;FMTTYPE=image/png:https://preproduccion.alpedrete.es/wp-content/uploads/2019/10/Imagen5.png
GEO:40.6621635;-4.031169
X-APPLE-STRUCTURED-LOCATION;VALUE=URI;X-ADDRESS=Casa de Cultura Asunción Balaguer Plaza Francisco Rabal 2 Alpedrete Madrid 28430  España;X-APPLE-RADIUS=500;X-TITLE=Plaza Francisco Rabal\, 2:geo:-4.031169,40.6621635
END:VEVENT
BEGIN:VEVENT
DTSTART;TZID=Europe/Madrid:20191028T180000
DTEND;TZID=Europe/Madrid:20191028T180000
DTSTAMP:20260426T015733
CREATED:20191025T134618Z
LAST-MODIFIED:20191025T135438Z
UID:28197-1572285600-1572285600@preproduccion.alpedrete.es
SUMMARY:Disciplina positiva
DESCRIPTION:La Asociación Despertares Maternidad y Crianza\, nos ofrece este taller el lunes 28 de octubre a las 17:30 h en el Centro de Mayores Los Canteros\, a cargo de Elisa Molina. Información y reserva de plazas en info@despertaresmaternidad.com \n \n 
URL:https://preproduccion.alpedrete.es/evento/disciplina-positiva/
LOCATION:Centro de Mayores Los Canteros de Alpedrete\, Plaza de la Constitución\, s/n\, Alpedrete\, España
CATEGORIES:Taller
ATTACH;FMTTYPE=image/jpeg:https://preproduccion.alpedrete.es/wp-content/uploads/2019/10/CHARLA-DISCIPLINA-POSITIVA-28-10-19.jpg
GEO:40.6602075;-4.0254104
X-APPLE-STRUCTURED-LOCATION;VALUE=URI;X-ADDRESS=Centro de Mayores Los Canteros de Alpedrete Plaza de la Constitución s/n Alpedrete España;X-APPLE-RADIUS=500;X-TITLE=Plaza de la Constitución\, s/n:geo:-4.0254104,40.6602075
END:VEVENT
END:VCALENDAR