BEGIN:VCALENDAR
VERSION:2.0
PRODID:-//Web Ayuntamiento de Alpedrete - ECPv6.9.0//NONSGML v1.0//EN
CALSCALE:GREGORIAN
METHOD:PUBLISH
X-WR-CALNAME:Web Ayuntamiento de Alpedrete
X-ORIGINAL-URL:https://preproduccion.alpedrete.es
X-WR-CALDESC:Eventos para Web Ayuntamiento de Alpedrete
REFRESH-INTERVAL;VALUE=DURATION:PT1H
X-Robots-Tag:noindex
X-PUBLISHED-TTL:PT1H
BEGIN:VTIMEZONE
TZID:Europe/Madrid
BEGIN:DAYLIGHT
TZOFFSETFROM:+0100
TZOFFSETTO:+0200
TZNAME:CEST
DTSTART:20200329T010000
END:DAYLIGHT
BEGIN:STANDARD
TZOFFSETFROM:+0200
TZOFFSETTO:+0100
TZNAME:CET
DTSTART:20201025T010000
END:STANDARD
END:VTIMEZONE
BEGIN:VEVENT
DTSTART;VALUE=DATE:20201019
DTEND;VALUE=DATE:20201105
DTSTAMP:20260422T074605
CREATED:20201019T070015Z
LAST-MODIFIED:20201016T154217Z
UID:32776-1603065600-1604534399@preproduccion.alpedrete.es
SUMMARY:XIII Concurso de microrrelatos contra la violencia de género
DESCRIPTION:La Mancomunidad de Servicios Sociales THAM ha convocado la XIII edición del concurso de microrrelatos contra la violencia de género\, con motivo de la celebración del Día Internacional para la Eliminación de la Violencia contra la Mujer. \nSe convocan dos categorías con un primer premio en cada una de ellas\, consistente en una pulsera de actividad o similar. \n\nJuvenil: de 14 a 17 años\nAdultos:18 años y más\n\nPara participar en  esta nueva edición\, es necesario hacerlo con un microrrelato original que no exceda de las 100 palabras\, con temática referente a la violencia contra las mujeres. Se valorará la inclusión de contenidos relacionados con el abordaje y la superación de estas situaciones. \nCada uno de los microrrelatos deberá contener en el texto la siguiente frase: “…viva al fin …” \nToda la información en el enlace XIII Concurso de microrrelatos contra la violencia de género
URL:https://preproduccion.alpedrete.es/evento/xiii-concurso-de-microrrelatos-contra-la-violencia-de-genero/
CATEGORIES:Concurso
ATTACH;FMTTYPE=image/jpeg:https://preproduccion.alpedrete.es/wp-content/uploads/2020/10/Microrrelatos-XIII-tham-cartel.jpg
END:VEVENT
BEGIN:VEVENT
DTSTART;TZID=Europe/Madrid:20201128T171500
DTEND;TZID=Europe/Madrid:20201128T191500
DTSTAMP:20260422T074605
CREATED:20201124T154859Z
LAST-MODIFIED:20201127T092336Z
UID:33183-1606583700-1606590900@preproduccion.alpedrete.es
SUMMARY:Cluedo on line
DESCRIPTION:Este próximo sábado 28 de noviembre desde la Concejalía de Juventud del Ayuntamiento de Alpedrete proponemos un Cluedo on line\, para toda la familia o mayores de 10 años (nacidos en 2010). \nLos monitores del programa la Noche Joven han preparado un Cluedo en directo\, para los jóvenes o familias con hijos/as mayores de 10 años. \nSi os apetece pasar un buen rato y ayudar a nuestros detectives (Cuca\, Cristina y Mario\, los monitores de la Noche Joven)\, descifrando los enigmas que vayan surgiendo hasta averiguar quién es el asesino o asesina de Alison Hamilton\, millonaria y vanidosa instagramer residente en Alpedrete\, este juego está hecho para vosotros. Inscribiros cuanto antes\, tenemos plazas limitadas. \nEnviadnos un email a juventud@alpedrete.es\, indicando en el asunto: Cluedo online e indicad nombre\, apellidos\, fecha de nacimiento del participante y móvil de sus padres (en el caso de los menores de 18 años) y lo más importante indicarnos a que dirección de correo electrónico queréis que os enviemos la invitación a la plataforma Teams\, desde la que se realiza el Cluedo en vivo. \nEn el caso de las familias\, debéis aportar los mismos datos incluyendo los nombres\, apellidos y fecha de nacimiento de todos los participantes. \nPodéis participar en alguno de los tres turnos de 45 minutos: \n\nSábado 28 a las 17:15 h. 1 er turno.\nSábado 28 a las 18:15 h. 2º turno.\nSábado 28 a las 19:15 h. 3 er turno.\n\nMínimo 5 dispositivos y máximo 15 dispositivos por turno\, puedes jugar solo\, quedar con tus amigos para jugar cada uno desde su casa o con tu familia. Para menores a partir de 10 años. \nInscripciones hasta las 20:00 del viernes 27 de noviembre. \nSígue nuestro perfil de Juventud en Instagram para estar al día de lo que se mueve. Vente y entérate de todo. \n \n 
URL:https://preproduccion.alpedrete.es/evento/cluedo-on-line/
LOCATION:Alpedrete
CATEGORIES:Concurso
ATTACH;FMTTYPE=image/jpeg:https://preproduccion.alpedrete.es/wp-content/uploads/2020/11/ampliacion-plazo-cluedo.jpg
END:VEVENT
END:VCALENDAR