BEGIN:VCALENDAR
VERSION:2.0
PRODID:-//Web Ayuntamiento de Alpedrete - ECPv6.9.0//NONSGML v1.0//EN
CALSCALE:GREGORIAN
METHOD:PUBLISH
X-WR-CALNAME:Web Ayuntamiento de Alpedrete
X-ORIGINAL-URL:https://preproduccion.alpedrete.es
X-WR-CALDESC:Eventos para Web Ayuntamiento de Alpedrete
REFRESH-INTERVAL;VALUE=DURATION:PT1H
X-Robots-Tag:noindex
X-PUBLISHED-TTL:PT1H
BEGIN:VTIMEZONE
TZID:Europe/Madrid
BEGIN:DAYLIGHT
TZOFFSETFROM:+0100
TZOFFSETTO:+0200
TZNAME:CEST
DTSTART:20180325T010000
END:DAYLIGHT
BEGIN:STANDARD
TZOFFSETFROM:+0200
TZOFFSETTO:+0100
TZNAME:CET
DTSTART:20181028T010000
END:STANDARD
END:VTIMEZONE
BEGIN:VEVENT
DTSTART;VALUE=DATE:20180414
DTEND;VALUE=DATE:20180415
DTSTAMP:20260421T204126
CREATED:20180319T123819Z
LAST-MODIFIED:20180319T123819Z
UID:20132-1523664000-1523750399@preproduccion.alpedrete.es
SUMMARY:Duatlón de Alpedrete: 25 años de carrera
DESCRIPTION:En 2018 se celebra la XXV Edición del Duatlón de Alpedrete\, será el 14 de abril. Un cuarto de siglo a pie y en bicicleta del que es el Duatlón cross más antiguo de la Comunidad de Madrid. Y para que la celebración sea lo más amplia posible\, la vigésimo quinta edición formará parte del calendario oficial de la Federación Madrileña de Triattlón y será campeonato de la Comunidad de Madrid de Duatlón Cross Universitario. \nMás información: http://preproduccion.alpedrete.es/duatlon-alpedrete-25-anos-carrera/
URL:https://preproduccion.alpedrete.es/evento/duatlon-alpedrete-25-anos-carrera/
LOCATION:Alpedrete\, Alpedrete\, Madrid\, 28430\, España
CATEGORIES:Deportes
ATTACH;FMTTYPE=image/jpeg:https://preproduccion.alpedrete.es/wp-content/uploads/2018/03/Sin-título-1-5.jpg
END:VEVENT
BEGIN:VEVENT
DTSTART;TZID=Europe/Madrid:20180428T110000
DTEND;TZID=Europe/Madrid:20180428T143000
DTSTAMP:20260421T204126
CREATED:20180423T073344Z
LAST-MODIFIED:20180423T073344Z
UID:20600-1524913200-1524925800@preproduccion.alpedrete.es
SUMMARY:VI Seremercross de Alpedrete
DESCRIPTION:El municipio de Alpedrete acoge el próximo 28 de abril la sexta edición del Cross Seremer\, una prueba deportiva en la que participan cuerpos de seguridad y equipos de emergencia. Los participantes recorrerán una distancia de 8 kilómetros señalado en la Dehesa Municipal. La carrera comenzará a las 11:00 de la mañana. \nLos corredores pueden inscribirse gratuitamente en el siguiente enlace hasta 27 de abril. La prueba tiene carácter solidario. Por ello\, cada corredor debe aportar 2 kilos de alimentos no perecederos que se entregarán al Banco de Alimentos de Madrid. \nLos miembros de los cuerpos de seguridad y equipos de emergencia que pueden participar son: \n\nAGENTE DE MOVILIDAD (a partir de 18 años)\nAGENTE FORESTAL (apartir de 18 años)\nBOMBERO (a partir de 18 años)\nCRUZ ROJA (a partir de 18 años)\nEMERGENCIAS 112 (a partir de 18 años)\nGUARDIA CIVIL (a partir de 18 años)\nINVITADO (a partir de 18 años)\nOTROS (a partir de 18 años)\nPOLICÍA LOCAL (a partir de 18 años)\nPOLICÍA MUNICIPAL (a partir de 18 años)\nPOLICÍA NACIONAL (a partir de 18 años)\nPROTECCIÓN CIVIL (a partir de 18 años)\nSAMUR (a partir de 18 años)\nSUMMA (a partir de 18 años)
URL:https://preproduccion.alpedrete.es/evento/vi-seremercross-alpedrete/
LOCATION:Dehesa Municipal de Alpedrete\, Camino de la Dehesa s/n\, Alpedrete\, Madrid\, 28430\, España
CATEGORIES:Deportes
ATTACH;FMTTYPE=image/jpeg:https://preproduccion.alpedrete.es/wp-content/uploads/2018/04/Seremer-0.jpg
GEO:40.6614541;-4.0184429
X-APPLE-STRUCTURED-LOCATION;VALUE=URI;X-ADDRESS=Dehesa Municipal de Alpedrete Camino de la Dehesa s/n Alpedrete Madrid 28430 España;X-APPLE-RADIUS=500;X-TITLE=Camino de la Dehesa s/n:geo:-4.0184429,40.6614541
END:VEVENT
END:VCALENDAR