BEGIN:VCALENDAR
VERSION:2.0
PRODID:-//Web Ayuntamiento de Alpedrete - ECPv6.9.0//NONSGML v1.0//EN
CALSCALE:GREGORIAN
METHOD:PUBLISH
X-WR-CALNAME:Web Ayuntamiento de Alpedrete
X-ORIGINAL-URL:https://preproduccion.alpedrete.es
X-WR-CALDESC:Eventos para Web Ayuntamiento de Alpedrete
REFRESH-INTERVAL;VALUE=DURATION:PT1H
X-Robots-Tag:noindex
X-PUBLISHED-TTL:PT1H
BEGIN:VTIMEZONE
TZID:Europe/Madrid
BEGIN:DAYLIGHT
TZOFFSETFROM:+0100
TZOFFSETTO:+0200
TZNAME:CEST
DTSTART:20180325T010000
END:DAYLIGHT
BEGIN:STANDARD
TZOFFSETFROM:+0200
TZOFFSETTO:+0100
TZNAME:CET
DTSTART:20181028T010000
END:STANDARD
END:VTIMEZONE
BEGIN:VEVENT
DTSTART;TZID=Europe/Madrid:20181007T100000
DTEND;TZID=Europe/Madrid:20181007T130000
DTSTAMP:20260425T135957
CREATED:20180930T114012Z
LAST-MODIFIED:20180930T114131Z
UID:22836-1538906400-1538917200@preproduccion.alpedrete.es
SUMMARY:Aves de Alpedrete. Visita guiada
DESCRIPTION:El Ayuntamiento de Alpedrete se une por cuarto año consecutivo al Día de las Aves\, que decenas de municipios celebran en España realizando actividades en la que las aves son protagonistas durante el fin de semana del 6 y 7 de octubre. \nEn Alpedrete el acto central de la conmemoración será la presentación de la segunda guía de la biodiversidad: “Aves de Alpedrete”\, en la que se incluyen las fotografías y las descripciones del centenar de aves que se pueden observar en el municipio\, tanto en espacios naturales como urbanos. \nLa presentación de “Aves de Alpedrete” se realizará el domingo 7 de octubre durante un recorrido guiado por los autores de la guía. El caminar comenzará a las 10:00 de la mañana en la calle de La Pasada (al final del polígono industrial). La propuesta es intentar ver\, algunas son muy esquivas\, algunas de las aves que aparecen en la guía. Por ello se recomienda a los asistentes llevar prismáticos. Los participantes recibirán de regalo un ejemplar de “Aves de Alpedrete”. \nLa diversidad de aves que habitan Alpedrete incluye especies de gran tamaño como el buitre leonado\, el buitre negro\, o el águila imperial; otras de convivencia diaria como el avión y la golondrina comunes; y algunas difíciles de observar como la oropéndola\, el pinzón real o el herrerillo capuchino. \nMás información: https://preproduccion.alpedrete.es/el-dia-de-las-aves-descubre-en-centenar-de-especies-que-existen-en-alpedrete/
URL:https://preproduccion.alpedrete.es/evento/aves-de-alpedrete-visita-guiada/
LOCATION:Alpedrete\, Alpedrete\, Madrid\, 28430\, España
CATEGORIES:Medioambiente
ATTACH;FMTTYPE=image/jpeg:https://preproduccion.alpedrete.es/wp-content/uploads/2018/09/aves-de-alpedrete-inst.jpg
END:VEVENT
BEGIN:VEVENT
DTSTART;TZID=Europe/Madrid:20181013T133000
DTEND;TZID=Europe/Madrid:20181013T153000
DTSTAMP:20260425T135957
CREATED:20181012T181352Z
LAST-MODIFIED:20181012T181352Z
UID:23061-1539437400-1539444600@preproduccion.alpedrete.es
SUMMARY:La trashumancia llega a Alpedrete
DESCRIPTION:Las ovejas trashumantes saldrán el sábado 13 de octubre a las 10:00 h del área medioambiental «El Gurugú» en Guadarrama\, para pasar por Alpedrete alrededor de las 13:30 h y no a las 16:00 h como se había informado en primera instancia. \nEn su recorrido anual desde los Picos de Europa hacia el sur de la península\, al pasar por nuestro municipio lo harán a través de la Cañada Real de Merinas junto a la entrada de la urbanización Los Berrocales. Desde allí cruzarán la calle Reina Victoria para alcanzar el Puente del Herreño y finalmente dormir en la inmediaciones de la Ermita Nuestra Sra. de la Esperanza\, en Valmayor.
URL:https://preproduccion.alpedrete.es/evento/la-trashumancia-llega-a-alpedrete/
LOCATION:Alpedrete\, Alpedrete\, Madrid\, 28430\, España
CATEGORIES:Medioambiente
ATTACH;FMTTYPE=image/jpeg:https://preproduccion.alpedrete.es/wp-content/uploads/2018/10/Trashumancia-2-1.jpg
END:VEVENT
BEGIN:VEVENT
DTSTART;TZID=Europe/Madrid:20181014T120000
DTEND;TZID=Europe/Madrid:20181014T140000
DTSTAMP:20260425T135957
CREATED:20181003T112807Z
LAST-MODIFIED:20181008T080517Z
UID:22903-1539518400-1539525600@preproduccion.alpedrete.es
SUMMARY:Truequedrete: usa y reutiliza
DESCRIPTION:El domingo 14 de octubre celebramos nuestro mercadillo de intercambio Truequedrete como cada segundo domingo de mes\, pero esta vez con diferente ubicación. Nos reuniremos a partir de ahora en la Plaza de la Constitución\, en horario de 12 a 14 h. \nAdemás de intercambio\, se permite la venta y regalo de objetos\, según los requisitos definidos en las características de la actividad. Se trata de un espacio pensado exclusivamente para los vecinos de Alpedrete que participarán a título personal\, no como empresario\, profesional o autónomo. \nCaracterísticas de Truequedrete \n\nEn el Truequedrete podrán exponer para vender\, regalar o intercambiar EXCLUSIVAMENTE los vecinos de Alpedrete que lo acrediten con el justificante de empadronamiento o DNI que lo demuestre. Los vecinos que quieran exponder o vender tendrán que disponer de la solicitud de autorización presentada en el registro municipal.\nEl objetivo del Truequedrete es fomentar el intercambio y reutilizaciónde objetos de segunda mano y/o elaborados con materiales reciclables\, pero a precios no comerciales.\nLa participación se realiza de forma gratuita y a título estrictamente particular y nunca como EMPRESARIO\, PROFESIONAL O AUTÓNOMO en ninguna de sus modalidades.\nHabrá un espacio destinado para las organizaciones de carácter social que deseen participar\, previa autorización municipal. Deberán estar inscritas en el Registro de Asociaciones del Ayuntamiento de Alpedrete.\nSe ubica en la plaza de la Constitución y se celebra el segundo domingo de cada mes\, excepto cuando las condiciones climatológicas lo impidan.\nEl horario aproximado es de 12 a 14 horas.\nEn el Truequedrete se pueden vender y comprar\, intercambiar o regalar: juguetes\, antigüedades\, libros\, ropa\, artesanía\, pequeños muebles\, pequeños electrodomésticos\, herramientas\, etc.\nPueden ser usados o en perfecto estado\, pero a precios módicos o simbólicos.\nQueda expresamente prohibida la venta de alimentos y bebidas\, animales y plantas y productos químicos\, cosméticos y de higiene.\nLos participantes utilizarán sus propias infraestructuras colocando los objetos sobre mesas\, cestas o cajas de madera y utilizando carpas o toldos que no supere el espacio máximo por puesto de 3m de largo por 1\,5m de ancho. Se intentará crear un ambiente agradable.\n\nNormas para exponer \nLa primera vez que quieran exponer\, los interesados deberán solicitar autorización previa al segundo domingo de cada mes. La solicitud se cursará a través del registro del Ayuntamiento y debe incluir la siguiente información: \n\nNombre\nD.N.I.\nTeléfono\nDomicilio\n\nY especificar: “Quiero participar como expositor en el próximo “Truequedrete” del segundo domingo de mes”. \n\nPodrán participar menores\, siempre que estén acompañados de un adulto\, por lo que la petición la realizará el adulto.\nUna vez comprobada la petición\, se enviará un correo de respuesta autorizando la participación en el Truequedrete.\nEn lo sucesivo ya no hará falta la solicitud del puesto\, simplemente cada segundo domingo de messe puede exponer libremente.\nEl expositor deberá tener a mano el justificante de solicitud por email y el justificante de empadronamiento o DNIque demuestre el domicilio para presentar a cualquier inspección y tendrán que abandonar el Truequedrete quienes no presenten la documentación requerida o incumplan las condiciones generales de venta.\nParticipar en esta actividad supone la aceptación de las presentes normas.
URL:https://preproduccion.alpedrete.es/evento/truequedrete-2/
LOCATION:Alpedrete\, Madrid\, 28430\, España
CATEGORIES:Medioambiente
ATTACH;FMTTYPE=image/jpeg:https://preproduccion.alpedrete.es/wp-content/uploads/2018/10/truequedrete2.jpg
GEO:40.6716505;-4.013361
END:VEVENT
END:VCALENDAR