BEGIN:VCALENDAR
VERSION:2.0
PRODID:-//Web Ayuntamiento de Alpedrete - ECPv6.9.0//NONSGML v1.0//EN
CALSCALE:GREGORIAN
METHOD:PUBLISH
X-WR-CALNAME:Web Ayuntamiento de Alpedrete
X-ORIGINAL-URL:https://preproduccion.alpedrete.es
X-WR-CALDESC:Eventos para Web Ayuntamiento de Alpedrete
REFRESH-INTERVAL;VALUE=DURATION:PT1H
X-Robots-Tag:noindex
X-PUBLISHED-TTL:PT1H
BEGIN:VTIMEZONE
TZID:Europe/Madrid
BEGIN:DAYLIGHT
TZOFFSETFROM:+0100
TZOFFSETTO:+0200
TZNAME:CEST
DTSTART:20180325T010000
END:DAYLIGHT
BEGIN:STANDARD
TZOFFSETFROM:+0200
TZOFFSETTO:+0100
TZNAME:CET
DTSTART:20181028T010000
END:STANDARD
END:VTIMEZONE
BEGIN:VEVENT
DTSTART;TZID=Europe/Madrid:20181110T100000
DTEND;TZID=Europe/Madrid:20181110T140000
DTSTAMP:20260425T185545
CREATED:20181105T095154Z
LAST-MODIFIED:20181105T095154Z
UID:23490-1541844000-1541858400@preproduccion.alpedrete.es
SUMMARY:Setas de Alpedrete
DESCRIPTION:El sábado 10 de noviembre el Ayuntamiento de Alpedrete presentará la “Guía de las setas” en el Centro de Juventud a partir de las 10 de la mañana. Todas las personas que asistan a la presentación recibirán un ejemplar de la guía y participarán en el sorteo de 20 cestas. No es necesario inscribirse. \nDespués de la presentación se ha programado una salida micológica. Se harán grupos para ir a buscar setas por distintos puntos del municipio: Arcilleros\, Dehesa Municipal y Cerro Cañal. (Se recomienda compartir coche a quienes vayan a Cerro Cañal). Concluida la recogida de las setas\, se regresará al Centro de Juventud para clasificarlas con la ayuda de micólogos.
URL:https://preproduccion.alpedrete.es/evento/setas-de-alpedrete/
LOCATION:Centro de Juventud\, Félix Díaz\, 5\, Alpedrete\, España
CATEGORIES:Medioambiente
ATTACH;FMTTYPE=image/jpeg:https://preproduccion.alpedrete.es/wp-content/uploads/2018/11/Setas_de_Alpedrete-1.jpg
GEO:40.6602847;-4.0252745
X-APPLE-STRUCTURED-LOCATION;VALUE=URI;X-ADDRESS=Centro de Juventud Félix Díaz 5 Alpedrete España;X-APPLE-RADIUS=500;X-TITLE=Félix Díaz\, 5:geo:-4.0252745,40.6602847
END:VEVENT
END:VCALENDAR