BEGIN:VCALENDAR
VERSION:2.0
PRODID:-//Web Ayuntamiento de Alpedrete - ECPv6.9.0//NONSGML v1.0//EN
CALSCALE:GREGORIAN
METHOD:PUBLISH
X-ORIGINAL-URL:https://preproduccion.alpedrete.es
X-WR-CALDESC:Eventos para Web Ayuntamiento de Alpedrete
REFRESH-INTERVAL;VALUE=DURATION:PT1H
X-Robots-Tag:noindex
X-PUBLISHED-TTL:PT1H
BEGIN:VTIMEZONE
TZID:Europe/Madrid
BEGIN:DAYLIGHT
TZOFFSETFROM:+0100
TZOFFSETTO:+0200
TZNAME:CEST
DTSTART:20190331T010000
END:DAYLIGHT
BEGIN:STANDARD
TZOFFSETFROM:+0200
TZOFFSETTO:+0100
TZNAME:CET
DTSTART:20191027T010000
END:STANDARD
END:VTIMEZONE
BEGIN:VEVENT
DTSTART;TZID=Europe/Madrid:20190307T190000
DTEND;TZID=Europe/Madrid:20190307T200000
DTSTAMP:20260424T083607
CREATED:20190226T094947Z
LAST-MODIFIED:20190226T095431Z
UID:25268-1551985200-1551988800@preproduccion.alpedrete.es
SUMMARY:Foro de la sostenibilidad
DESCRIPTION:La próxima reunión del Foro de Sostenibilidad tendrá lugar el jueves 7 de marzo\, a las 19:00 h\, en el Centro de Juventud de Alpedrete. En esta reunión se analizarán los avances en los diferentes proyectos del Plan de Acción Local y se planteará la posibilidad de trabajar otros proyectos.
URL:https://preproduccion.alpedrete.es/evento/foro-de-la-sostenibilidad/
LOCATION:Centro de Juventud\, Félix Díaz\, 5\, Alpedrete\, España
CATEGORIES:Medioambiente
ATTACH;FMTTYPE=image/jpeg:https://preproduccion.alpedrete.es/wp-content/uploads/2018/10/La-primavera.jpg
GEO:40.6602847;-4.0252745
X-APPLE-STRUCTURED-LOCATION;VALUE=URI;X-ADDRESS=Centro de Juventud Félix Díaz 5 Alpedrete España;X-APPLE-RADIUS=500;X-TITLE=Félix Díaz\, 5:geo:-4.0252745,40.6602847
END:VEVENT
END:VCALENDAR