BEGIN:VCALENDAR
VERSION:2.0
PRODID:-//Web Ayuntamiento de Alpedrete - ECPv6.9.0//NONSGML v1.0//EN
CALSCALE:GREGORIAN
METHOD:PUBLISH
X-WR-CALNAME:Web Ayuntamiento de Alpedrete
X-ORIGINAL-URL:https://preproduccion.alpedrete.es
X-WR-CALDESC:Eventos para Web Ayuntamiento de Alpedrete
REFRESH-INTERVAL;VALUE=DURATION:PT1H
X-Robots-Tag:noindex
X-PUBLISHED-TTL:PT1H
BEGIN:VTIMEZONE
TZID:Europe/Madrid
BEGIN:DAYLIGHT
TZOFFSETFROM:+0100
TZOFFSETTO:+0200
TZNAME:CEST
DTSTART:20160327T010000
END:DAYLIGHT
BEGIN:STANDARD
TZOFFSETFROM:+0200
TZOFFSETTO:+0100
TZNAME:CET
DTSTART:20161030T010000
END:STANDARD
END:VTIMEZONE
BEGIN:VEVENT
DTSTART;TZID=Europe/Madrid:20160507T200000
DTEND;TZID=Europe/Madrid:20160507T220000
DTSTAMP:20260425T044046
CREATED:20160503T080657Z
LAST-MODIFIED:20160503T080657Z
UID:6886-1462651200-1462658400@preproduccion.alpedrete.es
SUMMARY:El grupo “Al Traste” presenta Mixtura
DESCRIPTION:El Trío “Al Traste” presenta el sábado 7 de mayo en la Casa de Cultura Asunción Balaguer a las 20:00 un viaje por distintos paisajes musicales al que ha llamado Mixtura. Se trata de una mezcla de ritmos y estilos que propone sonidos que evocan épocas muy distintas\, desde una balada hasta el jazz\, pasando por ritmos brasileños. \nEl precio de la entrada es 4€ entrada general y 2€ la entrada reducida (pensionistas\, menores de 14 años\, minusválidos y carné joven). Reserva anticipada de entradas desde el martes 3 de mayo en la Casa de Cultura o en el 918571590.
URL:https://preproduccion.alpedrete.es/evento/grupo-al-traste-presenta-mixtura/
LOCATION:Casa de Cultura Asunción Balaguer\, Plaza Francisco Rabal\, 2\, Alpedrete\, Madrid\, 28430 \, España
CATEGORIES:Música
ATTACH;FMTTYPE=image/jpeg:https://preproduccion.alpedrete.es/wp-content/uploads/2016/05/FOTO-AL-TRASTE-2.jpeg
GEO:40.6621635;-4.031169
X-APPLE-STRUCTURED-LOCATION;VALUE=URI;X-ADDRESS=Casa de Cultura Asunción Balaguer Plaza Francisco Rabal 2 Alpedrete Madrid 28430  España;X-APPLE-RADIUS=500;X-TITLE=Plaza Francisco Rabal\, 2:geo:-4.031169,40.6621635
END:VEVENT
BEGIN:VEVENT
DTSTART;TZID=Europe/Madrid:20160518T000000
DTEND;TZID=Europe/Madrid:20160519T020000
DTSTAMP:20260425T044046
CREATED:20160511T084751Z
LAST-MODIFIED:20160511T091234Z
UID:7010-1463529600-1463623200@preproduccion.alpedrete.es
SUMMARY:Concierto. Carretera y Manta
DESCRIPTION:Los ganadores de la categoría rock del Festival Stone celebrado en septiembre de 2015\, organizado por el Ayuntamiento de Alpedrete\, se suben de nuevo al escenario. Con ellos está garantizada la música de calidad. ¿Conseguirán que el municipio baile a su ritmo? A las 00.00 h en la Plaza de la Villa.
URL:https://preproduccion.alpedrete.es/evento/concierto-carretera-manta/
LOCATION:Plaza de la Villa\, Plaza de la Villa\, Alpedrete\, 28430 \, España
CATEGORIES:Música
ATTACH;FMTTYPE=image/jpeg:https://preproduccion.alpedrete.es/wp-content/uploads/2016/05/carretera-y-manta-2.jpg
GEO:40.6589274;-4.0239866
X-APPLE-STRUCTURED-LOCATION;VALUE=URI;X-ADDRESS=Plaza de la Villa Plaza de la Villa Alpedrete 28430  España;X-APPLE-RADIUS=500;X-TITLE=Plaza de la Villa:geo:-4.0239866,40.6589274
END:VEVENT
BEGIN:VEVENT
DTSTART;TZID=Europe/Madrid:20160521T203000
DTEND;TZID=Europe/Madrid:20160522T053000
DTSTAMP:20260425T044046
CREATED:20160511T115019Z
LAST-MODIFIED:20160511T115019Z
UID:7023-1463862600-1463895000@preproduccion.alpedrete.es
SUMMARY:Noche musical
DESCRIPTION:Llega la noche y con ella la música\, de todos los estilos. Los primeros  en ocupar el escenario serán Vándara\, que llevan ritmos e instrumentos a la esencia a través de músicas tradicionales. Los segundos la banda Ghost and Me\, un grupo potente de pop. Ambos recibieron los premios en las categorías de varios y pop en el Festival Stone celebrado el  pasado mes de septiembre. Por último\, Pikante\, la orquesta oficial de la selección española de fútbol\, tomará el micrófono situado en la Plaza de la Villa hasta las 05:30 de la madrugada. \n20:30 Vándara \n23:00 Ghost and Me \n01:00 Pikante hasta las 5:30
URL:https://preproduccion.alpedrete.es/evento/noche-musical/
LOCATION:Plaza de la Villa\, Plaza de la Villa\, Alpedrete\, 28430 \, España
CATEGORIES:Música
ATTACH;FMTTYPE=image/jpeg:https://preproduccion.alpedrete.es/wp-content/uploads/2016/05/concert-1149979_640.jpg
GEO:40.6589274;-4.0239866
X-APPLE-STRUCTURED-LOCATION;VALUE=URI;X-ADDRESS=Plaza de la Villa Plaza de la Villa Alpedrete 28430  España;X-APPLE-RADIUS=500;X-TITLE=Plaza de la Villa:geo:-4.0239866,40.6589274
END:VEVENT
END:VCALENDAR