BEGIN:VCALENDAR
VERSION:2.0
PRODID:-//Web Ayuntamiento de Alpedrete - ECPv6.9.0//NONSGML v1.0//EN
CALSCALE:GREGORIAN
METHOD:PUBLISH
X-WR-CALNAME:Web Ayuntamiento de Alpedrete
X-ORIGINAL-URL:https://preproduccion.alpedrete.es
X-WR-CALDESC:Eventos para Web Ayuntamiento de Alpedrete
REFRESH-INTERVAL;VALUE=DURATION:PT1H
X-Robots-Tag:noindex
X-PUBLISHED-TTL:PT1H
BEGIN:VTIMEZONE
TZID:Europe/Madrid
BEGIN:DAYLIGHT
TZOFFSETFROM:+0100
TZOFFSETTO:+0200
TZNAME:CEST
DTSTART:20160327T010000
END:DAYLIGHT
BEGIN:STANDARD
TZOFFSETFROM:+0200
TZOFFSETTO:+0100
TZNAME:CET
DTSTART:20161030T010000
END:STANDARD
END:VTIMEZONE
BEGIN:VEVENT
DTSTART;TZID=Europe/Madrid:20160701T210000
DTEND;TZID=Europe/Madrid:20160701T220000
DTSTAMP:20260424T002407
CREATED:20160627T081628Z
LAST-MODIFIED:20160627T082022Z
UID:8379-1467406800-1467410400@preproduccion.alpedrete.es
SUMMARY:XXIX Festival Cásicos en Verano
DESCRIPTION:La vigésimo novena edición del Festival Clásicos en Verano abre la programación del verano cultural de Alpedrete con dos conciertos los días 1 y 2 de julio que se celebrarán en la Parroquia de la Asunción de Nuestra Señora a partir de las 21:00 de la noche. La entrada a ambos conciertos es gratuita. El 1 de julio se interpretarán obras de Beethoven\, Granados y Brahms a cargo de Alejandro Bustamante (violín) y Patricia Arauzo (piano)\, y el día 2 de Ángel Martín Pompey\, Evaristo Fernández Blanco y Gerardo Gombau interpretado por el Trío Arbós.
URL:https://preproduccion.alpedrete.es/evento/xxix-festival-casicos-verano/
LOCATION:Parroquia de la Asunción de Nuestra Señora\, Plaza de la Villa\, Alpedrete\, Madrid\, 28430\, España
CATEGORIES:Música
ATTACH;FMTTYPE=image/jpeg:https://preproduccion.alpedrete.es/wp-content/uploads/2016/06/CONCIERTOS-CLÁSICOS.jpg
GEO:40.6589274;-4.0239866
X-APPLE-STRUCTURED-LOCATION;VALUE=URI;X-ADDRESS=Parroquia de la Asunción de Nuestra Señora Plaza de la Villa Alpedrete Madrid 28430 España;X-APPLE-RADIUS=500;X-TITLE=Plaza de la Villa:geo:-4.0239866,40.6589274
END:VEVENT
BEGIN:VEVENT
DTSTART;TZID=Europe/Madrid:20160702T210000
DTEND;TZID=Europe/Madrid:20160702T220000
DTSTAMP:20260424T002407
CREATED:20160627T081843Z
LAST-MODIFIED:20160627T081843Z
UID:8380-1467493200-1467496800@preproduccion.alpedrete.es
SUMMARY:XXIX Festival Cásicos en Verano
DESCRIPTION:La vigésimo novena edición del Festival Clásicos en Verano abre la programación del verano cultural de Alpedrete con dos conciertos los días 1 y 2 de julio que se celebrarán en la Parroquia de la Asunción de Nuestra Señora a partir de las 21:00 de la noche. La entrada a ambos conciertos es gratuita. El 1 de julio se interpretarán obras de Beethoven\, Granados y Brahms a cargo de Alejandro Bustamante (violín) y Patricia Arauzo (piano)\, y el día 2 de Ángel Martín Pompey\, Evaristo Fernández Blanco y Gerardo Gombau interpretado por el Trío Arbós.
URL:https://preproduccion.alpedrete.es/evento/xxix-festival-casicos-verano-2/
LOCATION:Parroquia de la Asunción de Nuestra Señora\, Plaza de la Villa\, Alpedrete\, Madrid\, 28430\, España
CATEGORIES:Música
ATTACH;FMTTYPE=image/jpeg:https://preproduccion.alpedrete.es/wp-content/uploads/2016/06/CONCIERTOS-CLÁSICOS.jpg
GEO:40.6589274;-4.0239866
X-APPLE-STRUCTURED-LOCATION;VALUE=URI;X-ADDRESS=Parroquia de la Asunción de Nuestra Señora Plaza de la Villa Alpedrete Madrid 28430 España;X-APPLE-RADIUS=500;X-TITLE=Plaza de la Villa:geo:-4.0239866,40.6589274
END:VEVENT
BEGIN:VEVENT
DTSTART;TZID=Europe/Madrid:20160715T220000
DTEND;TZID=Europe/Madrid:20160715T230000
DTSTAMP:20260424T002407
CREATED:20160701T082206Z
LAST-MODIFIED:20160701T090832Z
UID:8480-1468620000-1468623600@preproduccion.alpedrete.es
SUMMARY:Concierto EMMD Music Summer: "FULL FUSSION"
DESCRIPTION:A cargo de profesores de la EMMD de Alpedrete en el que interpretarán un programa variado con obras clásicas\, standard de jazz y temas pop. Fusión de estilos que se mezclan gracias a la voz de Yosune Urrecho y los instrumentos de Manuel Fernández y Javier Cabero (pianos)\, Vicente Sabater (clarinete)\, Victoria Morejón (violín) y David Jarabo (guitarra acústica y bajo). \n 
URL:https://preproduccion.alpedrete.es/evento/concierto-emmd-music-summer-full-fussion/
LOCATION:Plaza de Francisco Rabal\, Plaza de Francisco Rabal s/n\, Alpedrete\, Madrid\, 28430\, España
CATEGORIES:Música
ATTACH;FMTTYPE=image/jpeg:https://preproduccion.alpedrete.es/wp-content/uploads/2016/07/clave-de-solllll.jpg
GEO:40.6621635;-4.031169
X-APPLE-STRUCTURED-LOCATION;VALUE=URI;X-ADDRESS=Plaza de Francisco Rabal Plaza de Francisco Rabal s/n Alpedrete Madrid 28430 España;X-APPLE-RADIUS=500;X-TITLE=Plaza de Francisco Rabal s/n:geo:-4.031169,40.6621635
END:VEVENT
BEGIN:VEVENT
DTSTART;TZID=Europe/Madrid:20160723T220000
DTEND;TZID=Europe/Madrid:20160723T230000
DTSTAMP:20260424T002407
CREATED:20160704T073809Z
LAST-MODIFIED:20160704T073809Z
UID:8510-1469311200-1469314800@preproduccion.alpedrete.es
SUMMARY:Concierto "Night Band"
DESCRIPTION:Dentro de la programación del Verano Cultural\, la Banda Municipal de la Escuela Municipal de Música y Danza de Alpedrete\, dirigida por Miguel Ángel Moreno\, y formada por alumnos y profesores\, nos deleitarán con un atractivo y variado programa que llenará de música esta noche veraniega en Alpedrete. \n 
URL:https://preproduccion.alpedrete.es/evento/concierto-night-band/
LOCATION:Plaza de Francisco Rabal\, Plaza de Francisco Rabal s/n\, Alpedrete\, Madrid\, 28430\, España
CATEGORIES:Música
ATTACH;FMTTYPE=image/jpeg:https://preproduccion.alpedrete.es/wp-content/uploads/2016/07/concert-604215_640.jpg
GEO:40.6621635;-4.031169
X-APPLE-STRUCTURED-LOCATION;VALUE=URI;X-ADDRESS=Plaza de Francisco Rabal Plaza de Francisco Rabal s/n Alpedrete Madrid 28430 España;X-APPLE-RADIUS=500;X-TITLE=Plaza de Francisco Rabal s/n:geo:-4.031169,40.6621635
END:VEVENT
BEGIN:VEVENT
DTSTART;TZID=Europe/Madrid:20160730T220000
DTEND;TZID=Europe/Madrid:20160730T230000
DTSTAMP:20260424T002407
CREATED:20160701T092138Z
LAST-MODIFIED:20160701T092138Z
UID:8483-1469916000-1469919600@preproduccion.alpedrete.es
SUMMARY:David Carby en concierto
DESCRIPTION:Concierto acústico que nos ofrece una joven promesa del panorama pop nacional\, David Carby. Con cuatro sencillos en el mercado\, su guitarra y su calidad vocal\, nos ofrece un concierto de versiones actuales y canciones propias acompañado por otra guitarra\, la de su amigo Jorge Sotomayor. \n 
URL:https://preproduccion.alpedrete.es/evento/david-carby-concierto/
LOCATION:Plaza de Francisco Rabal\, Plaza de Francisco Rabal s/n\, Alpedrete\, Madrid\, 28430\, España
CATEGORIES:Música
ATTACH;FMTTYPE=image/jpeg:https://preproduccion.alpedrete.es/wp-content/uploads/2016/07/david-carby.jpg
GEO:40.6621635;-4.031169
X-APPLE-STRUCTURED-LOCATION;VALUE=URI;X-ADDRESS=Plaza de Francisco Rabal Plaza de Francisco Rabal s/n Alpedrete Madrid 28430 España;X-APPLE-RADIUS=500;X-TITLE=Plaza de Francisco Rabal s/n:geo:-4.031169,40.6621635
END:VEVENT
END:VCALENDAR