BEGIN:VCALENDAR
VERSION:2.0
PRODID:-//Web Ayuntamiento de Alpedrete - ECPv6.9.0//NONSGML v1.0//EN
CALSCALE:GREGORIAN
METHOD:PUBLISH
X-ORIGINAL-URL:https://preproduccion.alpedrete.es
X-WR-CALDESC:Eventos para Web Ayuntamiento de Alpedrete
REFRESH-INTERVAL;VALUE=DURATION:PT1H
X-Robots-Tag:noindex
X-PUBLISHED-TTL:PT1H
BEGIN:VTIMEZONE
TZID:Europe/Madrid
BEGIN:DAYLIGHT
TZOFFSETFROM:+0100
TZOFFSETTO:+0200
TZNAME:CEST
DTSTART:20160327T010000
END:DAYLIGHT
BEGIN:STANDARD
TZOFFSETFROM:+0200
TZOFFSETTO:+0100
TZNAME:CET
DTSTART:20161030T010000
END:STANDARD
END:VTIMEZONE
BEGIN:VEVENT
DTSTART;TZID=Europe/Madrid:20161105T180000
DTEND;TZID=Europe/Madrid:20161105T190000
DTSTAMP:20260421T092909
CREATED:20161031T090430Z
LAST-MODIFIED:20161031T090430Z
UID:10008-1478368800-1478372400@preproduccion.alpedrete.es
SUMMARY:“La increíble historia de un huevo frito”
DESCRIPTION:El Chef Manuel fríe un huevo para desayunar y el resultado es tan perfecto que en lugar de comérselo decide adoptarlo. A partir de ese momento el huevo frito intentará convertirse en un niño de carne y hueso. Su aventura le llevará por las cocinas del salvaje oeste y de los mares del sur. \nCon ese argumento\, Dubbi Kids/La Ratonera Teatro presenta una función de teatro musical para la familia que se representará en la Casa de Cultura Asunción Balaguer a partir de las 18:00 el sábado 5 de noviembre. La edad recomendada es para niños y niñas de entre los 3 y los 8 años. La duración aproximada es de 60 minutos. Se pueden reservar entradas desde el 31 de octubre en la Casa de Cultura Asunción Balaguer (plaza de Francisco Rabal 2. Teléfono 91 857 15 90).
URL:https://preproduccion.alpedrete.es/evento/la-increible-historia-huevo-frito/
LOCATION:Casa de Cultura Asunción Balaguer\, Plaza Francisco Rabal\, 2\, Alpedrete\, Madrid\, 28430 \, España
CATEGORIES:Música,Teatro
ATTACH;FMTTYPE=image/jpeg:https://preproduccion.alpedrete.es/wp-content/uploads/2016/10/Huevo-frito.jpg
GEO:40.6621635;-4.031169
X-APPLE-STRUCTURED-LOCATION;VALUE=URI;X-ADDRESS=Casa de Cultura Asunción Balaguer Plaza Francisco Rabal 2 Alpedrete Madrid 28430  España;X-APPLE-RADIUS=500;X-TITLE=Plaza Francisco Rabal\, 2:geo:-4.031169,40.6621635
END:VEVENT
BEGIN:VEVENT
DTSTART;TZID=Europe/Madrid:20161126T110000
DTEND;TZID=Europe/Madrid:20161126T200000
DTSTAMP:20260421T092909
CREATED:20161102T112946Z
LAST-MODIFIED:20161102T112946Z
UID:10043-1480158000-1480190400@preproduccion.alpedrete.es
SUMMARY:Tradicional Concierto de Santa Cecilia
DESCRIPTION:El sábado 26 de noviembre a las 19:00 h\, los profesores de la Escuela Municipal de Música y Danza de Alpedrete nos ofrecerán el tradicional Concierto de Santa Celia que se viene celebrando desde hace 14 años coincidiendo además siempre con el aniversario de la creación de la Escuela. El programa incluye música de diferentes estilos y épocas. Además es el primer concierto del curso que da la oportunidad de conocer a los profesores como intérpretes en una faceta distinta a la habitual de la enseñanza. Como novedad este año\, además profesores y alumnos ofrecerán música en directo por la mañana en el hall de la casa de cultura a partir de las 11.00h.Entrada Gratuita gasta completar aforo. \n 
URL:https://preproduccion.alpedrete.es/evento/tradicional-concierto-santa-cecilia/
LOCATION:Casa de Cultura Asunción Balaguer\, Plaza Francisco Rabal\, 2\, Alpedrete\, Madrid\, 28430 \, España
CATEGORIES:Música
ATTACH;FMTTYPE=image/jpeg:https://preproduccion.alpedrete.es/wp-content/uploads/2016/11/concierto-de-santa-cecilia.jpg
GEO:40.6621635;-4.031169
X-APPLE-STRUCTURED-LOCATION;VALUE=URI;X-ADDRESS=Casa de Cultura Asunción Balaguer Plaza Francisco Rabal 2 Alpedrete Madrid 28430  España;X-APPLE-RADIUS=500;X-TITLE=Plaza Francisco Rabal\, 2:geo:-4.031169,40.6621635
END:VEVENT
END:VCALENDAR