BEGIN:VCALENDAR
VERSION:2.0
PRODID:-//Web Ayuntamiento de Alpedrete - ECPv6.9.0//NONSGML v1.0//EN
CALSCALE:GREGORIAN
METHOD:PUBLISH
X-ORIGINAL-URL:https://preproduccion.alpedrete.es
X-WR-CALDESC:Eventos para Web Ayuntamiento de Alpedrete
REFRESH-INTERVAL;VALUE=DURATION:PT1H
X-Robots-Tag:noindex
X-PUBLISHED-TTL:PT1H
BEGIN:VTIMEZONE
TZID:Europe/Madrid
BEGIN:DAYLIGHT
TZOFFSETFROM:+0100
TZOFFSETTO:+0200
TZNAME:CEST
DTSTART:20170326T010000
END:DAYLIGHT
BEGIN:STANDARD
TZOFFSETFROM:+0200
TZOFFSETTO:+0100
TZNAME:CET
DTSTART:20171029T010000
END:STANDARD
END:VTIMEZONE
BEGIN:VEVENT
DTSTART;TZID=Europe/Madrid:20170311T180000
DTEND;TZID=Europe/Madrid:20170311T210000
DTSTAMP:20260420T100825
CREATED:20170307T131103Z
LAST-MODIFIED:20170307T131256Z
UID:12206-1489255200-1489266000@preproduccion.alpedrete.es
SUMMARY:Conciertos de las Pequeñas Agrupaciones de la EMMD
DESCRIPTION:Conciertos de las Pequeñas Agrupaciones de la Escuela Municipal de Música y Danza de Alpedrete. Las primeras agrupaciones en salir al escenario serán las formadas por los grupos de violines\, violonchelos\, guitarras y flautas. La actuación comenzará a las 18:00 de la tarde. Dos horas después\, a las 20:00 de la tarde\, será el turno de los grupos de percusión\, clarinetes\, saxofones y viento-metal. \nEn los conciertos participarán los alumnos de la EMMD con los profesores Victoria Morejón\, Ángel Paunov\, Luis Barroso\, Miguel Ángel Moreno\, Luis Miguel García\, Vicente Sabater\, Jesús Jurico y Ramón Pérez. \nLa entrada a los tres conciertos es libre y gratuita hasta completar aforo.
URL:https://preproduccion.alpedrete.es/evento/conciertos-las-pequenas-agrupaciones-la-emmd/
LOCATION:Casa de Cultura Asunción Balaguer\, Plaza Francisco Rabal\, 2\, Alpedrete\, Madrid\, 28430 \, España
CATEGORIES:Música
ATTACH;FMTTYPE=image/jpeg:https://preproduccion.alpedrete.es/wp-content/uploads/2017/03/piano-1655558_960_720.jpg
GEO:40.6621635;-4.031169
X-APPLE-STRUCTURED-LOCATION;VALUE=URI;X-ADDRESS=Casa de Cultura Asunción Balaguer Plaza Francisco Rabal 2 Alpedrete Madrid 28430  España;X-APPLE-RADIUS=500;X-TITLE=Plaza Francisco Rabal\, 2:geo:-4.031169,40.6621635
END:VEVENT
END:VCALENDAR