BEGIN:VCALENDAR
VERSION:2.0
PRODID:-//Web Ayuntamiento de Alpedrete - ECPv6.9.0//NONSGML v1.0//EN
CALSCALE:GREGORIAN
METHOD:PUBLISH
X-WR-CALNAME:Web Ayuntamiento de Alpedrete
X-ORIGINAL-URL:https://preproduccion.alpedrete.es
X-WR-CALDESC:Eventos para Web Ayuntamiento de Alpedrete
REFRESH-INTERVAL;VALUE=DURATION:PT1H
X-Robots-Tag:noindex
X-PUBLISHED-TTL:PT1H
BEGIN:VTIMEZONE
TZID:Europe/Madrid
BEGIN:DAYLIGHT
TZOFFSETFROM:+0100
TZOFFSETTO:+0200
TZNAME:CEST
DTSTART:20190331T010000
END:DAYLIGHT
BEGIN:STANDARD
TZOFFSETFROM:+0200
TZOFFSETTO:+0100
TZNAME:CET
DTSTART:20191027T010000
END:STANDARD
END:VTIMEZONE
BEGIN:VEVENT
DTSTART;TZID=Europe/Madrid:20190725T180000
DTEND;TZID=Europe/Madrid:20190725T230000
DTSTAMP:20260425T145753
CREATED:20190719T130310Z
LAST-MODIFIED:20191204T124916Z
UID:27266-1564077600-1564095600@preproduccion.alpedrete.es
SUMMARY:Pleno Ordinario
DESCRIPTION:El jueves 25 de julio de 2019 a las 18:00 horas\, se celebra sesión de Pleno Ordinario de la Corporación. El orden del día es el siguiente: \n\nPRIMERO. Aprobación Acta de la sesión Anterior\nSEGUNDO. Convenio con RENFE y ADIF para pasarela en la Estación de Mataespesa\nTERCERO. Solicitud de reconocimiento de titularidad privada de terreno sobrante en la\nCalle Pozo Nuevo y Berrocales.\nCUARTO. Modificación Plantilla Personal Eventual.\nQUINTO. Control de órganos del gobierno.\n5.1 Decretos y Resoluciones.\n5.2 Ruegos y Preguntas.\n\nDecreto de convocatoria de Pleno ordinario. 25 de julio de 2019
URL:https://preproduccion.alpedrete.es/evento/pleno-ordinario-8/
LOCATION:Casa de Cultura Asunción Balaguer\, Plaza Francisco Rabal\, 2\, Alpedrete\, Madrid\, 28430 \, España
CATEGORIES:Pleno
ATTACH;FMTTYPE=image/jpeg:https://preproduccion.alpedrete.es/wp-content/uploads/2019/07/corporacion-2019-20123.jpg
GEO:40.6621635;-4.031169
X-APPLE-STRUCTURED-LOCATION;VALUE=URI;X-ADDRESS=Casa de Cultura Asunción Balaguer Plaza Francisco Rabal 2 Alpedrete Madrid 28430  España;X-APPLE-RADIUS=500;X-TITLE=Plaza Francisco Rabal\, 2:geo:-4.031169,40.6621635
END:VEVENT
END:VCALENDAR