BEGIN:VCALENDAR
VERSION:2.0
PRODID:-//Web Ayuntamiento de Alpedrete - ECPv6.9.0//NONSGML v1.0//EN
CALSCALE:GREGORIAN
METHOD:PUBLISH
X-ORIGINAL-URL:https://preproduccion.alpedrete.es
X-WR-CALDESC:Eventos para Web Ayuntamiento de Alpedrete
REFRESH-INTERVAL;VALUE=DURATION:PT1H
X-Robots-Tag:noindex
X-PUBLISHED-TTL:PT1H
BEGIN:VTIMEZONE
TZID:Europe/Madrid
BEGIN:DAYLIGHT
TZOFFSETFROM:+0100
TZOFFSETTO:+0200
TZNAME:CEST
DTSTART:20190331T010000
END:DAYLIGHT
BEGIN:STANDARD
TZOFFSETFROM:+0200
TZOFFSETTO:+0100
TZNAME:CET
DTSTART:20191027T010000
END:STANDARD
END:VTIMEZONE
BEGIN:VEVENT
DTSTART;TZID=Europe/Madrid:20190926T180000
DTEND;TZID=Europe/Madrid:20190926T235900
DTSTAMP:20260423T170743
CREATED:20190923T111938Z
LAST-MODIFIED:20190923T112030Z
UID:27805-1569520800-1569542340@preproduccion.alpedrete.es
SUMMARY:Pleno Ordinario
DESCRIPTION:El jueves 26 de septiembre de 2019 a las 18:00 horas\, se celebra sesión de Pleno Ordinario de la Corporación. El orden del día es el siguiente: \n\nPRIMERO. Aprobación Actas anteriores.\nSEGUNDO. Cuenta General 2018.\nTERCERO. Modificación Presupuestaria 15/2019 – Crédito Extraordinario.\nCUARTO. Moción Emergencia Climática\nQUINTO. Control de órganos del gobierno..\n5.1 Decretos y Resoluciones.\n5.2 Ruegos y Preguntas.\n\nDecreto de convocatoria de Pleno Ordinario. 26 de septiembre de 2019
URL:https://preproduccion.alpedrete.es/evento/pleno-ordinario-9/
LOCATION:Casa de Cultura Asunción Balaguer\, Plaza Francisco Rabal\, 2\, Alpedrete\, Madrid\, 28430 \, España
CATEGORIES:Pleno
ATTACH;FMTTYPE=image/jpeg:https://preproduccion.alpedrete.es/wp-content/uploads/2019/09/Pleno-corporacion-19-23.jpg
GEO:40.6621635;-4.031169
X-APPLE-STRUCTURED-LOCATION;VALUE=URI;X-ADDRESS=Casa de Cultura Asunción Balaguer Plaza Francisco Rabal 2 Alpedrete Madrid 28430  España;X-APPLE-RADIUS=500;X-TITLE=Plaza Francisco Rabal\, 2:geo:-4.031169,40.6621635
END:VEVENT
END:VCALENDAR