BEGIN:VCALENDAR
VERSION:2.0
PRODID:-//Web Ayuntamiento de Alpedrete - ECPv6.9.0//NONSGML v1.0//EN
CALSCALE:GREGORIAN
METHOD:PUBLISH
X-WR-CALNAME:Web Ayuntamiento de Alpedrete
X-ORIGINAL-URL:https://preproduccion.alpedrete.es
X-WR-CALDESC:Eventos para Web Ayuntamiento de Alpedrete
REFRESH-INTERVAL;VALUE=DURATION:PT1H
X-Robots-Tag:noindex
X-PUBLISHED-TTL:PT1H
BEGIN:VTIMEZONE
TZID:Europe/Madrid
BEGIN:DAYLIGHT
TZOFFSETFROM:+0100
TZOFFSETTO:+0200
TZNAME:CEST
DTSTART:20160327T010000
END:DAYLIGHT
BEGIN:STANDARD
TZOFFSETFROM:+0200
TZOFFSETTO:+0100
TZNAME:CET
DTSTART:20161030T010000
END:STANDARD
END:VTIMEZONE
BEGIN:VEVENT
DTSTART;TZID=Europe/Madrid:20160308T170000
DTEND;TZID=Europe/Madrid:20160308T190000
DTSTAMP:20260425T130900
CREATED:20160226T100824Z
LAST-MODIFIED:20160226T100824Z
UID:5610-1457456400-1457463600@preproduccion.alpedrete.es
SUMMARY:Taller de salud y bienestar\, cuidado personal y medioambiente
DESCRIPTION:La propuesta es un taller práctico en el que los participantes aprendan a utilizar elementos naturales en la elaboración de jabón\, cremas nutritivas\, gel o champú\, entre otros cosméticos. Este taller se impartirá en seis sesiones alternas los días 8\, 15\, 29 de marzo y 5\, 12 y 19 de abril. \nPrecio 4\,5 €. Para realizar la actividad es necesario inscribierse previamente en Servicios Sociales\, c/Pozo Nuevo\, s/n. Teléfono: 91 850 80 80. \n 
URL:https://preproduccion.alpedrete.es/evento/taller-de-salud-y-bienestar-cuidado-personal-y-medioambiente/
LOCATION:Edificio Polivalente\, Plaza de la Constitución\, 6\, Alpedrete\, Madrid\, 28430\, España
CATEGORIES:Salud
ATTACH;FMTTYPE=image/jpeg:https://preproduccion.alpedrete.es/wp-content/uploads/2016/02/Taller-cosmética-natural.jpg
GEO:40.6604232;-4.0256288
X-APPLE-STRUCTURED-LOCATION;VALUE=URI;X-ADDRESS=Edificio Polivalente Plaza de la Constitución 6 Alpedrete Madrid 28430 España;X-APPLE-RADIUS=500;X-TITLE=Plaza de la Constitución\, 6:geo:-4.0256288,40.6604232
END:VEVENT
END:VCALENDAR