BEGIN:VCALENDAR
VERSION:2.0
PRODID:-//Web Ayuntamiento de Alpedrete - ECPv6.9.0//NONSGML v1.0//EN
CALSCALE:GREGORIAN
METHOD:PUBLISH
X-WR-CALNAME:Web Ayuntamiento de Alpedrete
X-ORIGINAL-URL:https://preproduccion.alpedrete.es
X-WR-CALDESC:Eventos para Web Ayuntamiento de Alpedrete
REFRESH-INTERVAL;VALUE=DURATION:PT1H
X-Robots-Tag:noindex
X-PUBLISHED-TTL:PT1H
BEGIN:VTIMEZONE
TZID:Europe/Madrid
BEGIN:DAYLIGHT
TZOFFSETFROM:+0100
TZOFFSETTO:+0200
TZNAME:CEST
DTSTART:20180325T010000
END:DAYLIGHT
BEGIN:STANDARD
TZOFFSETFROM:+0200
TZOFFSETTO:+0100
TZNAME:CET
DTSTART:20181028T010000
END:STANDARD
END:VTIMEZONE
BEGIN:VEVENT
DTSTART;VALUE=DATE:20180409
DTEND;VALUE=DATE:20180428
DTSTAMP:20260423T053506
CREATED:20180403T130049Z
LAST-MODIFIED:20180417T132831Z
UID:20286-1523232000-1524873599@preproduccion.alpedrete.es
SUMMARY:Exposición: Cantería
DESCRIPTION:Antes de que comience oficialmente la Semana de la Cultura y la Feria del Libro\, la Casa de Cultura Asunción Balaguer acoge una exposición de cantería. Comenzará el lunes 9 de abril y concluirá el día 27 del mismo mes. Será una referencia sobre el patrimonio cultural del municipio que trascenderá el viernes 20 de abril a ilustración de un cuento gigante sobre la historia de Alpedrete y el domingo 22 de abril a exhibición de Cantería. Tanto la ilustración del cuento como la exhibición tendrán lugar en la plaza de Francisco Rabal. \nMás información sobre la Semana Cultural y Feria del Libro 2018
URL:https://preproduccion.alpedrete.es/evento/exposicion-canteria/
LOCATION:Casa de Cultura Asunción Balaguer\, Plaza Francisco Rabal\, 2\, Alpedrete\, Madrid\, 28430 \, España
CATEGORIES:Homenaje
ATTACH;FMTTYPE=image/jpeg:https://preproduccion.alpedrete.es/wp-content/uploads/2018/04/exposicion-canteria-canteros.jpg
GEO:40.6621635;-4.031169
X-APPLE-STRUCTURED-LOCATION;VALUE=URI;X-ADDRESS=Casa de Cultura Asunción Balaguer Plaza Francisco Rabal 2 Alpedrete Madrid 28430  España;X-APPLE-RADIUS=500;X-TITLE=Plaza Francisco Rabal\, 2:geo:-4.031169,40.6621635
END:VEVENT
BEGIN:VEVENT
DTSTART;TZID=Europe/Madrid:20180420T173000
DTEND;TZID=Europe/Madrid:20180420T203000
DTSTAMP:20260423T053506
CREATED:20180410T132814Z
LAST-MODIFIED:20180410T132814Z
UID:20391-1524245400-1524256200@preproduccion.alpedrete.es
SUMMARY:Taller cantero de cuentos
DESCRIPTION:Actividad programada dentro de la Semana Cultural 2018 de Alpedrete y La Noche de Los Libros. \nTaller destinado a niños y niñas de 6 a 11 años. Ilustraremos «Titita\, la pintora chiquitita»\, escrito por Patricia Ciruelo y que trata sobre la historia de Alpedrete y sus canteros. \nDos grupos\, de 17:30 a 19:00 h y de 19:00 h a 20:30 h. Imparte Jaujarana Teatro. \nAl finalizar el taller se presentará el cuento en la Plaza de Francisco Rabal con asistencia libre.
URL:https://preproduccion.alpedrete.es/evento/taller-cantero-cuentos/
LOCATION:Casa de Cultura Asunción Balaguer\, Plaza Francisco Rabal\, 2\, Alpedrete\, Madrid\, 28430 \, España
CATEGORIES:Taller
ATTACH;FMTTYPE=image/jpeg:https://preproduccion.alpedrete.es/wp-content/uploads/2018/04/canterocuentos.jpg
GEO:40.6621635;-4.031169
X-APPLE-STRUCTURED-LOCATION;VALUE=URI;X-ADDRESS=Casa de Cultura Asunción Balaguer Plaza Francisco Rabal 2 Alpedrete Madrid 28430  España;X-APPLE-RADIUS=500;X-TITLE=Plaza Francisco Rabal\, 2:geo:-4.031169,40.6621635
END:VEVENT
END:VCALENDAR