BEGIN:VCALENDAR
VERSION:2.0
PRODID:-//Web Ayuntamiento de Alpedrete - ECPv6.9.0//NONSGML v1.0//EN
CALSCALE:GREGORIAN
METHOD:PUBLISH
X-WR-CALNAME:Web Ayuntamiento de Alpedrete
X-ORIGINAL-URL:https://preproduccion.alpedrete.es
X-WR-CALDESC:Eventos para Web Ayuntamiento de Alpedrete
REFRESH-INTERVAL;VALUE=DURATION:PT1H
X-Robots-Tag:noindex
X-PUBLISHED-TTL:PT1H
BEGIN:VTIMEZONE
TZID:Europe/Madrid
BEGIN:DAYLIGHT
TZOFFSETFROM:+0100
TZOFFSETTO:+0200
TZNAME:CEST
DTSTART:20200329T010000
END:DAYLIGHT
BEGIN:STANDARD
TZOFFSETFROM:+0200
TZOFFSETTO:+0100
TZNAME:CET
DTSTART:20201025T010000
END:STANDARD
END:VTIMEZONE
BEGIN:VEVENT
DTSTART;TZID=Europe/Madrid:20200815T203000
DTEND;TZID=Europe/Madrid:20200815T223000
DTSTAMP:20260420T005451
CREATED:20200705T215755Z
LAST-MODIFIED:20200810T113145Z
UID:31741-1597523400-1597530600@preproduccion.alpedrete.es
SUMMARY:Concierto XXXVII Festival Sierra Musical: Violín y piano "La primavera"
DESCRIPTION:Reserva de entradas aquí \n  \nDentro de la programación del XXXVII Festival Sierra Musical 2020 tendremos la oportunidad de disfrutar en el Verano Cultural de Alpedrete de la interpretación de Vicente Cueva\, violín y Daniel del Pino\, piano. \n\nPrograma del Concierto\n\nEstas son las piezas que recoge el programa de la «La Primavera»: \nL. van Beethoven (1770 -1827) \n\nSonata para piano y violín\, Op. 24 “La Primavera” en fa mayor\nAllegro\nAdagio molto espressivo\nScherzo: Allegro molto\nRondo: Allegro ma non troppo\n\nJoaquín Turina (1882-1949) \n\nSonata para violín y piano\, Op. 51 en re\nLento-Allegro molto\nAria: lento\nRondó: Allegretto\n\nCesar Franck ( 1882- 1890) \n\nSonata para violín y piano en la mayor\nAllegretto ben moderato\nAllegro- Quasi lento- Allegro\nRecitativo- Fantasía\nAllegretto poco mosso\nLocalidades con distancia de seguridad hasta completar aforo\nMascarilla obligatoria\nAcceso desde una hora antes de la representación.\n\n 
URL:https://preproduccion.alpedrete.es/evento/concierto-sierra-musical-violin-y-piano-la-primavera/
LOCATION:Casa de Cultura Asunción Balaguer\, Plaza Francisco Rabal\, 2\, Alpedrete\, Madrid\, 28430 \, España
CATEGORIES:Concierto,Música
ATTACH;FMTTYPE=image/jpeg:https://preproduccion.alpedrete.es/wp-content/uploads/2020/07/CARTEL-SIERRA-MUSICAL-15.08.2020_page-0001.jpg
GEO:40.6621635;-4.031169
X-APPLE-STRUCTURED-LOCATION;VALUE=URI;X-ADDRESS=Casa de Cultura Asunción Balaguer Plaza Francisco Rabal 2 Alpedrete Madrid 28430  España;X-APPLE-RADIUS=500;X-TITLE=Plaza Francisco Rabal\, 2:geo:-4.031169,40.6621635
END:VEVENT
BEGIN:VEVENT
DTSTART;TZID=Europe/Madrid:20200824T100000
DTEND;TZID=Europe/Madrid:20200828T203000
DTSTAMP:20260420T005451
CREATED:20200706T080706Z
LAST-MODIFIED:20200706T081507Z
UID:31745-1598263200-1598646600@preproduccion.alpedrete.es
SUMMARY:XIX edición de Suonaccanto. Especial COVID19
DESCRIPTION:El Ayuntamiento de Alpedrete abre el plazo de inscripción para la 19ª edición de del Curso de Canto\, Técnica Vocal\, Interpretación y Música Vocal de Cámara. Este curso ha sido adaptado a la nueva normalidad reduciendo su duración y adaptando su formato a clases individuales o máximo de tres personas. \nSe impartirá del 24 al 28 de agosto en la Casa de Cultura Asunción Balaguer. El curso se plantea en formato de mañana o de tarde a libre elección del alumnado\, en una franja horaria de 10:00 a 14:30 y de 16:00 a 20:30. \nEl plazo de matrícula será hasta el 15 de agosto y podrá realizarse a través de la página web https://www.suonaccanto.com/ \nMedidas de protección COVID19\n\nSe reduce la duración del curso.\nSe elimina la Presentación y la Audición inicial\nEl curso se estructura en clases individuales o con un máximo de tres personas\, para garantizar la distancia de seguridad.\nSe reduce el tiempo de permanencia como alumn@ activ@.\nSólo se podrá asistir como oyente a las clases que tengan lugar en el salón de actos.\n\nMas información e inscripciones: https://www.suonaccanto.com/ \n \n 
URL:https://preproduccion.alpedrete.es/evento/xix-edicion-de-suonaccanto-especial-covid19/
LOCATION:Casa de Cultura Asunción Balaguer\, Plaza Francisco Rabal\, 2\, Alpedrete\, Madrid\, 28430 \, España
CATEGORIES:Cultura,Curso,Música
ATTACH;FMTTYPE=image/jpeg:https://preproduccion.alpedrete.es/wp-content/uploads/2020/07/CARTEL_page-0001.jpg
GEO:40.6621635;-4.031169
X-APPLE-STRUCTURED-LOCATION;VALUE=URI;X-ADDRESS=Casa de Cultura Asunción Balaguer Plaza Francisco Rabal 2 Alpedrete Madrid 28430  España;X-APPLE-RADIUS=500;X-TITLE=Plaza Francisco Rabal\, 2:geo:-4.031169,40.6621635
END:VEVENT
END:VCALENDAR