BEGIN:VCALENDAR
VERSION:2.0
PRODID:-//Web Ayuntamiento de Alpedrete - ECPv6.9.0//NONSGML v1.0//EN
CALSCALE:GREGORIAN
METHOD:PUBLISH
X-WR-CALNAME:Web Ayuntamiento de Alpedrete
X-ORIGINAL-URL:https://preproduccion.alpedrete.es
X-WR-CALDESC:Eventos para Web Ayuntamiento de Alpedrete
REFRESH-INTERVAL;VALUE=DURATION:PT1H
X-Robots-Tag:noindex
X-PUBLISHED-TTL:PT1H
BEGIN:VTIMEZONE
TZID:Europe/Madrid
BEGIN:DAYLIGHT
TZOFFSETFROM:+0100
TZOFFSETTO:+0200
TZNAME:CEST
DTSTART:20180325T010000
END:DAYLIGHT
BEGIN:STANDARD
TZOFFSETFROM:+0200
TZOFFSETTO:+0100
TZNAME:CET
DTSTART:20181028T010000
END:STANDARD
END:VTIMEZONE
BEGIN:VEVENT
DTSTART;TZID=Europe/Madrid:20180713T220000
DTEND;TZID=Europe/Madrid:20180713T235900
DTSTAMP:20260420T142641
CREATED:20180625T125349Z
LAST-MODIFIED:20180625T125349Z
UID:21730-1531519200-1531526340@preproduccion.alpedrete.es
SUMMARY:Un monstruo viene a verme
DESCRIPTION:Cine de Verano\, dentro de la programación estival #MiAlpedrete es Cultura. \nTras la separación de sus padres\, Connor (Lewis MacDougall)\, un chico de 12 años\, tendrá que ocuparse de llevar las riendas de la casa\, pues su madre (Felicity Jones) está enferma de cáncer. Así las cosas\, el niño intentará superar sus miedos y fobias con la ayuda de un monstruo (Liam Neeson)\, pero sus fantasías tendrán que enfrentarse no sólo con la realidad\, sino con su fría y calculadora abuela (Sigourney Weaver). Duración: 108min. No recomendada a menores de 12 años. \n 
URL:https://preproduccion.alpedrete.es/evento/un-monstruo-viene-a-verme/
LOCATION:Plaza de la Villa\, Plaza de la Villa\, Alpedrete\, 28430 \, España
CATEGORIES:Cine
ATTACH;FMTTYPE=image/jpeg:https://preproduccion.alpedrete.es/wp-content/uploads/2018/06/un-monstruo-660x400.jpg
GEO:40.6589274;-4.0239866
X-APPLE-STRUCTURED-LOCATION;VALUE=URI;X-ADDRESS=Plaza de la Villa Plaza de la Villa Alpedrete 28430  España;X-APPLE-RADIUS=500;X-TITLE=Plaza de la Villa:geo:-4.0239866,40.6589274
END:VEVENT
BEGIN:VEVENT
DTSTART;TZID=Europe/Madrid:20180720T220000
DTEND;TZID=Europe/Madrid:20180720T235900
DTSTAMP:20260420T142641
CREATED:20180625T133535Z
LAST-MODIFIED:20180625T133535Z
UID:21737-1532124000-1532131140@preproduccion.alpedrete.es
SUMMARY:El bar
DESCRIPTION:Cine de Verano\, dentro de la programación estival #MiAlpedrete es Cultura. \nSon las nueve de la mañana. En un café del centro de Madrid un grupo de personas de lo más dispar desayuna tranquilamente. Parece un día cualquiera… hasta que uno de los clientes se marcha del local y\, en el momento en que pone un pie en la calle\, recibe un disparo en la cabeza. Nadie más se atreve a salir. Están atrapados. \nDuración: 102 min. No recomendada para menores de 16 años. \n 
URL:https://preproduccion.alpedrete.es/evento/el-bar/
LOCATION:Parque Municipal de los Negrales\, Calle Santiago Rodríguez Conde\, 14\, Alpedrete\, Madrid\, 28430\, España
CATEGORIES:Cine
ATTACH;FMTTYPE=image/jpeg:https://preproduccion.alpedrete.es/wp-content/uploads/2018/06/el-bar.jpg
GEO:40.6374697;-4.0248191
X-APPLE-STRUCTURED-LOCATION;VALUE=URI;X-ADDRESS=Parque Municipal de los Negrales Calle Santiago Rodríguez Conde 14 Alpedrete Madrid 28430 España;X-APPLE-RADIUS=500;X-TITLE=Calle Santiago Rodríguez Conde\, 14:geo:-4.0248191,40.6374697
END:VEVENT
BEGIN:VEVENT
DTSTART;TZID=Europe/Madrid:20180727T220000
DTEND;TZID=Europe/Madrid:20180727T233000
DTSTAMP:20260420T142641
CREATED:20180706T110458Z
LAST-MODIFIED:20180706T110458Z
UID:21826-1532728800-1532734200@preproduccion.alpedrete.es
SUMMARY:La Bella y la Bestia
DESCRIPTION:Adaptación en imagen real del clásico de Disney «La bella y la bestia»\, que cuenta la historia de Bella (Emma Watson)\, una joven brillante y enérgica\, que sueña con aventuras y un mundo que se extiende más allá de los confines de su pueblo en Francia. Independiente y reservada\, Bella no quiere saber nada con el arrogante y engreído Gastón\, quien la persigue sin descanso. Todo cambia un día cuando su padre Maurice (Kevin Kline) es encarcelado en el castillo de una horrible Bestia\, y Bella se ofrece a intercambiarse con su padre y queda recluida en el castillo. Rápidamente se hace amiga del antiguo personal del lugar\, que fue transformado en objetos del hogar tras una maldición lanzada por una hechicera. Duración: 123 min. Para todos los públicos. \n 
URL:https://preproduccion.alpedrete.es/evento/la-bella-y-la-bestia/
LOCATION:Plaza de la Villa\, Plaza de la Villa\, Alpedrete\, 28430 \, España
CATEGORIES:Cine
ATTACH;FMTTYPE=image/jpeg:https://preproduccion.alpedrete.es/wp-content/uploads/2018/06/la-bella-y-la-bestia.jpg
GEO:40.6589274;-4.0239866
X-APPLE-STRUCTURED-LOCATION;VALUE=URI;X-ADDRESS=Plaza de la Villa Plaza de la Villa Alpedrete 28430  España;X-APPLE-RADIUS=500;X-TITLE=Plaza de la Villa:geo:-4.0239866,40.6589274
END:VEVENT
END:VCALENDAR