BEGIN:VCALENDAR
VERSION:2.0
PRODID:-//Web Ayuntamiento de Alpedrete - ECPv6.9.0//NONSGML v1.0//EN
CALSCALE:GREGORIAN
METHOD:PUBLISH
X-WR-CALNAME:Web Ayuntamiento de Alpedrete
X-ORIGINAL-URL:https://preproduccion.alpedrete.es
X-WR-CALDESC:Eventos para Web Ayuntamiento de Alpedrete
REFRESH-INTERVAL;VALUE=DURATION:PT1H
X-Robots-Tag:noindex
X-PUBLISHED-TTL:PT1H
BEGIN:VTIMEZONE
TZID:Europe/Madrid
BEGIN:DAYLIGHT
TZOFFSETFROM:+0100
TZOFFSETTO:+0200
TZNAME:CEST
DTSTART:20170326T010000
END:DAYLIGHT
BEGIN:STANDARD
TZOFFSETFROM:+0200
TZOFFSETTO:+0100
TZNAME:CET
DTSTART:20171029T010000
END:STANDARD
END:VTIMEZONE
BEGIN:VEVENT
DTSTART;TZID=Europe/Madrid:20170301T183000
DTEND;TZID=Europe/Madrid:20170301T203000
DTSTAMP:20260425T164805
CREATED:20170227T144354Z
LAST-MODIFIED:20170227T144354Z
UID:12031-1488393000-1488400200@preproduccion.alpedrete.es
SUMMARY:Cine: "Caramel"
DESCRIPTION:El Ayuntamiento de Alpedrete conmemora el Día Internacional de la Mujer\, programando un  conjunto de actividades para reflexionar sobre asuntos como la represión\, la tradición\, las relaciones humanas o dramas como la mutilación genital femenina. \nComenzamos con la proyección de “Caramel”\, película dirigida en 2007 por la directora y actriz libanesa Nadine Labaki. Se estrenó en el Festival de Cannes y fue candidata al premio Caméra d’Or. La cinta muestra la historia de cinco mujeres libanesas que afrontan temas como el amor prohibido\, las ataduras de las tradiciones\, la represión sexual\, la lucha por aceptar el proceso natural de envejecimiento con la edad y el enfrentamiento entre el deber y el deseo. La proyección tendrá lugar el 1 de marzo a las 18:30 en la sala polivalente del Centro de Mayores Los Canteros de Alpedrete (plaza de la Constitución). El acceso es libre y gratuito hasta completar aforo. La película está recomendada para mayores de 13 años. \nTráiler de la película «Caramel».
URL:https://preproduccion.alpedrete.es/evento/cine-caramel/
LOCATION:Madrid
CATEGORIES:Cine
ATTACH;FMTTYPE=image/jpeg:https://preproduccion.alpedrete.es/wp-content/uploads/2017/02/eventos-mujer-v6.jpg
END:VEVENT
END:VCALENDAR